Workbook
Name ARTIST: Timesheet!$C$3
Name COMPANY: Timesheet!$C$1
Name CTA_adjust: Timesheet!$N$70
Name Daily_Total_OT: SUM(Timesheet!$N$10:$N$11,Timesheet!$N$18:$N$19,Timesheet!$N$26:$N$27,Timesheet!$N$34:$N$35,Timesheet!$N$42:$N$43,Timesheet!$N$50:$N$51,Timesheet!$N$58:$N$59)
Name Double_First: 'Contract Rates'!$D$8
Name Double_Subs: 'Contract Rates'!$D$9
Name EmergFreeRate: 'Contract Rates'!$D$37
Name F_Total: Timesheet!$I$74
Name FreeRate: 'Contract Rates'!$D$32
Name Friday_all_OT_Hours: SUMIF(Friday_Codes,"O",Friday_OTP_Hours) + SUMIF(Friday_Codes,"T1",Friday_OTP_Hours) + SUMIF(Friday_Codes,"T2N",Friday_OTP_Hours) + SUMIF(Friday_Codes,"T3",Friday_OTP_Hours)
Name Friday_all_OT_Payments: SUMIF(Friday_Codes,"O",Friday_Payments) + SUMIF(Friday_Codes,"T1",Friday_Payments) + SUMIF(Friday_Codes,"T2N",Friday_Payments) + SUMIF(Friday_Codes,"T3",Friday_Payments)
Name Friday_Codes: Timesheet!$G$39:$G$46
Name Friday_Daily_XS: CEILING(SUM(Timesheet!$N$40:$N$41),0.5)
Name Friday_Hours: Timesheet!$F$39:$F$46
Name Friday_OTP_Hours: Timesheet!$H$39:$H$46
Name Friday_Payments: Timesheet!$I$39:$I$46
Name Gross_ESA: Timesheet!$N$69
Name Hours_worked: Timesheet!$F$63
Name M_Paid: Timesheet!$H$72
Name M_Total: Timesheet!$I$72
Name Monday_all_OT_Hours: SUMIF(Monday_Codes,"O",Monday_OTP_Hours) + SUMIF(Monday_Codes,"T1",Monday_OTP_Hours) + SUMIF(Monday_Codes,"T2N",Monday_OTP_Hours) + SUMIF(Monday_Codes,"T3",Monday_OTP_Hours)
Name Monday_all_OT_Payments: SUMIF(Monday_Codes,"O",Monday_Payments) + SUMIF(Monday_Codes,"T1",Monday_Payments) + SUMIF(Monday_Codes,"T2N",Monday_Payments) + SUMIF(Monday_Codes,"T3",Monday_Payments)
Name Monday_Codes: Timesheet!$G$7:$G$14
Name Monday_Daily_XS: CEILING(SUM(Timesheet!$N$8:$N$9),0.5)
Name Monday_Hours: Timesheet!$F$7:$F$14
Name Monday_OTP_Hours: Timesheet!$H$7:$H$14
Name Monday_Payments: Timesheet!$I$7:$I$14
Name N_Total: Timesheet!$I$73
Name ON_first: 'Contract Rates'!$D$28
Name ON_subs: 'Contract Rates'!$D$29
Name OT_P_paid: Timesheet!$H$66
Name OT_P_Total: Timesheet!$I$66
Name Parameters: #REF!
Name PerfPerfRate_first: 'Contract Rates'!$D$20
Name PerfPerfRate_subs: 'Contract Rates'!$D$21
Name Province: Timesheet!$J$1:$J$1
Name PtoP_Paid: Timesheet!$H$71
Name PtoP_Total: Timesheet!$I$71
Name Reg_First: 'Contract Rates'!$D$4
Name Reg_Subs: 'Contract Rates'!$D$5
Name RehPerfRate_1: 'Contract Rates'!$D$15
Name RehPerfRate_2: 'Contract Rates'!$D$16
Name RehPerfRate_3: 'Contract Rates'!$D$17
Name RepPerfRate_1: 'Contract Rates'!$D$15
Name RepPerfRate_2: 'Contract Rates'!$D$16
Name RepPerfRate_3: 'Contract Rates'!$D$17
Name RtoP_Paid: Timesheet!$H$70
Name RtoP_Total: Timesheet!$I$70
Name Saturday_all_OT_Hours: SUMIF(Saturday_Codes,"O",Saturday_OTP_Hours) + SUMIF(Saturday_Codes,"T1",Saturday_OTP_Hours) + SUMIF(Saturday_Codes,"T2N",Saturday_OTP_Hours) + SUMIF(Saturday_Codes,"T3",Saturday_OTP_Hours)
Name Saturday_all_OT_Payments: SUMIF(Saturday_Codes,"O",Saturday_Payments) + SUMIF(Saturday_Codes,"T1",Saturday_Payments) + SUMIF(Saturday_Codes,"T2N",Saturday_Payments) + SUMIF(Saturday_Codes,"T3",Saturday_Payments)
Name Saturday_Codes: Timesheet!$G$47:$G$54
Name Saturday_Daily_XS: CEILING(SUM(Timesheet!$N$48:$N$49),0.5)
Name Saturday_Hours: Timesheet!$F$47:$F$54
Name Saturday_OTP_Hours: Timesheet!$H$47:$H$54
Name Saturday_Payments: Timesheet!$I$47:$I$54
Name Span_paid: Timesheet!$H$67
Name Span_Total: Timesheet!$I$67
Name SpanRate: 'Contract Rates'!$D$12
Name Sunday_all_OT_Hours: SUMIF(Sunday_Codes,"O",Sunday_OTP_Hours) + SUMIF(Sunday_Codes,"T1",Sunday_OTP_Hours) + SUMIF(Sunday_Codes,"T2N",Sunday_OTP_Hours) + SUMIF(Sunday_Codes,"T3",Sunday_OTP_Hours)
Name Sunday_all_OT_Payments: SUMIF(Sunday_Codes,"O",Sunday_Payments) + SUMIF(Sunday_Codes,"T1",Sunday_Payments) + SUMIF(Sunday_Codes,"T2N",Sunday_Payments) + SUMIF(Sunday_Codes,"T3",Sunday_Payments)

Sheet Timesheet
B1: COMPANY: | I1: SELF-EMPLOYMENT UNDER ITA
B2: FOR WEEK OF: | C2: =IF(B8="","",DAY(B8)&"/"&MONTH(B8)&"/"&YEAR(B8)&" to "&DAY(B56)&"/"&MONTH(B56)&"/"&YEAR(B56)) -> 24/6/2024 to 30/6/2024 | I2: FEE: | M2: {=IF(WeeklyFee=""," Your weekly fee figure will disappear for privacy once","")} -> Your weekly fee figure will disappear for privacy once
B3: ARTIST: | E3: Emp. # | I3: TYA? | J3: No | M3: {=IF(WeeklyFee=""," entered. It is used for some rate calculations.","")} -> entered. It is used for some rate calculations.
B4: See the instructions tab for…instructions. | K4: =IF(WeeklyFee>0,"(fee entered above)","")
B5: v. 2024.6 | G5: CONTRACTUAL OVERTIME & PENALTIES
B6: Date | C6: Activity | D6: Start | E6: End | F6: Work Hours | G6: Code | H6: OT/P Hours | I6: Amount
B7: =IF(B8="","",B8) -> 44005 | F7: =IF(OR(D7=0,E7=0),,HOUR(E7-D7+"24:00")+CEILING(MINUTE(E7-D7+"24:00")/60,0.25)) -> 0 | I7: {=IF(H7<=0,0, IF(OR(G7="O", G7="T1",AND(TYA="No",OR(G7="T2N",G7="T3"))),(CEILING(H7,0.5)-0.5)/0.5*Reg_Subs+Reg_First, IF(G7="M",MIN((CEILING(H7,0.5)-0.5)/0.5,10)*Double_Subs+Double_First + N("MIN 10 kludge to avoid removing cap"), IF(G7="F",MAX(WeeklyFee/7,4*FreeRate,ROUNDUP(H7,0)*FreeRate), IF(G7="R",IF(CEILING(H7,0.5)=0.5,RehPerfRate_1,IF(CEILING(H7,0.5)=1,RehPerfRate_2+RehPerfRate_1,IF(CEILING(H7,0.5)>=1.5,RehPerfRate_3+RehPerfRate_2+RehPerfRate_1))), IF(G7="P",(MIN(((CEILING(H7,0.5)-0.5)/0.5),2)*PerfPerfRate_subs)+PerfPerfRate_first, IF(OR(G7="N",AND(TYA="NO",G7="T2R")),(INT((H7)/1)*ON_subs)+MAX(MOD(H7,0.5),1)*ON_first, IF(G7="S",CEILING(H7,0.5)/0.5*SpanRate, IF(G7="E",ROUNDUP(H7,0)*EmergFreeRate,)))))))))} -> 0 | J7: =SUM($F$7:F7) -> 0 | K7: Overtime
B8: 44005 | F8: =IF(OR(D8=0,E8=0),,HOUR(E8-D8+"24:00")+CEILING(MINUTE(E8-D8+"24:00")/60,0.25)) -> 0 | I8: {=IF(H8<=0,0, IF(OR(G8="O",G8="T1",AND(TYA="No",OR(G8="T2N",G8="T3"))),IF(OR(SUM(IF($G$7:$G7="O",$I$7:$I7,0))+SUM(IF($G$7:$G7="T1",$I$7:$I7,0))+SUM(IF($G$7:$G7="T2N",$I$7:$I7,0))+SUM(IF($G$7:$G7="T3",$I$7:$I7,0))=0),(CEILING(H8,0.5)-0.5)/0.5*Reg_Subs+Reg_First,CEILING(H8,0.5)/0.5*Reg_Subs), IF(G8="M",MIN((CEILING(H8,0.5)-0.5)/0.5,10)*Double_Subs+Double_First + N("MIN 10 kludge to avoid removing cap"), IF(G8="F",MAX(WeeklyFee/7,4*FreeRate,ROUNDUP(H8,0)*FreeRate), IF(G8="R",IF(CEILING(H8,0.5)=0.5,RehPerfRate_1,IF(CEILING(H8,0.5)=1,RehPerfRate_2+RehPerfRate_1,IF(CEILING(H8,0.5)>=1.5,RehPerfRate_3+RehPerfRate_2+RehPerfRate_1))), IF(G8="P",(MIN(((CEILING(H8,0.5)-0.5)/0.5),2)*PerfPerfRate_subs)+PerfPerfRate_first, IF(OR(G8="N",AND(TYA="NO",G8="T2R")),(INT((H8)/1)*ON_subs)+MAX(MOD(H8,0.5),1)*ON_first, IF(G8="S",CEILING(H8,0.5)/0.5*SpanRate, IF(G8="E",ROUNDUP(H8,0)*EmergFreeRate,)))))))))} -> 0 | J8: =SUM($F$7:F8) -> 0 | K8: codes
F9: =IF(OR(D9=0,E9=0),,HOUR(E9-D9+"24:00")+CEILING(MINUTE(E9-D9+"24:00")/60,0.25)) -> 0 | I9: {=IF(H9<=0,0, IF(OR(G9="O",G9="T1",AND(TYA="No",OR(G9="T2N",G9="T3"))),IF(OR(SUM(IF($G$7:$G8="O",$I$7:$I8,0))+SUM(IF($G$7:$G8="T1",$I$7:$I8,0))+SUM(IF($G$7:$G8="T2N",$I$7:$I8,0))+SUM(IF($G$7:$G8="T3",$I$7:$I8,0))=0),(CEILING(H9,0.5)-0.5)/0.5*Reg_Subs+Reg_First,CEILING(H9,0.5)/0.5*Reg_Subs), IF(G9="M",MIN((CEILING(H9,0.5)-0.5)/0.5,10)*Double_Subs+Double_First + N("MIN 10 kludge to avoid removing cap"), IF(G9="F",MAX(WeeklyFee/7,4*FreeRate,ROUNDUP(H9,0)*FreeRate), IF(G9="R",IF(CEILING(H9,0.5)=0.5,RehPerfRate_1,IF(CEILING(H9,0.5)=1,RehPerfRate_2+RehPerfRate_1,IF(CEILING(H9,0.5)>=1.5,RehPerfRate_3+RehPerfRate_2+RehPerfRate_1))), IF(G9="P",(MIN(((CEILING(H9,0.5)-0.5)/0.5),2)*PerfPerfRate_subs)+PerfPerfRate_first, IF(OR(G9="N",AND(TYA="NO",G9="T2R")),(INT((H9)/1)*ON_subs)+MAX(MOD(H9,0.5),1)*ON_first, IF(G9="S",CEILING(H9,0.5)/0.5*SpanRate, IF(G9="E",ROUNDUP(H9,0)*EmergFreeRate,)))))))))} -> 0 | J9: =SUM($F$7:F9) -> 0 | K9: O-Regular
F10: =IF(OR(D10=0,E10=0),,HOUR(E10-D10+"24:00")+CEILING(MINUTE(E10-D10+"24:00")/60,0.25)) -> 0 | I10: {=IF(H10<=0,0, IF(OR(G10="O",G10="T1",AND(TYA="No",OR(G10="T2N",G10="T3"))),IF(OR(SUM(IF($G$7:$G9="O",$I$7:$I9,0))+SUM(IF($G$7:$G9="T1",$I$7:$I9,0))+SUM(IF($G$7:$G9="T2N",$I$7:$I9,0))+SUM(IF($G$7:$G9="T3",$I$7:$I9,0))=0),(CEILING(H10,0.5)-0.5)/0.5*Reg_Subs+Reg_First,CEILING(H10,0.5)/0.5*Reg_Subs), IF(G10="M",MIN((CEILING(H10,0.5)-0.5)/0.5,10)*Double_Subs+Double_First + N("MIN 10 kludge to avoid removing cap"), IF(G10="F",MAX(WeeklyFee/7,4*FreeRate,ROUNDUP(H10,0)*FreeRate), IF(G10="R",IF(CEILING(H10,0.5)=0.5,RehPerfRate_1,IF(CEILING(H10,0.5)=1,RehPerfRate_2+RehPerfRate_1,IF(CEILING(H10,0.5)>=1.5,RehPerfRate_3+RehPerfRate_2+RehPerfRate_1))), IF(G10="P",(MIN(((CEILING(H10,0.5)-0.5)/0.5),2)*PerfPerfRate_subs)+PerfPerfRate_first, IF(OR(G10="N",AND(TYA="NO",G10="T2R")),(INT((H10)/1)*ON_subs)+MAX(MOD(H10,0.5),1)*ON_first, IF(G10="S",CEILING(H10,0.5)/0.5*SpanRate, IF(G10="E",ROUNDUP(H10,0)*EmergFreeRate,)))))))))} -> 0 | J10: =SUM($F$7:F10) -> 0 | K10: S-Span
F11: =IF(OR(D11=0,E11=0),,HOUR(E11-D11+"24:00")+CEILING(MINUTE(E11-D11+"24:00")/60,0.25)) -> 0 | I11: {=IF(H11<=0,0, IF(OR(G11="O",G11="T1",AND(TYA="No",OR(G11="T2N",G11="T3"))),IF(OR(SUM(IF($G$7:$G10="O",$I$7:$I10,0))+SUM(IF($G$7:$G10="T1",$I$7:$I10,0))+SUM(IF($G$7:$G10="T2N",$I$7:$I10,0))+SUM(IF($G$7:$G10="T3",$I$7:$I10,0))=0),(CEILING(H11,0.5)-0.5)/0.5*Reg_Subs+Reg_First,CEILING(H11,0.5)/0.5*Reg_Subs), IF(G11="M",MIN((CEILING(H11,0.5)-0.5)/0.5,10)*Double_Subs+Double_First + N("MIN 10 kludge to avoid removing cap"), IF(G11="F",MAX(WeeklyFee/7,4*FreeRate,ROUNDUP(H11,0)*FreeRate), IF(G11="R",IF(CEILING(H11,0.5)=0.5,RehPerfRate_1,IF(CEILING(H11,0.5)=1,RehPerfRate_2+RehPerfRate_1,IF(CEILING(H11,0.5)>=1.5,RehPerfRate_3+RehPerfRate_2+RehPerfRate_1))), IF(G11="P",(MIN(((CEILING(H11,0.5)-0.5)/0.5),2)*PerfPerfRate_subs)+PerfPerfRate_first, IF(OR(G11="N",AND(TYA="NO",G11="T2R")),(INT((H11)/1)*ON_subs)+MAX(MOD(H11,0.5),1)*ON_first, IF(G11="S",CEILING(H11,0.5)/0.5*SpanRate, IF(G11="E",ROUNDUP(H11,0)*EmergFreeRate,)))))))))} -> 0 | J11: =SUM($F$7:F11) -> 0
F12: =IF(OR(D12=0,E12=0),,HOUR(E12-D12+"24:00")+CEILING(MINUTE(E12-D12+"24:00")/60,0.25)) -> 0 | I12: {=IF(H12<=0,0, IF(OR(G12="O",G12="T1",AND(TYA="No",OR(G12="T2N",G12="T3"))),IF(OR(SUM(IF($G$7:$G11="O",$I$7:$I11,0))+SUM(IF($G$7:$G11="T1",$I$7:$I11,0))+SUM(IF($G$7:$G11="T2N",$I$7:$I11,0))+SUM(IF($G$7:$G11="T3",$I$7:$I11,0))=0),(CEILING(H12,0.5)-0.5)/0.5*Reg_Subs+Reg_First,CEILING(H12,0.5)/0.5*Reg_Subs), IF(G12="M",MIN((CEILING(H12,0.5)-0.5)/0.5,10)*Double_Subs+Double_First + N("MIN 10 kludge to avoid removing cap"), IF(G12="F",MAX(WeeklyFee/7,4*FreeRate,ROUNDUP(H12,0)*FreeRate), IF(G12="R",IF(CEILING(H12,0.5)=0.5,RehPerfRate_1,IF(CEILING(H12,0.5)=1,RehPerfRate_2+RehPerfRate_1,IF(CEILING(H12,0.5)>=1.5,RehPerfRate_3+RehPerfRate_2+RehPerfRate_1))), IF(G12="P",(MIN(((CEILING(H12,0.5)-0.5)/0.5),2)*PerfPerfRate_subs)+PerfPerfRate_first, IF(OR(G12="N",AND(TYA="NO",G12="T2R")),(INT((H12)/1)*ON_subs)+MAX(MOD(H12,0.5),1)*ON_first, IF(G12="S",CEILING(H12,0.5)/0.5*SpanRate, IF(G12="E",ROUNDUP(H12,0)*EmergFreeRate,)))))))))} -> 0 | J12: =SUM($F$7:F12) -> 0 | K12: Penalty
F13: =IF(OR(D13=0,E13=0),,HOUR(E13-D13+"24:00")+CEILING(MINUTE(E13-D13+"24:00")/60,0.25)) -> 0 | I13: {=IF(H13<=0,0, IF(OR(G13="O",G13="T1",AND(TYA="No",OR(G13="T2N",G13="T3"))),IF(OR(SUM(IF($G$7:$G12="O",$I$7:$I12,0))+SUM(IF($G$7:$G12="T1",$I$7:$I12,0))+SUM(IF($G$7:$G12="T2N",$I$7:$I12,0))+SUM(IF($G$7:$G12="T3",$I$7:$I12,0))=0),(CEILING(H13,0.5)-0.5)/0.5*Reg_Subs+Reg_First,CEILING(H13,0.5)/0.5*Reg_Subs), IF(G13="M",MIN((CEILING(H13,0.5)-0.5)/0.5,10)*Double_Subs+Double_First + N("MIN 10 kludge to avoid removing cap"), IF(G13="F",MAX(WeeklyFee/7,4*FreeRate,ROUNDUP(H13,0)*FreeRate), IF(G13="R",IF(CEILING(H13,0.5)=0.5,RehPerfRate_1,IF(CEILING(H13,0.5)=1,RehPerfRate_2+RehPerfRate_1,IF(CEILING(H13,0.5)>=1.5,RehPerfRate_3+RehPerfRate_2+RehPerfRate_1))), IF(G13="P",(MIN(((CEILING(H13,0.5)-0.5)/0.5),2)*PerfPerfRate_subs)+PerfPerfRate_first, IF(OR(G13="N",AND(TYA="NO",G13="T2R")),(INT((H13)/1)*ON_subs)+MAX(MOD(H13,0.5),1)*ON_first, IF(G13="S",CEILING(H13,0.5)/0.5*SpanRate, IF(G13="E",ROUNDUP(H13,0)*EmergFreeRate,)))))))))} -> 0 | J13: =SUM($F$7:F13) -> 0 | K13: codes
F14: =IF(OR(D14=0,E14=0),,HOUR(E14-D14+"24:00")+CEILING(MINUTE(E14-D14+"24:00")/60,0.25)) -> 0 | I14: {=IF(H14<=0,0, IF(OR(G14="O",G14="T1",AND(TYA="No",OR(G14="T2N",G14="T3"))),IF(OR(SUM(IF($G$7:$G13="O",$I$7:$I13,0))+SUM(IF($G$7:$G13="T1",$I$7:$I13,0))+SUM(IF($G$7:$G13="T2N",$I$7:$I13,0))+SUM(IF($G$7:$G13="T3",$I$7:$I13,0))=0),(CEILING(H14,0.5)-0.5)/0.5*Reg_Subs+Reg_First,CEILING(H14,0.5)/0.5*Reg_Subs), IF(G14="M",MIN((CEILING(H14,0.5)-0.5)/0.5,10)*Double_Subs+Double_First + N("MIN 10 kludge to avoid removing cap"), IF(G14="F",MAX(WeeklyFee/7,4*FreeRate,ROUNDUP(H14,0)*FreeRate), IF(G14="R",IF(CEILING(H14,0.5)=0.5,RehPerfRate_1,IF(CEILING(H14,0.5)=1,RehPerfRate_2+RehPerfRate_1,IF(CEILING(H14,0.5)>=1.5,RehPerfRate_3+RehPerfRate_2+RehPerfRate_1))), IF(G14="P",(MIN(((CEILING(H14,0.5)-0.5)/0.5),2)*PerfPerfRate_subs)+PerfPerfRate_first, IF(OR(G14="N",AND(TYA="NO",G14="T2R")),(INT((H14)/1)*ON_subs)+MAX(MOD(H14,0.5),1)*ON_first, IF(G14="S",CEILING(H14,0.5)/0.5*SpanRate, IF(G14="E",ROUNDUP(H14,0)*EmergFreeRate,)))))))))} -> 0 | J14: =SUM($F$7:F14) -> 0 | K14: R-Reh/Perf
B15: =IF(B16="","",B16) -> 44006 | F15: =IF(OR(D15=0,E15=0),,HOUR(E15-D15+"24:00")+CEILING(MINUTE(E15-D15+"24:00")/60,0.25)) -> 0 | I15: {=IF(H15<=0,0, IF(OR(G15="O", G15="T1",AND(TYA="No",OR(G15="T2N",G15="T3"))),(CEILING(H15,0.5)-0.5)/0.5*Reg_Subs+Reg_First, IF(G15="M",MIN((CEILING(H15,0.5)-0.5)/0.5,10)*Double_Subs+Double_First + N("MIN 10 kludge to avoid removing cap"), IF(G15="F",MAX(WeeklyFee/7,4*FreeRate,ROUNDUP(H15,0)*FreeRate), IF(G15="R",IF(CEILING(H15,0.5)=0.5,RehPerfRate_1,IF(CEILING(H15,0.5)=1,RehPerfRate_2+RehPerfRate_1,IF(CEILING(H15,0.5)>=1.5,RehPerfRate_3+RehPerfRate_2+RehPerfRate_1))), IF(G15="P",(MIN(((CEILING(H15,0.5)-0.5)/0.5),2)*PerfPerfRate_subs)+PerfPerfRate_first, IF(OR(G15="N",AND(TYA="NO",G15="T2R")),(INT((H15)/1)*ON_subs)+MAX(MOD(H15,0.5),1)*ON_first, IF(G15="S",CEILING(H15,0.5)/0.5*SpanRate, IF(G15="E",ROUNDUP(H15,0)*EmergFreeRate,)))))))))} -> 0 | J15: =SUM($F$7:F15) -> 0 | K15: P-Perf/Perf
B16: =IF(B8="","",B8+1) -> 44006 | F16: =IF(OR(D16=0,E16=0),,HOUR(E16-D16+"24:00")+CEILING(MINUTE(E16-D16+"24:00")/60,0.25)) -> 0 | I16: {=IF(H16<=0,0, IF(OR(G16="O",G16="T1",AND(TYA="No",OR(G16="T2N",G16="T3"))),IF(OR(SUM(IF($G$15:$G15="O",$I$15:$I15,0))+SUM(IF($G$15:$G15="T1",$I$15:$I15,0))+SUM(IF($G$15:$G15="T2N",$I$15:$I15,0))+SUM(IF($G$15:$G15="T3",$I$15:$I15,0))=0),(CEILING(H16,0.5)-0.5)/0.5*Reg_Subs+Reg_First,CEILING(H16,0.5)/0.5*Reg_Subs), IF(G16="M",MIN((CEILING(H16,0.5)-0.5)/0.5,10)*Double_Subs+Double_First + N("MIN 10 kludge to avoid removing cap"), IF(G16="F",MAX(WeeklyFee/7,4*FreeRate,ROUNDUP(H16,0)*FreeRate), IF(G16="R",IF(CEILING(H16,0.5)=0.5,RehPerfRate_1,IF(CEILING(H16,0.5)=1,RehPerfRate_2+RehPerfRate_1,IF(CEILING(H16,0.5)>=1.5,RehPerfRate_3+RehPerfRate_2+RehPerfRate_1))), IF(G16="P",(MIN(((CEILING(H16,0.5)-0.5)/0.5),2)*PerfPerfRate_subs)+PerfPerfRate_first, IF(OR(G16="N",AND(TYA="NO",G16="T2R")),(INT((H16)/1)*ON_subs)+MAX(MOD(H16,0.5),1)*ON_first, IF(G16="S",CEILING(H16,0.5)/0.5*SpanRate, IF(G16="E",ROUNDUP(H16,0)*EmergFreeRate,)))))))))} -> 0 | J16: =SUM($F$7:F16) -> 0 | K16: M-Meal
F17: =IF(OR(D17=0,E17=0),,HOUR(E17-D17+"24:00")+CEILING(MINUTE(E17-D17+"24:00")/60,0.25)) -> 0 | I17: {=IF(H17<=0,0, IF(OR(G17="O",G17="T1",AND(TYA="No",OR(G17="T2N",G17="T3"))),IF(OR(SUM(IF($G$15:$G16="O",$I$15:$I16,0))+SUM(IF($G$15:$G16="T1",$I$15:$I16,0))+SUM(IF($G$15:$G16="T2N",$I$15:$I16,0))+SUM(IF($G$15:$G16="T3",$I$15:$I16,0))=0),(CEILING(H17,0.5)-0.5)/0.5*Reg_Subs+Reg_First,CEILING(H17,0.5)/0.5*Reg_Subs), IF(G17="M",MIN((CEILING(H17,0.5)-0.5)/0.5,10)*Double_Subs+Double_First + N("MIN 10 kludge to avoid removing cap"), IF(G17="F",MAX(WeeklyFee/7,4*FreeRate,ROUNDUP(H17,0)*FreeRate), IF(G17="R",IF(CEILING(H17,0.5)=0.5,RehPerfRate_1,IF(CEILING(H17,0.5)=1,RehPerfRate_2+RehPerfRate_1,IF(CEILING(H17,0.5)>=1.5,RehPerfRate_3+RehPerfRate_2+RehPerfRate_1))), IF(G17="P",(MIN(((CEILING(H17,0.5)-0.5)/0.5),2)*PerfPerfRate_subs)+PerfPerfRate_first, IF(OR(G17="N",AND(TYA="NO",G17="T2R")),(INT((H17)/1)*ON_subs)+MAX(MOD(H17,0.5),1)*ON_first, IF(G17="S",CEILING(H17,0.5)/0.5*SpanRate, IF(G17="E",ROUNDUP(H17,0)*EmergFreeRate,)))))))))} -> 0 | J17: =SUM($F$7:F17) -> 0 | K17: N-Overnight
F18: =IF(OR(D18=0,E18=0),,HOUR(E18-D18+"24:00")+CEILING(MINUTE(E18-D18+"24:00")/60,0.25)) -> 0 | I18: {=IF(H18<=0,0, IF(OR(G18="O",G18="T1",AND(TYA="No",OR(G18="T2N",G18="T3"))),IF(OR(SUM(IF($G$15:$G17="O",$I$15:$I17,0))+SUM(IF($G$15:$G17="T1",$I$15:$I17,0))+SUM(IF($G$15:$G17="T2N",$I$15:$I17,0))+SUM(IF($G$15:$G17="T3",$I$15:$I17,0))=0),(CEILING(H18,0.5)-0.5)/0.5*Reg_Subs+Reg_First,CEILING(H18,0.5)/0.5*Reg_Subs), IF(G18="M",MIN((CEILING(H18,0.5)-0.5)/0.5,10)*Double_Subs+Double_First + N("MIN 10 kludge to avoid removing cap"), IF(G18="F",MAX(WeeklyFee/7,4*FreeRate,ROUNDUP(H18,0)*FreeRate), IF(G18="R",IF(CEILING(H18,0.5)=0.5,RehPerfRate_1,IF(CEILING(H18,0.5)=1,RehPerfRate_2+RehPerfRate_1,IF(CEILING(H18,0.5)>=1.5,RehPerfRate_3+RehPerfRate_2+RehPerfRate_1))), IF(G18="P",(MIN(((CEILING(H18,0.5)-0.5)/0.5),2)*PerfPerfRate_subs)+PerfPerfRate_first, IF(OR(G18="N",AND(TYA="NO",G18="T2R")),(INT((H18)/1)*ON_subs)+MAX(MOD(H18,0.5),1)*ON_first, IF(G18="S",CEILING(H18,0.5)/0.5*SpanRate, IF(G18="E",ROUNDUP(H18,0)*EmergFreeRate,)))))))))} -> 0 | J18: =SUM($F$7:F18) -> 0 | K18: F-Free Day
F19: =IF(OR(D19=0,E19=0),,HOUR(E19-D19+"24:00")+CEILING(MINUTE(E19-D19+"24:00")/60,0.25)) -> 0 | I19: {=IF(H19<=0,0, IF(OR(G19="O",G19="T1",AND(TYA="No",OR(G19="T2N",G19="T3"))),IF(OR(SUM(IF($G$15:$G18="O",$I$15:$I18,0))+SUM(IF($G$15:$G18="T1",$I$15:$I18,0))+SUM(IF($G$15:$G18="T2N",$I$15:$I18,0))+SUM(IF($G$15:$G18="T3",$I$15:$I18,0))=0),(CEILING(H19,0.5)-0.5)/0.5*Reg_Subs+Reg_First,CEILING(H19,0.5)/0.5*Reg_Subs), IF(G19="M",MIN((CEILING(H19,0.5)-0.5)/0.5,10)*Double_Subs+Double_First + N("MIN 10 kludge to avoid removing cap"), IF(G19="F",MAX(WeeklyFee/7,4*FreeRate,ROUNDUP(H19,0)*FreeRate), IF(G19="R",IF(CEILING(H19,0.5)=0.5,RehPerfRate_1,IF(CEILING(H19,0.5)=1,RehPerfRate_2+RehPerfRate_1,IF(CEILING(H19,0.5)>=1.5,RehPerfRate_3+RehPerfRate_2+RehPerfRate_1))), IF(G19="P",(MIN(((CEILING(H19,0.5)-0.5)/0.5),2)*PerfPerfRate_subs)+PerfPerfRate_first, IF(OR(G19="N",AND(TYA="NO",G19="T2R")),(INT((H19)/1)*ON_subs)+MAX(MOD(H19,0.5),1)*ON_first, IF(G19="S",CEILING(H19,0.5)/0.5*SpanRate, IF(G19="E",ROUNDUP(H19,0)*EmergFreeRate,)))))))))} -> 0 | J19: =SUM($F$7:F19) -> 0 | K19: E-Emerg. Reh.
F20: =IF(OR(D20=0,E20=0),,HOUR(E20-D20+"24:00")+CEILING(MINUTE(E20-D20+"24:00")/60,0.25)) -> 0 | I20: {=IF(H20<=0,0, IF(OR(G20="O",G20="T1",AND(TYA="No",OR(G20="T2N",G20="T3"))),IF(OR(SUM(IF($G$15:$G19="O",$I$15:$I19,0))+SUM(IF($G$15:$G19="T1",$I$15:$I19,0))+SUM(IF($G$15:$G19="T2N",$I$15:$I19,0))+SUM(IF($G$15:$G19="T3",$I$15:$I19,0))=0),(CEILING(H20,0.5)-0.5)/0.5*Reg_Subs+Reg_First,CEILING(H20,0.5)/0.5*Reg_Subs), IF(G20="M",MIN((CEILING(H20,0.5)-0.5)/0.5,10)*Double_Subs+Double_First + N("MIN 10 kludge to avoid removing cap"), IF(G20="F",MAX(WeeklyFee/7,4*FreeRate,ROUNDUP(H20,0)*FreeRate), IF(G20="R",IF(CEILING(H20,0.5)=0.5,RehPerfRate_1,IF(CEILING(H20,0.5)=1,RehPerfRate_2+RehPerfRate_1,IF(CEILING(H20,0.5)>=1.5,RehPerfRate_3+RehPerfRate_2+RehPerfRate_1))), IF(G20="P",(MIN(((CEILING(H20,0.5)-0.5)/0.5),2)*PerfPerfRate_subs)+PerfPerfRate_first, IF(OR(G20="N",AND(TYA="NO",G20="T2R")),(INT((H20)/1)*ON_subs)+MAX(MOD(H20,0.5),1)*ON_first, IF(G20="S",CEILING(H20,0.5)/0.5*SpanRate, IF(G20="E",ROUNDUP(H20,0)*EmergFreeRate,)))))))))} -> 0 | J20: =SUM($F$7:F20) -> 0 | K20: on Free Day
F21: =IF(OR(D21=0,E21=0),,HOUR(E21-D21+"24:00")+CEILING(MINUTE(E21-D21+"24:00")/60,0.25)) -> 0 | I21: {=IF(H21<=0,0, IF(OR(G21="O",G21="T1",AND(TYA="No",OR(G21="T2N",G21="T3"))),IF(OR(SUM(IF($G$15:$G20="O",$I$15:$I20,0))+SUM(IF($G$15:$G20="T1",$I$15:$I20,0))+SUM(IF($G$15:$G20="T2N",$I$15:$I20,0))+SUM(IF($G$15:$G20="T3",$I$15:$I20,0))=0),(CEILING(H21,0.5)-0.5)/0.5*Reg_Subs+Reg_First,CEILING(H21,0.5)/0.5*Reg_Subs), IF(G21="M",MIN((CEILING(H21,0.5)-0.5)/0.5,10)*Double_Subs+Double_First + N("MIN 10 kludge to avoid removing cap"), IF(G21="F",MAX(WeeklyFee/7,4*FreeRate,ROUNDUP(H21,0)*FreeRate), IF(G21="R",IF(CEILING(H21,0.5)=0.5,RehPerfRate_1,IF(CEILING(H21,0.5)=1,RehPerfRate_2+RehPerfRate_1,IF(CEILING(H21,0.5)>=1.5,RehPerfRate_3+RehPerfRate_2+RehPerfRate_1))), IF(G21="P",(MIN(((CEILING(H21,0.5)-0.5)/0.5),2)*PerfPerfRate_subs)+PerfPerfRate_first, IF(OR(G21="N",AND(TYA="NO",G21="T2R")),(INT((H21)/1)*ON_subs)+MAX(MOD(H21,0.5),1)*ON_first, IF(G21="S",CEILING(H21,0.5)/0.5*SpanRate, IF(G21="E",ROUNDUP(H21,0)*EmergFreeRate,)))))))))} -> 0 | J21: =SUM($F$7:F21) -> 0
F22: =IF(OR(D22=0,E22=0),,HOUR(E22-D22+"24:00")+CEILING(MINUTE(E22-D22+"24:00")/60,0.25)) -> 0 | I22: {=IF(H22<=0,0, IF(OR(G22="O",G22="T1",AND(TYA="No",OR(G22="T2N",G22="T3"))),IF(OR(SUM(IF($G$15:$G21="O",$I$15:$I21,0))+SUM(IF($G$15:$G21="T1",$I$15:$I21,0))+SUM(IF($G$15:$G21="T2N",$I$15:$I21,0))+SUM(IF($G$15:$G21="T3",$I$15:$I21,0))=0),(CEILING(H22,0.5)-0.5)/0.5*Reg_Subs+Reg_First,CEILING(H22,0.5)/0.5*Reg_Subs), IF(G22="M",MIN((CEILING(H22,0.5)-0.5)/0.5,10)*Double_Subs+Double_First + N("MIN 10 kludge to avoid removing cap"), IF(G22="F",MAX(WeeklyFee/7,4*FreeRate,ROUNDUP(H22,0)*FreeRate), IF(G22="R",IF(CEILING(H22,0.5)=0.5,RehPerfRate_1,IF(CEILING(H22,0.5)=1,RehPerfRate_2+RehPerfRate_1,IF(CEILING(H22,0.5)>=1.5,RehPerfRate_3+RehPerfRate_2+RehPerfRate_1))), IF(G22="P",(MIN(((CEILING(H22,0.5)-0.5)/0.5),2)*PerfPerfRate_subs)+PerfPerfRate_first, IF(OR(G22="N",AND(TYA="NO",G22="T2R")),(INT((H22)/1)*ON_subs)+MAX(MOD(H22,0.5),1)*ON_first, IF(G22="S",CEILING(H22,0.5)/0.5*SpanRate, IF(G22="E",ROUNDUP(H22,0)*EmergFreeRate,)))))))))} -> 0 | J22: Travel overtime
B23: =IF(B24="","",B24) -> 44007 | F23: =IF(OR(D23=0,E23=0),,HOUR(E23-D23+"24:00")+CEILING(MINUTE(E23-D23+"24:00")/60,0.25)) -> 0 | I23: {=IF(H23<=0,0, IF(OR(G23="O", G23="T1",AND(TYA="No",OR(G23="T2N",G23="T3"))),(CEILING(H23,0.5)-0.5)/0.5*Reg_Subs+Reg_First, IF(G23="M",MIN((CEILING(H23,0.5)-0.5)/0.5,10)*Double_Subs+Double_First + N("MIN 10 kludge to avoid removing cap"), IF(G23="F",MAX(WeeklyFee/7,4*FreeRate,ROUNDUP(H23,0)*FreeRate), IF(G23="R",IF(CEILING(H23,0.5)=0.5,RehPerfRate_1,IF(CEILING(H23,0.5)=1,RehPerfRate_2+RehPerfRate_1,IF(CEILING(H23,0.5)>=1.5,RehPerfRate_3+RehPerfRate_2+RehPerfRate_1))), IF(G23="P",(MIN(((CEILING(H23,0.5)-0.5)/0.5),2)*PerfPerfRate_subs)+PerfPerfRate_first, IF(OR(G23="N",AND(TYA="NO",G23="T2R")),(INT((H23)/1)*ON_subs)+MAX(MOD(H23,0.5),1)*ON_first, IF(G23="S",CEILING(H23,0.5)/0.5*SpanRate, IF(G23="E",ROUNDUP(H23,0)*EmergFreeRate,)))))))))} -> 0 | J23: =SUM($F$7:F23) -> 0 | K23: codes
B24: =IF(B16="","",B16+1) -> 44007 | F24: =IF(OR(D24=0,E24=0),,HOUR(E24-D24+"24:00")+CEILING(MINUTE(E24-D24+"24:00")/60,0.25)) -> 0 | I24: {=IF(H24<=0,0, IF(OR(G24="O",G24="T1",AND(TYA="No",OR(G24="T2N",G24="T3"))),IF(OR(SUM(IF($G$23:$G23="O",$I$23:$I23,0))+SUM(IF($G$23:$G23="T1",$I$23:$I23,0))+SUM(IF($G$23:$G23="T2N",$I$23:$I23,0))+SUM(IF($G$23:$G23="T3",$I$23:$I23,0))=0),(CEILING(H24,0.5)-0.5)/0.5*Reg_Subs+Reg_First,CEILING(H24,0.5)/0.5*Reg_Subs), IF(G24="M",MIN((CEILING(H24,0.5)-0.5)/0.5,10)*Double_Subs+Double_First + N("MIN 10 kludge to avoid removing cap"), IF(G24="F",MAX(WeeklyFee/7,4*FreeRate,ROUNDUP(H24,0)*FreeRate), IF(G24="R",IF(CEILING(H24,0.5)=0.5,RehPerfRate_1,IF(CEILING(H24,0.5)=1,RehPerfRate_2+RehPerfRate_1,IF(CEILING(H24,0.5)>=1.5,RehPerfRate_3+RehPerfRate_2+RehPerfRate_1))), IF(G24="P",(MIN(((CEILING(H24,0.5)-0.5)/0.5),2)*PerfPerfRate_subs)+PerfPerfRate_first, IF(OR(G24="N",AND(TYA="NO",G24="T2R")),(INT((H24)/1)*ON_subs)+MAX(MOD(H24,0.5),1)*ON_first, IF(G24="S",CEILING(H24,0.5)/0.5*SpanRate, IF(G24="E",ROUNDUP(H24,0)*EmergFreeRate,)))))))))} -> 0 | J24: =SUM($F$7:F24) -> 0 | K24: T1-Excess Trav
F25: =IF(OR(D25=0,E25=0),,HOUR(E25-D25+"24:00")+CEILING(MINUTE(E25-D25+"24:00")/60,0.25)) -> 0 | I25: {=IF(H25<=0,0, IF(OR(G25="O",G25="T1",AND(TYA="No",OR(G25="T2N",G25="T3"))),IF(OR(SUM(IF($G$23:$G24="O",$I$23:$I24,0))+SUM(IF($G$23:$G24="T1",$I$23:$I24,0))+SUM(IF($G$23:$G24="T2N",$I$23:$I24,0))+SUM(IF($G$23:$G24="T3",$I$23:$I24,0))=0),(CEILING(H25,0.5)-0.5)/0.5*Reg_Subs+Reg_First,CEILING(H25,0.5)/0.5*Reg_Subs), IF(G25="M",MIN((CEILING(H25,0.5)-0.5)/0.5,10)*Double_Subs+Double_First + N("MIN 10 kludge to avoid removing cap"), IF(G25="F",MAX(WeeklyFee/7,4*FreeRate,ROUNDUP(H25,0)*FreeRate), IF(G25="R",IF(CEILING(H25,0.5)=0.5,RehPerfRate_1,IF(CEILING(H25,0.5)=1,RehPerfRate_2+RehPerfRate_1,IF(CEILING(H25,0.5)>=1.5,RehPerfRate_3+RehPerfRate_2+RehPerfRate_1))), IF(G25="P",(MIN(((CEILING(H25,0.5)-0.5)/0.5),2)*PerfPerfRate_subs)+PerfPerfRate_first, IF(OR(G25="N",AND(TYA="NO",G25="T2R")),(INT((H25)/1)*ON_subs)+MAX(MOD(H25,0.5),1)*ON_first, IF(G25="S",CEILING(H25,0.5)/0.5*SpanRate, IF(G25="E",ROUNDUP(H25,0)*EmergFreeRate,)))))))))} -> 0 | J25: =SUM($F$7:F25) -> 0 | K25: (General)
F26: =IF(OR(D26=0,E26=0),,HOUR(E26-D26+"24:00")+CEILING(MINUTE(E26-D26+"24:00")/60,0.25)) -> 0 | I26: {=IF(H26<=0,0, IF(OR(G26="O",G26="T1",AND(TYA="No",OR(G26="T2N",G26="T3"))),IF(OR(SUM(IF($G$23:$G25="O",$I$23:$I25,0))+SUM(IF($G$23:$G25="T1",$I$23:$I25,0))+SUM(IF($G$23:$G25="T2N",$I$23:$I25,0))+SUM(IF($G$23:$G25="T3",$I$23:$I25,0))=0),(CEILING(H26,0.5)-0.5)/0.5*Reg_Subs+Reg_First,CEILING(H26,0.5)/0.5*Reg_Subs), IF(G26="M",MIN((CEILING(H26,0.5)-0.5)/0.5,10)*Double_Subs+Double_First + N("MIN 10 kludge to avoid removing cap"), IF(G26="F",MAX(WeeklyFee/7,4*FreeRate,ROUNDUP(H26,0)*FreeRate), IF(G26="R",IF(CEILING(H26,0.5)=0.5,RehPerfRate_1,IF(CEILING(H26,0.5)=1,RehPerfRate_2+RehPerfRate_1,IF(CEILING(H26,0.5)>=1.5,RehPerfRate_3+RehPerfRate_2+RehPerfRate_1))), IF(G26="P",(MIN(((CEILING(H26,0.5)-0.5)/0.5),2)*PerfPerfRate_subs)+PerfPerfRate_first, IF(OR(G26="N",AND(TYA="NO",G26="T2R")),(INT((H26)/1)*ON_subs)+MAX(MOD(H26,0.5),1)*ON_first, IF(G26="S",CEILING(H26,0.5)/0.5*SpanRate, IF(G26="E",ROUNDUP(H26,0)*EmergFreeRate,)))))))))} -> 0 | J26: =SUM($F$7:F26) -> 0 | K26: (49:01 (E))
F27: =IF(OR(D27=0,E27=0),,HOUR(E27-D27+"24:00")+CEILING(MINUTE(E27-D27+"24:00")/60,0.25)) -> 0 | I27: {=IF(H27<=0,0, IF(OR(G27="O",G27="T1",AND(TYA="No",OR(G27="T2N",G27="T3"))),IF(OR(SUM(IF($G$23:$G26="O",$I$23:$I26,0))+SUM(IF($G$23:$G26="T1",$I$23:$I26,0))+SUM(IF($G$23:$G26="T2N",$I$23:$I26,0))+SUM(IF($G$23:$G26="T3",$I$23:$I26,0))=0),(CEILING(H27,0.5)-0.5)/0.5*Reg_Subs+Reg_First,CEILING(H27,0.5)/0.5*Reg_Subs), IF(G27="M",MIN((CEILING(H27,0.5)-0.5)/0.5,10)*Double_Subs+Double_First + N("MIN 10 kludge to avoid removing cap"), IF(G27="F",MAX(WeeklyFee/7,4*FreeRate,ROUNDUP(H27,0)*FreeRate), IF(G27="R",IF(CEILING(H27,0.5)=0.5,RehPerfRate_1,IF(CEILING(H27,0.5)=1,RehPerfRate_2+RehPerfRate_1,IF(CEILING(H27,0.5)>=1.5,RehPerfRate_3+RehPerfRate_2+RehPerfRate_1))), IF(G27="P",(MIN(((CEILING(H27,0.5)-0.5)/0.5),2)*PerfPerfRate_subs)+PerfPerfRate_first, IF(OR(G27="N",AND(TYA="NO",G27="T2R")),(INT((H27)/1)*ON_subs)+MAX(MOD(H27,0.5),1)*ON_first, IF(G27="S",CEILING(H27,0.5)/0.5*SpanRate, IF(G27="E",ROUNDUP(H27,0)*EmergFreeRate,)))))))))} -> 0 | J27: =SUM($F$7:F27) -> 0 | K27: =IF(TYA="No","T2N-Excess Air","") -> T2N-Excess Air
F28: =IF(OR(D28=0,E28=0),,HOUR(E28-D28+"24:00")+CEILING(MINUTE(E28-D28+"24:00")/60,0.25)) -> 0 | I28: {=IF(H28<=0,0, IF(OR(G28="O",G28="T1",AND(TYA="No",OR(G28="T2N",G28="T3"))),IF(OR(SUM(IF($G$23:$G27="O",$I$23:$I27,0))+SUM(IF($G$23:$G27="T1",$I$23:$I27,0))+SUM(IF($G$23:$G27="T2N",$I$23:$I27,0))+SUM(IF($G$23:$G27="T3",$I$23:$I27,0))=0),(CEILING(H28,0.5)-0.5)/0.5*Reg_Subs+Reg_First,CEILING(H28,0.5)/0.5*Reg_Subs), IF(G28="M",MIN((CEILING(H28,0.5)-0.5)/0.5,10)*Double_Subs+Double_First + N("MIN 10 kludge to avoid removing cap"), IF(G28="F",MAX(WeeklyFee/7,4*FreeRate,ROUNDUP(H28,0)*FreeRate), IF(G28="R",IF(CEILING(H28,0.5)=0.5,RehPerfRate_1,IF(CEILING(H28,0.5)=1,RehPerfRate_2+RehPerfRate_1,IF(CEILING(H28,0.5)>=1.5,RehPerfRate_3+RehPerfRate_2+RehPerfRate_1))), IF(G28="P",(MIN(((CEILING(H28,0.5)-0.5)/0.5),2)*PerfPerfRate_subs)+PerfPerfRate_first, IF(OR(G28="N",AND(TYA="NO",G28="T2R")),(INT((H28)/1)*ON_subs)+MAX(MOD(H28,0.5),1)*ON_first, IF(G28="S",CEILING(H28,0.5)/0.5*SpanRate, IF(G28="E",ROUNDUP(H28,0)*EmergFreeRate,)))))))))} -> 0 | J28: =SUM($F$7:F28) -> 0 | K28: =IF(TYA="No"," Trav (Night)","") -> Trav (Night)
F29: =IF(OR(D29=0,E29=0),,HOUR(E29-D29+"24:00")+CEILING(MINUTE(E29-D29+"24:00")/60,0.25)) -> 0 | I29: {=IF(H29<=0,0, IF(OR(G29="O",G29="T1",AND(TYA="No",OR(G29="T2N",G29="T3"))),IF(OR(SUM(IF($G$23:$G28="O",$I$23:$I28,0))+SUM(IF($G$23:$G28="T1",$I$23:$I28,0))+SUM(IF($G$23:$G28="T2N",$I$23:$I28,0))+SUM(IF($G$23:$G28="T3",$I$23:$I28,0))=0),(CEILING(H29,0.5)-0.5)/0.5*Reg_Subs+Reg_First,CEILING(H29,0.5)/0.5*Reg_Subs), IF(G29="M",MIN((CEILING(H29,0.5)-0.5)/0.5,10)*Double_Subs+Double_First + N("MIN 10 kludge to avoid removing cap"), IF(G29="F",MAX(WeeklyFee/7,4*FreeRate,ROUNDUP(H29,0)*FreeRate), IF(G29="R",IF(CEILING(H29,0.5)=0.5,RehPerfRate_1,IF(CEILING(H29,0.5)=1,RehPerfRate_2+RehPerfRate_1,IF(CEILING(H29,0.5)>=1.5,RehPerfRate_3+RehPerfRate_2+RehPerfRate_1))), IF(G29="P",(MIN(((CEILING(H29,0.5)-0.5)/0.5),2)*PerfPerfRate_subs)+PerfPerfRate_first, IF(OR(G29="N",AND(TYA="NO",G29="T2R")),(INT((H29)/1)*ON_subs)+MAX(MOD(H29,0.5),1)*ON_first, IF(G29="S",CEILING(H29,0.5)/0.5*SpanRate, IF(G29="E",ROUNDUP(H29,0)*EmergFreeRate,)))))))))} -> 0 | J29: =SUM($F$7:F29) -> 0 | K29: =IF(TYA="No"," (49:17(C))","") -> (49:17(C))
F30: =IF(OR(D30=0,E30=0),,HOUR(E30-D30+"24:00")+CEILING(MINUTE(E30-D30+"24:00")/60,0.25)) -> 0 | I30: {=IF(H30<=0,0, IF(OR(G30="O",G30="T1",AND(TYA="No",OR(G30="T2N",G30="T3"))),IF(OR(SUM(IF($G$23:$G29="O",$I$23:$I29,0))+SUM(IF($G$23:$G29="T1",$I$23:$I29,0))+SUM(IF($G$23:$G29="T2N",$I$23:$I29,0))+SUM(IF($G$23:$G29="T3",$I$23:$I29,0))=0),(CEILING(H30,0.5)-0.5)/0.5*Reg_Subs+Reg_First,CEILING(H30,0.5)/0.5*Reg_Subs), IF(G30="M",MIN((CEILING(H30,0.5)-0.5)/0.5,10)*Double_Subs+Double_First + N("MIN 10 kludge to avoid removing cap"), IF(G30="F",MAX(WeeklyFee/7,4*FreeRate,ROUNDUP(H30,0)*FreeRate), IF(G30="R",IF(CEILING(H30,0.5)=0.5,RehPerfRate_1,IF(CEILING(H30,0.5)=1,RehPerfRate_2+RehPerfRate_1,IF(CEILING(H30,0.5)>=1.5,RehPerfRate_3+RehPerfRate_2+RehPerfRate_1))), IF(G30="P",(MIN(((CEILING(H30,0.5)-0.5)/0.5),2)*PerfPerfRate_subs)+PerfPerfRate_first, IF(OR(G30="N",AND(TYA="NO",G30="T2R")),(INT((H30)/1)*ON_subs)+MAX(MOD(H30,0.5),1)*ON_first, IF(G30="S",CEILING(H30,0.5)/0.5*SpanRate, IF(G30="E",ROUNDUP(H30,0)*EmergFreeRate,)))))))))} -> 0 | J30: =SUM($F$7:F30) -> 0 | K30: =IF(TYA="No","T2R-Excess Air","") -> T2R-Excess Air
B31: =IF(B32="","",B32) -> 44008 | F31: =IF(OR(D31=0,E31=0),,HOUR(E31-D31+"24:00")+CEILING(MINUTE(E31-D31+"24:00")/60,0.25)) -> 0 | I31: {=IF(H31<=0,0, IF(OR(G31="O", G31="T1",AND(TYA="No",OR(G31="T2N",G31="T3"))),(CEILING(H31,0.5)-0.5)/0.5*Reg_Subs+Reg_First, IF(G31="M",MIN((CEILING(H31,0.5)-0.5)/0.5,10)*Double_Subs+Double_First + N("MIN 10 kludge to avoid removing cap"), IF(G31="F",MAX(WeeklyFee/7,4*FreeRate,ROUNDUP(H31,0)*FreeRate), IF(G31="R",IF(CEILING(H31,0.5)=0.5,RehPerfRate_1,IF(CEILING(H31,0.5)=1,RehPerfRate_2+RehPerfRate_1,IF(CEILING(H31,0.5)>=1.5,RehPerfRate_3+RehPerfRate_2+RehPerfRate_1))), IF(G31="P",(MIN(((CEILING(H31,0.5)-0.5)/0.5),2)*PerfPerfRate_subs)+PerfPerfRate_first, IF(OR(G31="N",AND(TYA="NO",G31="T2R")),(INT((H31)/1)*ON_subs)+MAX(MOD(H31,0.5),1)*ON_first, IF(G31="S",CEILING(H31,0.5)/0.5*SpanRate, IF(G31="E",ROUNDUP(H31,0)*EmergFreeRate,)))))))))} -> 0 | J31: =SUM($F$7:F31) -> 0 | K31: =IF(TYA="No"," Trav (Rest)","") -> Trav (Rest)
B32: =IF(B24="","",B24+1) -> 44008 | F32: =IF(OR(D32=0,E32=0),,HOUR(E32-D32+"24:00")+CEILING(MINUTE(E32-D32+"24:00")/60,0.25)) -> 0 | I32: {=IF(H32<=0,0, IF(OR(G32="O",G32="T1",AND(TYA="No",OR(G31="T2N",G32="T3"))),IF(OR(SUM(IF($G$31:$G31="O",$I$31:$I31,0))+SUM(IF($G$31:$G31="T1",$I$31:$I31,0))+SUM(IF($G$31:$G31="T2N",$I$31:$I31,0))+SUM(IF($G$31:$G31="T3",$I$31:$I31,0))=0),(CEILING(H32,0.5)-0.5)/0.5*Reg_Subs+Reg_First,CEILING(H32,0.5)/0.5*Reg_Subs), IF(G32="M",MIN((CEILING(H32,0.5)-0.5)/0.5,10)*Double_Subs+Double_First + N("MIN 10 kludge to avoid removing cap"), IF(G32="F",MAX(WeeklyFee/7,4*FreeRate,ROUNDUP(H32,0)*FreeRate), IF(G32="R",IF(CEILING(H32,0.5)=0.5,RehPerfRate_1,IF(CEILING(H32,0.5)=1,RehPerfRate_2+RehPerfRate_1,IF(CEILING(H32,0.5)>=1.5,RehPerfRate_3+RehPerfRate_2+RehPerfRate_1))), IF(G32="P",(MIN(((CEILING(H32,0.5)-0.5)/0.5),2)*PerfPerfRate_subs)+PerfPerfRate_first, IF(OR(G32="N",AND(TYA="NO",G32="T2R")),(INT((H32)/1)*ON_subs)+MAX(MOD(H32,0.5),1)*ON_first, IF(G32="S",CEILING(H32,0.5)/0.5*SpanRate, IF(G32="E",ROUNDUP(H32,0)*EmergFreeRate,)))))))))} -> 0 | J32: =SUM($F$7:F32) -> 0 | K32: =IF(TYA="No"," (49:17(C))","") -> (49:17(C))
F33: =IF(OR(D33=0,E33=0),,HOUR(E33-D33+"24:00")+CEILING(MINUTE(E33-D33+"24:00")/60,0.25)) -> 0 | I33: {=IF(H33<=0,0, IF(OR(G33="O",G33="T1",AND(TYA="No",OR(G32="T2N",G33="T3"))),IF(OR(SUM(IF($G$31:$G32="O",$I$31:$I32,0))+SUM(IF($G$31:$G32="T1",$I$31:$I32,0))+SUM(IF($G$31:$G32="T2N",$I$31:$I32,0))+SUM(IF($G$31:$G32="T3",$I$31:$I32,0))=0),(CEILING(H33,0.5)-0.5)/0.5*Reg_Subs+Reg_First,CEILING(H33,0.5)/0.5*Reg_Subs), IF(G33="M",MIN((CEILING(H33,0.5)-0.5)/0.5,10)*Double_Subs+Double_First + N("MIN 10 kludge to avoid removing cap"), IF(G33="F",MAX(WeeklyFee/7,4*FreeRate,ROUNDUP(H33,0)*FreeRate), IF(G33="R",IF(CEILING(H33,0.5)=0.5,RehPerfRate_1,IF(CEILING(H33,0.5)=1,RehPerfRate_2+RehPerfRate_1,IF(CEILING(H33,0.5)>=1.5,RehPerfRate_3+RehPerfRate_2+RehPerfRate_1))), IF(G33="P",(MIN(((CEILING(H33,0.5)-0.5)/0.5),2)*PerfPerfRate_subs)+PerfPerfRate_first, IF(OR(G33="N",AND(TYA="NO",G33="T2R")),(INT((H33)/1)*ON_subs)+MAX(MOD(H33,0.5),1)*ON_first, IF(G33="S",CEILING(H33,0.5)/0.5*SpanRate, IF(G33="E",ROUNDUP(H33,0)*EmergFreeRate,)))))))))} -> 0 | J33: =SUM($F$7:F33) -> 0 | K33: =IF(TYA="No","T3-Excess Bus","") -> T3-Excess Bus
F34: =IF(OR(D34=0,E34=0),,HOUR(E34-D34+"24:00")+CEILING(MINUTE(E34-D34+"24:00")/60,0.25)) -> 0 | I34: {=IF(H34<=0,0, IF(OR(G34="O",G34="T1",AND(TYA="No",OR(G33="T2N",G34="T3"))),IF(OR(SUM(IF($G$31:$G33="O",$I$31:$I33,0))+SUM(IF($G$31:$G33="T1",$I$31:$I33,0))+SUM(IF($G$31:$G33="T2N",$I$31:$I33,0))+SUM(IF($G$31:$G33="T3",$I$31:$I33,0))=0),(CEILING(H34,0.5)-0.5)/0.5*Reg_Subs+Reg_First,CEILING(H34,0.5)/0.5*Reg_Subs), IF(G34="M",MIN((CEILING(H34,0.5)-0.5)/0.5,10)*Double_Subs+Double_First + N("MIN 10 kludge to avoid removing cap"), IF(G34="F",MAX(WeeklyFee/7,4*FreeRate,ROUNDUP(H34,0)*FreeRate), IF(G34="R",IF(CEILING(H34,0.5)=0.5,RehPerfRate_1,IF(CEILING(H34,0.5)=1,RehPerfRate_2+RehPerfRate_1,IF(CEILING(H34,0.5)>=1.5,RehPerfRate_3+RehPerfRate_2+RehPerfRate_1))), IF(G34="P",(MIN(((CEILING(H34,0.5)-0.5)/0.5),2)*PerfPerfRate_subs)+PerfPerfRate_first, IF(OR(G34="N",AND(TYA="NO",G34="T2R")),(INT((H34)/1)*ON_subs)+MAX(MOD(H34,0.5),1)*ON_first, IF(G34="S",CEILING(H34,0.5)/0.5*SpanRate, IF(G34="E",ROUNDUP(H34,0)*EmergFreeRate,)))))))))} -> 0 | J34: =SUM($F$7:F34) -> 0 | K34: =IF(TYA="No"," Travel","") -> Travel
F35: =IF(OR(D35=0,E35=0),,HOUR(E35-D35+"24:00")+CEILING(MINUTE(E35-D35+"24:00")/60,0.25)) -> 0 | I35: {=IF(H35<=0,0, IF(OR(G35="O",G35="T1",AND(TYA="No",OR(G34="T2N",G35="T3"))),IF(OR(SUM(IF($G$31:$G34="O",$I$31:$I34,0))+SUM(IF($G$31:$G34="T1",$I$31:$I34,0))+SUM(IF($G$31:$G34="T2N",$I$31:$I34,0))+SUM(IF($G$31:$G34="T3",$I$31:$I34,0))=0),(CEILING(H35,0.5)-0.5)/0.5*Reg_Subs+Reg_First,CEILING(H35,0.5)/0.5*Reg_Subs), IF(G35="M",MIN((CEILING(H35,0.5)-0.5)/0.5,10)*Double_Subs+Double_First + N("MIN 10 kludge to avoid removing cap"), IF(G35="F",MAX(WeeklyFee/7,4*FreeRate,ROUNDUP(H35,0)*FreeRate), IF(G35="R",IF(CEILING(H35,0.5)=0.5,RehPerfRate_1,IF(CEILING(H35,0.5)=1,RehPerfRate_2+RehPerfRate_1,IF(CEILING(H35,0.5)>=1.5,RehPerfRate_3+RehPerfRate_2+RehPerfRate_1))), IF(G35="P",(MIN(((CEILING(H35,0.5)-0.5)/0.5),2)*PerfPerfRate_subs)+PerfPerfRate_first, IF(OR(G35="N",AND(TYA="NO",G35="T2R")),(INT((H35)/1)*ON_subs)+MAX(MOD(H35,0.5),1)*ON_first, IF(G35="S",CEILING(H35,0.5)/0.5*SpanRate, IF(G35="E",ROUNDUP(H35,0)*EmergFreeRate,)))))))))} -> 0 | J35: =SUM($F$7:F35) -> 0 | K35: =IF(TYA="No"," (49:21(E))","") -> (49:21(E))
F36: =IF(OR(D36=0,E36=0),,HOUR(E36-D36+"24:00")+CEILING(MINUTE(E36-D36+"24:00")/60,0.25)) -> 0 | I36: {=IF(H36<=0,0, IF(OR(G36="O",G36="T1",AND(TYA="No",OR(G35="T2N",G36="T3"))),IF(OR(SUM(IF($G$31:$G35="O",$I$31:$I35,0))+SUM(IF($G$31:$G35="T1",$I$31:$I35,0))+SUM(IF($G$31:$G35="T2N",$I$31:$I35,0))+SUM(IF($G$31:$G35="T3",$I$31:$I35,0))=0),(CEILING(H36,0.5)-0.5)/0.5*Reg_Subs+Reg_First,CEILING(H36,0.5)/0.5*Reg_Subs), IF(G36="M",MIN((CEILING(H36,0.5)-0.5)/0.5,10)*Double_Subs+Double_First + N("MIN 10 kludge to avoid removing cap"), IF(G36="F",MAX(WeeklyFee/7,4*FreeRate,ROUNDUP(H36,0)*FreeRate), IF(G36="R",IF(CEILING(H36,0.5)=0.5,RehPerfRate_1,IF(CEILING(H36,0.5)=1,RehPerfRate_2+RehPerfRate_1,IF(CEILING(H36,0.5)>=1.5,RehPerfRate_3+RehPerfRate_2+RehPerfRate_1))), IF(G36="P",(MIN(((CEILING(H36,0.5)-0.5)/0.5),2)*PerfPerfRate_subs)+PerfPerfRate_first, IF(OR(G36="N",AND(TYA="NO",G36="T2R")),(INT((H36)/1)*ON_subs)+MAX(MOD(H36,0.5),1)*ON_first, IF(G36="S",CEILING(H36,0.5)/0.5*SpanRate, IF(G36="E",ROUNDUP(H36,0)*EmergFreeRate,)))))))))} -> 0 | J36: =SUM($F$7:F36) -> 0
F37: =IF(OR(D37=0,E37=0),,HOUR(E37-D37+"24:00")+CEILING(MINUTE(E37-D37+"24:00")/60,0.25)) -> 0 | I37: {=IF(H37<=0,0, IF(OR(G37="O",G37="T1",AND(TYA="No",OR(G36="T2N",G37="T3"))),IF(OR(SUM(IF($G$31:$G36="O",$I$31:$I36,0))+SUM(IF($G$31:$G36="T1",$I$31:$I36,0))+SUM(IF($G$31:$G36="T2N",$I$31:$I36,0))+SUM(IF($G$31:$G36="T3",$I$31:$I36,0))=0),(CEILING(H37,0.5)-0.5)/0.5*Reg_Subs+Reg_First,CEILING(H37,0.5)/0.5*Reg_Subs), IF(G37="M",MIN((CEILING(H37,0.5)-0.5)/0.5,10)*Double_Subs+Double_First + N("MIN 10 kludge to avoid removing cap"), IF(G37="F",MAX(WeeklyFee/7,4*FreeRate,ROUNDUP(H37,0)*FreeRate), IF(G37="R",IF(CEILING(H37,0.5)=0.5,RehPerfRate_1,IF(CEILING(H37,0.5)=1,RehPerfRate_2+RehPerfRate_1,IF(CEILING(H37,0.5)>=1.5,RehPerfRate_3+RehPerfRate_2+RehPerfRate_1))), IF(G37="P",(MIN(((CEILING(H37,0.5)-0.5)/0.5),2)*PerfPerfRate_subs)+PerfPerfRate_first, IF(OR(G37="N",AND(TYA="NO",G37="T2R")),(INT((H37)/1)*ON_subs)+MAX(MOD(H37,0.5),1)*ON_first, IF(G37="S",CEILING(H37,0.5)/0.5*SpanRate, IF(G37="E",ROUNDUP(H37,0)*EmergFreeRate,)))))))))} -> 0 | J37: =SUM($F$7:F37) -> 0
F38: =IF(OR(D38=0,E38=0),,HOUR(E38-D38+"24:00")+CEILING(MINUTE(E38-D38+"24:00")/60,0.25)) -> 0 | I38: {=IF(H38<=0,0, IF(OR(G38="O",G38="T1",AND(TYA="No",OR(G37="T2N",G38="T3"))),IF(OR(SUM(IF($G$31:$G37="O",$I$31:$I37,0))+SUM(IF($G$31:$G37="T1",$I$31:$I37,0))+SUM(IF($G$31:$G37="T2N",$I$31:$I37,0))+SUM(IF($G$31:$G37="T3",$I$31:$I37,0))=0),(CEILING(H38,0.5)-0.5)/0.5*Reg_Subs+Reg_First,CEILING(H38,0.5)/0.5*Reg_Subs), IF(G38="M",MIN((CEILING(H38,0.5)-0.5)/0.5,10)*Double_Subs+Double_First + N("MIN 10 kludge to avoid removing cap"), IF(G38="F",MAX(WeeklyFee/7,4*FreeRate,ROUNDUP(H38,0)*FreeRate), IF(G38="R",IF(CEILING(H38,0.5)=0.5,RehPerfRate_1,IF(CEILING(H38,0.5)=1,RehPerfRate_2+RehPerfRate_1,IF(CEILING(H38,0.5)>=1.5,RehPerfRate_3+RehPerfRate_2+RehPerfRate_1))), IF(G38="P",(MIN(((CEILING(H38,0.5)-0.5)/0.5),2)*PerfPerfRate_subs)+PerfPerfRate_first, IF(OR(G38="N",AND(TYA="NO",G38="T2R")),(INT((H38)/1)*ON_subs)+MAX(MOD(H38,0.5),1)*ON_first, IF(G38="S",CEILING(H38,0.5)/0.5*SpanRate, IF(G38="E",ROUNDUP(H38,0)*EmergFreeRate,)))))))))} -> 0 | J38: =SUM($F$7:F38) -> 0
B39: =IF(B40="","",B40) -> 44009 | F39: =IF(OR(D39=0,E39=0),,HOUR(E39-D39+"24:00")+CEILING(MINUTE(E39-D39+"24:00")/60,0.25)) -> 0 | I39: {=IF(H39<=0,0, IF(OR(G39="O", G39="T1",AND(TYA="No",OR(G39="T2N",G39="T3"))),(CEILING(H39,0.5)-0.5)/0.5*Reg_Subs+Reg_First, IF(G39="M",MIN((CEILING(H39,0.5)-0.5)/0.5,10)*Double_Subs+Double_First + N("MIN 10 kludge to avoid removing cap"), IF(G39="F",MAX(WeeklyFee/7,4*FreeRate,ROUNDUP(H39,0)*FreeRate), IF(G39="R",IF(CEILING(H39,0.5)=0.5,RehPerfRate_1,IF(CEILING(H39,0.5)=1,RehPerfRate_2+RehPerfRate_1,IF(CEILING(H39,0.5)>=1.5,RehPerfRate_3+RehPerfRate_2+RehPerfRate_1))), IF(G39="P",(MIN(((CEILING(H39,0.5)-0.5)/0.5),2)*PerfPerfRate_subs)+PerfPerfRate_first, IF(OR(G39="N",AND(TYA="NO",G39="T2R")),(INT((H39)/1)*ON_subs)+MAX(MOD(H39,0.5),1)*ON_first, IF(G39="S",CEILING(H39,0.5)/0.5*SpanRate, IF(G39="E",ROUNDUP(H39,0)*EmergFreeRate,)))))))))} -> 0 | J39: =SUM($F$7:F39) -> 0
B40: =IF(B32="","",B32+1) -> 44009 | F40: =IF(OR(D40=0,E40=0),,HOUR(E40-D40+"24:00")+CEILING(MINUTE(E40-D40+"24:00")/60,0.25)) -> 0 | I40: {=IF(H40<=0,0, IF(OR(G40="O",G40="T1",AND(TYA="No",OR(G40="T2N",G40="T3"))),IF(OR(SUM(IF($G$39:$G39="O",$I$39:$I39,0))+SUM(IF($G$39:$G39="T1",$I$39:$I39,0))+SUM(IF($G$39:$G39="T2N",$I$39:$I39,0))+SUM(IF($G$39:$G39="T3",$I$39:$I39,0))=0),(CEILING(H40,0.5)-0.5)/0.5*Reg_Subs+Reg_First,CEILING(H40,0.5)/0.5*Reg_Subs), IF(G40="M",MIN((CEILING(H40,0.5)-0.5)/0.5,10)*Double_Subs+Double_First + N("MIN 10 kludge to avoid removing cap"), IF(G40="F",MAX(WeeklyFee/7,4*FreeRate,ROUNDUP(H40,0)*FreeRate), IF(G40="R",IF(CEILING(H40,0.5)=0.5,RehPerfRate_1,IF(CEILING(H40,0.5)=1,RehPerfRate_2+RehPerfRate_1,IF(CEILING(H40,0.5)>=1.5,RehPerfRate_3+RehPerfRate_2+RehPerfRate_1))), IF(G40="P",(MIN(((CEILING(H40,0.5)-0.5)/0.5),2)*PerfPerfRate_subs)+PerfPerfRate_first, IF(OR(G40="N",AND(TYA="NO",G40="T2R")),(INT((H40)/1)*ON_subs)+MAX(MOD(H40,0.5),1)*ON_first, IF(G40="S",CEILING(H40,0.5)/0.5*SpanRate, IF(G40="E",ROUNDUP(H40,0)*EmergFreeRate,)))))))))} -> 0 | J40: =SUM($F$7:F40) -> 0
F41: =IF(OR(D41=0,E41=0),,HOUR(E41-D41+"24:00")+CEILING(MINUTE(E41-D41+"24:00")/60,0.25)) -> 0 | I41: {=IF(H41<=0,0, IF(OR(G41="O",G41="T1",AND(TYA="No",OR(G41="T2N",G41="T3"))),IF(OR(SUM(IF($G$39:$G40="O",$I$39:$I40,0))+SUM(IF($G$39:$G40="T1",$I$39:$I40,0))+SUM(IF($G$39:$G40="T2N",$I$39:$I40,0))+SUM(IF($G$39:$G40="T3",$I$39:$I40,0))=0),(CEILING(H41,0.5)-0.5)/0.5*Reg_Subs+Reg_First,CEILING(H41,0.5)/0.5*Reg_Subs), IF(G41="M",MIN((CEILING(H41,0.5)-0.5)/0.5,10)*Double_Subs+Double_First + N("MIN 10 kludge to avoid removing cap"), IF(G41="F",MAX(WeeklyFee/7,4*FreeRate,ROUNDUP(H41,0)*FreeRate), IF(G41="R",IF(CEILING(H41,0.5)=0.5,RehPerfRate_1,IF(CEILING(H41,0.5)=1,RehPerfRate_2+RehPerfRate_1,IF(CEILING(H41,0.5)>=1.5,RehPerfRate_3+RehPerfRate_2+RehPerfRate_1))), IF(G41="P",(MIN(((CEILING(H41,0.5)-0.5)/0.5),2)*PerfPerfRate_subs)+PerfPerfRate_first, IF(OR(G41="N",AND(TYA="NO",G41="T2R")),(INT((H41)/1)*ON_subs)+MAX(MOD(H41,0.5),1)*ON_first, IF(G41="S",CEILING(H41,0.5)/0.5*SpanRate, IF(G41="E",ROUNDUP(H41,0)*EmergFreeRate,)))))))))} -> 0 | J41: =SUM($F$7:F41) -> 0
F42: =IF(OR(D42=0,E42=0),,HOUR(E42-D42+"24:00")+CEILING(MINUTE(E42-D42+"24:00")/60,0.25)) -> 0 | I42: {=IF(H42<=0,0, IF(OR(G42="O",G42="T1",AND(TYA="No",OR(G42="T2N",G42="T3"))),IF(OR(SUM(IF($G$39:$G41="O",$I$39:$I41,0))+SUM(IF($G$39:$G41="T1",$I$39:$I41,0))+SUM(IF($G$39:$G41="T2N",$I$39:$I41,0))+SUM(IF($G$39:$G41="T3",$I$39:$I41,0))=0),(CEILING(H42,0.5)-0.5)/0.5*Reg_Subs+Reg_First,CEILING(H42,0.5)/0.5*Reg_Subs), IF(G42="M",MIN((CEILING(H42,0.5)-0.5)/0.5,10)*Double_Subs+Double_First + N("MIN 10 kludge to avoid removing cap"), IF(G42="F",MAX(WeeklyFee/7,4*FreeRate,ROUNDUP(H42,0)*FreeRate), IF(G42="R",IF(CEILING(H42,0.5)=0.5,RehPerfRate_1,IF(CEILING(H42,0.5)=1,RehPerfRate_2+RehPerfRate_1,IF(CEILING(H42,0.5)>=1.5,RehPerfRate_3+RehPerfRate_2+RehPerfRate_1))), IF(G42="P",(MIN(((CEILING(H42,0.5)-0.5)/0.5),2)*PerfPerfRate_subs)+PerfPerfRate_first, IF(OR(G42="N",AND(TYA="NO",G42="T2R")),(INT((H42)/1)*ON_subs)+MAX(MOD(H42,0.5),1)*ON_first, IF(G42="S",CEILING(H42,0.5)/0.5*SpanRate, IF(G42="E",ROUNDUP(H42,0)*EmergFreeRate,)))))))))} -> 0 | J42: =SUM($F$7:F42) -> 0
F43: =IF(OR(D43=0,E43=0),,HOUR(E43-D43+"24:00")+CEILING(MINUTE(E43-D43+"24:00")/60,0.25)) -> 0 | I43: {=IF(H43<=0,0, IF(OR(G43="O",G43="T1",AND(TYA="No",OR(G43="T2N",G43="T3"))),IF(OR(SUM(IF($G$39:$G42="O",$I$39:$I42,0))+SUM(IF($G$39:$G42="T1",$I$39:$I42,0))+SUM(IF($G$39:$G42="T2N",$I$39:$I42,0))+SUM(IF($G$39:$G42="T3",$I$39:$I42,0))=0),(CEILING(H43,0.5)-0.5)/0.5*Reg_Subs+Reg_First,CEILING(H43,0.5)/0.5*Reg_Subs), IF(G43="M",MIN((CEILING(H43,0.5)-0.5)/0.5,10)*Double_Subs+Double_First + N("MIN 10 kludge to avoid removing cap"), IF(G43="F",MAX(WeeklyFee/7,4*FreeRate,ROUNDUP(H43,0)*FreeRate), IF(G43="R",IF(CEILING(H43,0.5)=0.5,RehPerfRate_1,IF(CEILING(H43,0.5)=1,RehPerfRate_2+RehPerfRate_1,IF(CEILING(H43,0.5)>=1.5,RehPerfRate_3+RehPerfRate_2+RehPerfRate_1))), IF(G43="P",(MIN(((CEILING(H43,0.5)-0.5)/0.5),2)*PerfPerfRate_subs)+PerfPerfRate_first, IF(OR(G43="N",AND(TYA="NO",G43="T2R")),(INT((H43)/1)*ON_subs)+MAX(MOD(H43,0.5),1)*ON_first, IF(G43="S",CEILING(H43,0.5)/0.5*SpanRate, IF(G43="E",ROUNDUP(H43,0)*EmergFreeRate,)))))))))} -> 0 | J43: =SUM($F$7:F43) -> 0
F44: =IF(OR(D44=0,E44=0),,HOUR(E44-D44+"24:00")+CEILING(MINUTE(E44-D44+"24:00")/60,0.25)) -> 0 | I44: {=IF(H44<=0,0, IF(OR(G44="O",G44="T1",AND(TYA="No",OR(G44="T2N",G44="T3"))),IF(OR(SUM(IF($G$39:$G43="O",$I$39:$I43,0))+SUM(IF($G$39:$G43="T1",$I$39:$I43,0))+SUM(IF($G$39:$G43="T2N",$I$39:$I43,0))+SUM(IF($G$39:$G43="T3",$I$39:$I43,0))=0),(CEILING(H44,0.5)-0.5)/0.5*Reg_Subs+Reg_First,CEILING(H44,0.5)/0.5*Reg_Subs), IF(G44="M",MIN((CEILING(H44,0.5)-0.5)/0.5,10)*Double_Subs+Double_First + N("MIN 10 kludge to avoid removing cap"), IF(G44="F",MAX(WeeklyFee/7,4*FreeRate,ROUNDUP(H44,0)*FreeRate), IF(G44="R",IF(CEILING(H44,0.5)=0.5,RehPerfRate_1,IF(CEILING(H44,0.5)=1,RehPerfRate_2+RehPerfRate_1,IF(CEILING(H44,0.5)>=1.5,RehPerfRate_3+RehPerfRate_2+RehPerfRate_1))), IF(G44="P",(MIN(((CEILING(H44,0.5)-0.5)/0.5),2)*PerfPerfRate_subs)+PerfPerfRate_first, IF(OR(G44="N",AND(TYA="NO",G44="T2R")),(INT((H44)/1)*ON_subs)+MAX(MOD(H44,0.5),1)*ON_first, IF(G44="S",CEILING(H44,0.5)/0.5*SpanRate, IF(G44="E",ROUNDUP(H44,0)*EmergFreeRate,)))))))))} -> 0 | J44: =SUM($F$7:F44) -> 0
F45: =IF(OR(D45=0,E45=0),,HOUR(E45-D45+"24:00")+CEILING(MINUTE(E45-D45+"24:00")/60,0.25)) -> 0 | I45: {=IF(H45<=0,0, IF(OR(G45="O",G45="T1",AND(TYA="No",OR(G45="T2N",G45="T3"))),IF(OR(SUM(IF($G$39:$G44="O",$I$39:$I44,0))+SUM(IF($G$39:$G44="T1",$I$39:$I44,0))+SUM(IF($G$39:$G44="T2N",$I$39:$I44,0))+SUM(IF($G$39:$G44="T3",$I$39:$I44,0))=0),(CEILING(H45,0.5)-0.5)/0.5*Reg_Subs+Reg_First,CEILING(H45,0.5)/0.5*Reg_Subs), IF(G45="M",MIN((CEILING(H45,0.5)-0.5)/0.5,10)*Double_Subs+Double_First + N("MIN 10 kludge to avoid removing cap"), IF(G45="F",MAX(WeeklyFee/7,4*FreeRate,ROUNDUP(H45,0)*FreeRate), IF(G45="R",IF(CEILING(H45,0.5)=0.5,RehPerfRate_1,IF(CEILING(H45,0.5)=1,RehPerfRate_2+RehPerfRate_1,IF(CEILING(H45,0.5)>=1.5,RehPerfRate_3+RehPerfRate_2+RehPerfRate_1))), IF(G45="P",(MIN(((CEILING(H45,0.5)-0.5)/0.5),2)*PerfPerfRate_subs)+PerfPerfRate_first, IF(OR(G45="N",AND(TYA="NO",G45="T2R")),(INT((H45)/1)*ON_subs)+MAX(MOD(H45,0.5),1)*ON_first, IF(G45="S",CEILING(H45,0.5)/0.5*SpanRate, IF(G45="E",ROUNDUP(H45,0)*EmergFreeRate,)))))))))} -> 0 | J45: =SUM($F$7:F45) -> 0
F46: =IF(OR(D46=0,E46=0),,HOUR(E46-D46+"24:00")+CEILING(MINUTE(E46-D46+"24:00")/60,0.25)) -> 0 | I46: {=IF(H46<=0,0, IF(OR(G46="O",G46="T1",AND(TYA="No",OR(G46="T2N",G46="T3"))),IF(OR(SUM(IF($G$39:$G45="O",$I$39:$I45,0))+SUM(IF($G$39:$G45="T1",$I$39:$I45,0))+SUM(IF($G$39:$G45="T2N",$I$39:$I45,0))+SUM(IF($G$39:$G45="T3",$I$39:$I45,0))=0),(CEILING(H46,0.5)-0.5)/0.5*Reg_Subs+Reg_First,CEILING(H46,0.5)/0.5*Reg_Subs), IF(G46="M",MIN((CEILING(H46,0.5)-0.5)/0.5,10)*Double_Subs+Double_First + N("MIN 10 kludge to avoid removing cap"), IF(G46="F",MAX(WeeklyFee/7,4*FreeRate,ROUNDUP(H46,0)*FreeRate), IF(G46="R",IF(CEILING(H46,0.5)=0.5,RehPerfRate_1,IF(CEILING(H46,0.5)=1,RehPerfRate_2+RehPerfRate_1,IF(CEILING(H46,0.5)>=1.5,RehPerfRate_3+RehPerfRate_2+RehPerfRate_1))), IF(G46="P",(MIN(((CEILING(H46,0.5)-0.5)/0.5),2)*PerfPerfRate_subs)+PerfPerfRate_first, IF(OR(G46="N",AND(TYA="NO",G46="T2R")),(INT((H46)/1)*ON_subs)+MAX(MOD(H46,0.5),1)*ON_first, IF(G46="S",CEILING(H46,0.5)/0.5*SpanRate, IF(G46="E",ROUNDUP(H46,0)*EmergFreeRate,)))))))))} -> 0 | J46: =SUM($F$7:F46) -> 0
B47: =IF(B48="","",B48) -> 44010 | F47: =IF(OR(D47=0,E47=0),,HOUR(E47-D47+"24:00")+CEILING(MINUTE(E47-D47+"24:00")/60,0.25)) -> 0 | I47: {=IF(H47<=0,0, IF(OR(G47="O", G47="T1",AND(TYA="No",OR(G47="T2N",G47="T3"))),(CEILING(H47,0.5)-0.5)/0.5*Reg_Subs+Reg_First, IF(G47="M",MIN((CEILING(H47,0.5)-0.5)/0.5,10)*Double_Subs+Double_First + N("MIN 10 kludge to avoid removing cap"), IF(G47="F",MAX(WeeklyFee/7,4*FreeRate,ROUNDUP(H47,0)*FreeRate), IF(G47="R",IF(CEILING(H47,0.5)=0.5,RehPerfRate_1,IF(CEILING(H47,0.5)=1,RehPerfRate_2+RehPerfRate_1,IF(CEILING(H47,0.5)>=1.5,RehPerfRate_3+RehPerfRate_2+RehPerfRate_1))), IF(G47="P",(MIN(((CEILING(H47,0.5)-0.5)/0.5),2)*PerfPerfRate_subs)+PerfPerfRate_first, IF(OR(G47="N",AND(TYA="NO",G47="T2R")),(INT((H47)/1)*ON_subs)+MAX(MOD(H47,0.5),1)*ON_first, IF(G47="S",CEILING(H47,0.5)/0.5*SpanRate, IF(G47="E",ROUNDUP(H47,0)*EmergFreeRate,)))))))))} -> 0 | J47: =SUM($F$7:F47) -> 0
B48: =IF(B40="","",B40+1) -> 44010 | F48: =IF(OR(D48=0,E48=0),,HOUR(E48-D48+"24:00")+CEILING(MINUTE(E48-D48+"24:00")/60,0.25)) -> 0 | I48: {=IF(H48<=0,0, IF(OR(G48="O",G48="T1",AND(TYA="No",OR(G48="T2N",G48="T3"))),IF(OR(SUM(IF($G$47:$G47="O",$I$47:$I47,0))+SUM(IF($G$47:$G47="T1",$I$47:$I47,0))+SUM(IF($G$47:$G47="T2N",$I$47:$I47,0))+SUM(IF($G$47:$G47="T3",$I$47:$I47,0))=0),(CEILING(H48,0.5)-0.5)/0.5*Reg_Subs+Reg_First,CEILING(H48,0.5)/0.5*Reg_Subs), IF(G48="M",MIN((CEILING(H48,0.5)-0.5)/0.5,10)*Double_Subs+Double_First + N("MIN 10 kludge to avoid removing cap"), IF(G48="F",MAX(WeeklyFee/7,4*FreeRate,ROUNDUP(H48,0)*FreeRate), IF(G48="R",IF(CEILING(H48,0.5)=0.5,RehPerfRate_1,IF(CEILING(H48,0.5)=1,RehPerfRate_2+RehPerfRate_1,IF(CEILING(H48,0.5)>=1.5,RehPerfRate_3+RehPerfRate_2+RehPerfRate_1))), IF(G48="P",(MIN(((CEILING(H48,0.5)-0.5)/0.5),2)*PerfPerfRate_subs)+PerfPerfRate_first, IF(OR(G48="N",AND(TYA="NO",G48="T2R")),(INT((H48)/1)*ON_subs)+MAX(MOD(H48,0.5),1)*ON_first, IF(G48="S",CEILING(H48,0.5)/0.5*SpanRate, IF(G48="E",ROUNDUP(H48,0)*EmergFreeRate,)))))))))} -> 0 | J48: =SUM($F$7:F48) -> 0
F49: =IF(OR(D49=0,E49=0),,HOUR(E49-D49+"24:00")+CEILING(MINUTE(E49-D49+"24:00")/60,0.25)) -> 0 | I49: {=IF(H49<=0,0, IF(OR(G49="O",G49="T1",AND(TYA="No",OR(G49="T2N",G49="T3"))),IF(OR(SUM(IF($G$47:$G48="O",$I$47:$I48,0))+SUM(IF($G$47:$G48="T1",$I$47:$I48,0))+SUM(IF($G$47:$G48="T2N",$I$47:$I48,0))+SUM(IF($G$47:$G48="T3",$I$47:$I48,0))=0),(CEILING(H49,0.5)-0.5)/0.5*Reg_Subs+Reg_First,CEILING(H49,0.5)/0.5*Reg_Subs), IF(G49="M",MIN((CEILING(H49,0.5)-0.5)/0.5,10)*Double_Subs+Double_First + N("MIN 10 kludge to avoid removing cap"), IF(G49="F",MAX(WeeklyFee/7,4*FreeRate,ROUNDUP(H49,0)*FreeRate), IF(G49="R",IF(CEILING(H49,0.5)=0.5,RehPerfRate_1,IF(CEILING(H49,0.5)=1,RehPerfRate_2+RehPerfRate_1,IF(CEILING(H49,0.5)>=1.5,RehPerfRate_3+RehPerfRate_2+RehPerfRate_1))), IF(G49="P",(MIN(((CEILING(H49,0.5)-0.5)/0.5),2)*PerfPerfRate_subs)+PerfPerfRate_first, IF(OR(G49="N",AND(TYA="NO",G49="T2R")),(INT((H49)/1)*ON_subs)+MAX(MOD(H49,0.5),1)*ON_first, IF(G49="S",CEILING(H49,0.5)/0.5*SpanRate, IF(G49="E",ROUNDUP(H49,0)*EmergFreeRate,)))))))))} -> 0 | J49: =SUM($F$7:F49) -> 0
F50: =IF(OR(D50=0,E50=0),,HOUR(E50-D50+"24:00")+CEILING(MINUTE(E50-D50+"24:00")/60,0.25)) -> 0 | I50: {=IF(H50<=0,0, IF(OR(G50="O",G50="T1",AND(TYA="No",OR(G50="T2N",G50="T3"))),IF(OR(SUM(IF($G$47:$G49="O",$I$47:$I49,0))+SUM(IF($G$47:$G49="T1",$I$47:$I49,0))+SUM(IF($G$47:$G49="T2N",$I$47:$I49,0))+SUM(IF($G$47:$G49="T3",$I$47:$I49,0))=0),(CEILING(H50,0.5)-0.5)/0.5*Reg_Subs+Reg_First,CEILING(H50,0.5)/0.5*Reg_Subs), IF(G50="M",MIN((CEILING(H50,0.5)-0.5)/0.5,10)*Double_Subs+Double_First + N("MIN 10 kludge to avoid removing cap"), IF(G50="F",MAX(WeeklyFee/7,4*FreeRate,ROUNDUP(H50,0)*FreeRate), IF(G50="R",IF(CEILING(H50,0.5)=0.5,RehPerfRate_1,IF(CEILING(H50,0.5)=1,RehPerfRate_2+RehPerfRate_1,IF(CEILING(H50,0.5)>=1.5,RehPerfRate_3+RehPerfRate_2+RehPerfRate_1))), IF(G50="P",(MIN(((CEILING(H50,0.5)-0.5)/0.5),2)*PerfPerfRate_subs)+PerfPerfRate_first, IF(OR(G50="N",AND(TYA="NO",G50="T2R")),(INT((H50)/1)*ON_subs)+MAX(MOD(H50,0.5),1)*ON_first, IF(G50="S",CEILING(H50,0.5)/0.5*SpanRate, IF(G50="E",ROUNDUP(H50,0)*EmergFreeRate,)))))))))} -> 0 | J50: =SUM($F$7:F50) -> 0
F51: =IF(OR(D51=0,E51=0),,HOUR(E51-D51+"24:00")+CEILING(MINUTE(E51-D51+"24:00")/60,0.25)) -> 0 | I51: {=IF(H51<=0,0, IF(OR(G51="O",G51="T1",AND(TYA="No",OR(G51="T2N",G51="T3"))),IF(OR(SUM(IF($G$47:$G50="O",$I$47:$I50,0))+SUM(IF($G$47:$G50="T1",$I$47:$I50,0))+SUM(IF($G$47:$G50="T2N",$I$47:$I50,0))+SUM(IF($G$47:$G50="T3",$I$47:$I50,0))=0),(CEILING(H51,0.5)-0.5)/0.5*Reg_Subs+Reg_First,CEILING(H51,0.5)/0.5*Reg_Subs), IF(G51="M",MIN((CEILING(H51,0.5)-0.5)/0.5,10)*Double_Subs+Double_First + N("MIN 10 kludge to avoid removing cap"), IF(G51="F",MAX(WeeklyFee/7,4*FreeRate,ROUNDUP(H51,0)*FreeRate), IF(G51="R",IF(CEILING(H51,0.5)=0.5,RehPerfRate_1,IF(CEILING(H51,0.5)=1,RehPerfRate_2+RehPerfRate_1,IF(CEILING(H51,0.5)>=1.5,RehPerfRate_3+RehPerfRate_2+RehPerfRate_1))), IF(G51="P",(MIN(((CEILING(H51,0.5)-0.5)/0.5),2)*PerfPerfRate_subs)+PerfPerfRate_first, IF(OR(G51="N",AND(TYA="NO",G51="T2R")),(INT((H51)/1)*ON_subs)+MAX(MOD(H51,0.5),1)*ON_first, IF(G51="S",CEILING(H51,0.5)/0.5*SpanRate, IF(G51="E",ROUNDUP(H51,0)*EmergFreeRate,)))))))))} -> 0 | J51: =SUM($F$7:F51) -> 0
F52: =IF(OR(D52=0,E52=0),,HOUR(E52-D52+"24:00")+CEILING(MINUTE(E52-D52+"24:00")/60,0.25)) -> 0 | I52: {=IF(H52<=0,0, IF(OR(G52="O",G52="T1",AND(TYA="No",OR(G52="T2N",G52="T3"))),IF(OR(SUM(IF($G$47:$G51="O",$I$47:$I51,0))+SUM(IF($G$47:$G51="T1",$I$47:$I51,0))+SUM(IF($G$47:$G51="T2N",$I$47:$I51,0))+SUM(IF($G$47:$G51="T3",$I$47:$I51,0))=0),(CEILING(H52,0.5)-0.5)/0.5*Reg_Subs+Reg_First,CEILING(H52,0.5)/0.5*Reg_Subs), IF(G52="M",MIN((CEILING(H52,0.5)-0.5)/0.5,10)*Double_Subs+Double_First + N("MIN 10 kludge to avoid removing cap"), IF(G52="F",MAX(WeeklyFee/7,4*FreeRate,ROUNDUP(H52,0)*FreeRate), IF(G52="R",IF(CEILING(H52,0.5)=0.5,RehPerfRate_1,IF(CEILING(H52,0.5)=1,RehPerfRate_2+RehPerfRate_1,IF(CEILING(H52,0.5)>=1.5,RehPerfRate_3+RehPerfRate_2+RehPerfRate_1))), IF(G52="P",(MIN(((CEILING(H52,0.5)-0.5)/0.5),2)*PerfPerfRate_subs)+PerfPerfRate_first, IF(OR(G52="N",AND(TYA="NO",G52="T2R")),(INT((H52)/1)*ON_subs)+MAX(MOD(H52,0.5),1)*ON_first, IF(G52="S",CEILING(H52,0.5)/0.5*SpanRate, IF(G52="E",ROUNDUP(H52,0)*EmergFreeRate,)))))))))} -> 0 | J52: =SUM($F$7:F52) -> 0
F53: =IF(OR(D53=0,E53=0),,HOUR(E53-D53+"24:00")+CEILING(MINUTE(E53-D53+"24:00")/60,0.25)) -> 0 | I53: {=IF(H53<=0,0, IF(OR(G53="O",G53="T1",AND(TYA="No",OR(G53="T2N",G53="T3"))),IF(OR(SUM(IF($G$47:$G52="O",$I$47:$I52,0))+SUM(IF($G$47:$G52="T1",$I$47:$I52,0))+SUM(IF($G$47:$G52="T2N",$I$47:$I52,0))+SUM(IF($G$47:$G52="T3",$I$47:$I52,0))=0),(CEILING(H53,0.5)-0.5)/0.5*Reg_Subs+Reg_First,CEILING(H53,0.5)/0.5*Reg_Subs), IF(G53="M",MIN((CEILING(H53,0.5)-0.5)/0.5,10)*Double_Subs+Double_First + N("MIN 10 kludge to avoid removing cap"), IF(G53="F",MAX(WeeklyFee/7,4*FreeRate,ROUNDUP(H53,0)*FreeRate), IF(G53="R",IF(CEILING(H53,0.5)=0.5,RehPerfRate_1,IF(CEILING(H53,0.5)=1,RehPerfRate_2+RehPerfRate_1,IF(CEILING(H53,0.5)>=1.5,RehPerfRate_3+RehPerfRate_2+RehPerfRate_1))), IF(G53="P",(MIN(((CEILING(H53,0.5)-0.5)/0.5),2)*PerfPerfRate_subs)+PerfPerfRate_first, IF(OR(G53="N",AND(TYA="NO",G53="T2R")),(INT((H53)/1)*ON_subs)+MAX(MOD(H53,0.5),1)*ON_first, IF(G53="S",CEILING(H53,0.5)/0.5*SpanRate, IF(G53="E",ROUNDUP(H53,0)*EmergFreeRate,)))))))))} -> 0 | J53: =SUM($F$7:F53) -> 0
F54: =IF(OR(D54=0,E54=0),,HOUR(E54-D54+"24:00")+CEILING(MINUTE(E54-D54+"24:00")/60,0.25)) -> 0 | I54: {=IF(H54<=0,0, IF(OR(G54="O",G54="T1",AND(TYA="No",OR(G54="T2N",G54="T3"))),IF(OR(SUM(IF($G$47:$G53="O",$I$47:$I53,0))+SUM(IF($G$47:$G53="T1",$I$47:$I53,0))+SUM(IF($G$47:$G53="T2N",$I$47:$I53,0))+SUM(IF($G$47:$G53="T3",$I$47:$I53,0))=0),(CEILING(H54,0.5)-0.5)/0.5*Reg_Subs+Reg_First,CEILING(H54,0.5)/0.5*Reg_Subs), IF(G54="M",MIN((CEILING(H54,0.5)-0.5)/0.5,10)*Double_Subs+Double_First + N("MIN 10 kludge to avoid removing cap"), IF(G54="F",MAX(WeeklyFee/7,4*FreeRate,ROUNDUP(H54,0)*FreeRate), IF(G54="R",IF(CEILING(H54,0.5)=0.5,RehPerfRate_1,IF(CEILING(H54,0.5)=1,RehPerfRate_2+RehPerfRate_1,IF(CEILING(H54,0.5)>=1.5,RehPerfRate_3+RehPerfRate_2+RehPerfRate_1))), IF(G54="P",(MIN(((CEILING(H54,0.5)-0.5)/0.5),2)*PerfPerfRate_subs)+PerfPerfRate_first, IF(OR(G54="N",AND(TYA="NO",G54="T2R")),(INT((H54)/1)*ON_subs)+MAX(MOD(H54,0.5),1)*ON_first, IF(G54="S",CEILING(H54,0.5)/0.5*SpanRate, IF(G54="E",ROUNDUP(H54,0)*EmergFreeRate,)))))))))} -> 0 | J54: =SUM($F$7:F54) -> 0
B55: =IF(B56="","",B56) -> 44011 | F55: =IF(OR(D55=0,E55=0),,HOUR(E55-D55+"24:00")+CEILING(MINUTE(E55-D55+"24:00")/60,0.25)) -> 0 | I55: {=IF(H55<=0,0, IF(OR(G55="O", G55="T1",AND(TYA="No",OR(G55="T2N",G55="T3"))),(CEILING(H55,0.5)-0.5)/0.5*Reg_Subs+Reg_First, IF(G55="M",MIN((CEILING(H55,0.5)-0.5)/0.5,10)*Double_Subs+Double_First + N("MIN 10 kludge to avoid removing cap"), IF(G55="F",MAX(WeeklyFee/7,4*FreeRate,ROUNDUP(H55,0)*FreeRate), IF(G55="R",IF(CEILING(H55,0.5)=0.5,RehPerfRate_1,IF(CEILING(H55,0.5)=1,RehPerfRate_2+RehPerfRate_1,IF(CEILING(H55,0.5)>=1.5,RehPerfRate_3+RehPerfRate_2+RehPerfRate_1))), IF(G55="P",(MIN(((CEILING(H55,0.5)-0.5)/0.5),2)*PerfPerfRate_subs)+PerfPerfRate_first, IF(OR(G55="N",AND(TYA="NO",G55="T2R")),(INT((H55)/1)*ON_subs)+MAX(MOD(H55,0.5),1)*ON_first, IF(G55="S",CEILING(H55,0.5)/0.5*SpanRate, IF(G55="E",ROUNDUP(H55,0)*EmergFreeRate,)))))))))} -> 0 | J55: =SUM($F$7:F55) -> 0
B56: =IF(B48="","",B48+1) -> 44011 | F56: =IF(OR(D56=0,E56=0),,HOUR(E56-D56+"24:00")+CEILING(MINUTE(E56-D56+"24:00")/60,0.25)) -> 0 | I56: {=IF(H56<=0,0, IF(OR(G56="O",G56="T1",AND(TYA="No",OR(G56="T2N",G56="T3"))),IF(OR(SUM(IF($G$55:$G55="O",$I$55:$I55,0))+SUM(IF($G$55:$G55="T1",$I$55:$I55,0))+SUM(IF($G$55:$G55="T2N",$I$55:$I55,0))+SUM(IF($G$55:$G55="T3",$I$55:$I55,0))=0),(CEILING(H56,0.5)-0.5)/0.5*Reg_Subs+Reg_First,CEILING(H56,0.5)/0.5*Reg_Subs), IF(G56="M",MIN((CEILING(H56,0.5)-0.5)/0.5,10)*Double_Subs+Double_First + N("MIN 10 kludge to avoid removing cap"), IF(G56="F",MAX(WeeklyFee/7,4*FreeRate,ROUNDUP(H56,0)*FreeRate), IF(G56="R",IF(CEILING(H56,0.5)=0.5,RehPerfRate_1,IF(CEILING(H56,0.5)=1,RehPerfRate_2+RehPerfRate_1,IF(CEILING(H56,0.5)>=1.5,RehPerfRate_3+RehPerfRate_2+RehPerfRate_1))), IF(G56="P",(MIN(((CEILING(H56,0.5)-0.5)/0.5),2)*PerfPerfRate_subs)+PerfPerfRate_first, IF(OR(G56="N",AND(TYA="NO",G56="T2R")),(INT((H56)/1)*ON_subs)+MAX(MOD(H56,0.5),1)*ON_first, IF(G56="S",CEILING(H56,0.5)/0.5*SpanRate, IF(G56="E",ROUNDUP(H56,0)*EmergFreeRate,)))))))))} -> 0 | J56: =SUM($F$7:F56) -> 0
F57: =IF(OR(D57=0,E57=0),,HOUR(E57-D57+"24:00")+CEILING(MINUTE(E57-D57+"24:00")/60,0.25)) -> 0 | I57: {=IF(H57<=0,0, IF(OR(G57="O",G57="T1",AND(TYA="No",OR(G57="T2N",G57="T3"))),IF(OR(SUM(IF($G$55:$G56="O",$I$55:$I56,0))+SUM(IF($G$55:$G56="T1",$I$55:$I56,0))+SUM(IF($G$55:$G56="T2N",$I$55:$I56,0))+SUM(IF($G$55:$G56="T3",$I$55:$I56,0))=0),(CEILING(H57,0.5)-0.5)/0.5*Reg_Subs+Reg_First,CEILING(H57,0.5)/0.5*Reg_Subs), IF(G57="M",MIN((CEILING(H57,0.5)-0.5)/0.5,10)*Double_Subs+Double_First + N("MIN 10 kludge to avoid removing cap"), IF(G57="F",MAX(WeeklyFee/7,4*FreeRate,ROUNDUP(H57,0)*FreeRate), IF(G57="R",IF(CEILING(H57,0.5)=0.5,RehPerfRate_1,IF(CEILING(H57,0.5)=1,RehPerfRate_2+RehPerfRate_1,IF(CEILING(H57,0.5)>=1.5,RehPerfRate_3+RehPerfRate_2+RehPerfRate_1))), IF(G57="P",(MIN(((CEILING(H57,0.5)-0.5)/0.5),2)*PerfPerfRate_subs)+PerfPerfRate_first, IF(OR(G57="N",AND(TYA="NO",G57="T2R")),(INT((H57)/1)*ON_subs)+MAX(MOD(H57,0.5),1)*ON_first, IF(G57="S",CEILING(H57,0.5)/0.5*SpanRate, IF(G57="E",ROUNDUP(H57,0)*EmergFreeRate,)))))))))} -> 0 | J57: =SUM($F$7:F57) -> 0
F58: =IF(OR(D58=0,E58=0),,HOUR(E58-D58+"24:00")+CEILING(MINUTE(E58-D58+"24:00")/60,0.25)) -> 0 | I58: {=IF(H58<=0,0, IF(OR(G58="O",G58="T1",AND(TYA="No",OR(G58="T2N",G58="T3"))),IF(OR(SUM(IF($G$55:$G57="O",$I$55:$I57,0))+SUM(IF($G$55:$G57="T1",$I$55:$I57,0))+SUM(IF($G$55:$G57="T2N",$I$55:$I57,0))+SUM(IF($G$55:$G57="T3",$I$55:$I57,0))=0),(CEILING(H58,0.5)-0.5)/0.5*Reg_Subs+Reg_First,CEILING(H58,0.5)/0.5*Reg_Subs), IF(G58="M",MIN((CEILING(H58,0.5)-0.5)/0.5,10)*Double_Subs+Double_First + N("MIN 10 kludge to avoid removing cap"), IF(G58="F",MAX(WeeklyFee/7,4*FreeRate,ROUNDUP(H58,0)*FreeRate), IF(G58="R",IF(CEILING(H58,0.5)=0.5,RehPerfRate_1,IF(CEILING(H58,0.5)=1,RehPerfRate_2+RehPerfRate_1,IF(CEILING(H58,0.5)>=1.5,RehPerfRate_3+RehPerfRate_2+RehPerfRate_1))), IF(G58="P",(MIN(((CEILING(H58,0.5)-0.5)/0.5),2)*PerfPerfRate_subs)+PerfPerfRate_first, IF(OR(G58="N",AND(TYA="NO",G58="T2R")),(INT((H58)/1)*ON_subs)+MAX(MOD(H58,0.5),1)*ON_first, IF(G58="S",CEILING(H58,0.5)/0.5*SpanRate, IF(G58="E",ROUNDUP(H58,0)*EmergFreeRate,)))))))))} -> 0 | J58: =SUM($F$7:F58) -> 0
F59: =IF(OR(D59=0,E59=0),,HOUR(E59-D59+"24:00")+CEILING(MINUTE(E59-D59+"24:00")/60,0.25)) -> 0 | I59: {=IF(H59<=0,0, IF(OR(G59="O",G59="T1",AND(TYA="No",OR(G59="T2N",G59="T3"))),IF(OR(SUM(IF($G$55:$G58="O",$I$55:$I58,0))+SUM(IF($G$55:$G58="T1",$I$55:$I58,0))+SUM(IF($G$55:$G58="T2N",$I$55:$I58,0))+SUM(IF($G$55:$G58="T3",$I$55:$I58,0))=0),(CEILING(H59,0.5)-0.5)/0.5*Reg_Subs+Reg_First,CEILING(H59,0.5)/0.5*Reg_Subs), IF(G59="M",MIN((CEILING(H59,0.5)-0.5)/0.5,10)*Double_Subs+Double_First + N("MIN 10 kludge to avoid removing cap"), IF(G59="F",MAX(WeeklyFee/7,4*FreeRate,ROUNDUP(H59,0)*FreeRate), IF(G59="R",IF(CEILING(H59,0.5)=0.5,RehPerfRate_1,IF(CEILING(H59,0.5)=1,RehPerfRate_2+RehPerfRate_1,IF(CEILING(H59,0.5)>=1.5,RehPerfRate_3+RehPerfRate_2+RehPerfRate_1))), IF(G59="P",(MIN(((CEILING(H59,0.5)-0.5)/0.5),2)*PerfPerfRate_subs)+PerfPerfRate_first, IF(OR(G59="N",AND(TYA="NO",G59="T2R")),(INT((H59)/1)*ON_subs)+MAX(MOD(H59,0.5),1)*ON_first, IF(G59="S",CEILING(H59,0.5)/0.5*SpanRate, IF(G59="E",ROUNDUP(H59,0)*EmergFreeRate,)))))))))} -> 0 | J59: =SUM($F$7:F59) -> 0
F60: =IF(OR(D60=0,E60=0),,HOUR(E60-D60+"24:00")+CEILING(MINUTE(E60-D60+"24:00")/60,0.25)) -> 0 | I60: {=IF(H60<=0,0, IF(OR(G60="O",G60="T1",AND(TYA="No",OR(G60="T2N",G60="T3"))),IF(OR(SUM(IF($G$55:$G59="O",$I$55:$I59,0))+SUM(IF($G$55:$G59="T1",$I$55:$I59,0))+SUM(IF($G$55:$G59="T2N",$I$55:$I59,0))+SUM(IF($G$55:$G59="T3",$I$55:$I59,0))=0),(CEILING(H60,0.5)-0.5)/0.5*Reg_Subs+Reg_First,CEILING(H60,0.5)/0.5*Reg_Subs), IF(G60="M",MIN((CEILING(H60,0.5)-0.5)/0.5,10)*Double_Subs+Double_First + N("MIN 10 kludge to avoid removing cap"), IF(G60="F",MAX(WeeklyFee/7,4*FreeRate,ROUNDUP(H60,0)*FreeRate), IF(G60="R",IF(CEILING(H60,0.5)=0.5,RehPerfRate_1,IF(CEILING(H60,0.5)=1,RehPerfRate_2+RehPerfRate_1,IF(CEILING(H60,0.5)>=1.5,RehPerfRate_3+RehPerfRate_2+RehPerfRate_1))), IF(G60="P",(MIN(((CEILING(H60,0.5)-0.5)/0.5),2)*PerfPerfRate_subs)+PerfPerfRate_first, IF(OR(G60="N",AND(TYA="NO",G60="T2R")),(INT((H60)/1)*ON_subs)+MAX(MOD(H60,0.5),1)*ON_first, IF(G60="S",CEILING(H60,0.5)/0.5*SpanRate, IF(G60="E",ROUNDUP(H60,0)*EmergFreeRate,)))))))))} -> 0 | J60: =SUM($F$7:F60) -> 0
F61: =IF(OR(D61=0,E61=0),,HOUR(E61-D61+"24:00")+CEILING(MINUTE(E61-D61+"24:00")/60,0.25)) -> 0 | I61: {=IF(H61<=0,0, IF(OR(G61="O",G61="T1",AND(TYA="No",OR(G61="T2N",G61="T3"))),IF(OR(SUM(IF($G$55:$G60="O",$I$55:$I60,0))+SUM(IF($G$55:$G60="T1",$I$55:$I60,0))+SUM(IF($G$55:$G60="T2N",$I$55:$I60,0))+SUM(IF($G$55:$G60="T3",$I$55:$I60,0))=0),(CEILING(H61,0.5)-0.5)/0.5*Reg_Subs+Reg_First,CEILING(H61,0.5)/0.5*Reg_Subs), IF(G61="M",MIN((CEILING(H61,0.5)-0.5)/0.5,10)*Double_Subs+Double_First + N("MIN 10 kludge to avoid removing cap"), IF(G61="F",MAX(WeeklyFee/7,4*FreeRate,ROUNDUP(H61,0)*FreeRate), IF(G61="R",IF(CEILING(H61,0.5)=0.5,RehPerfRate_1,IF(CEILING(H61,0.5)=1,RehPerfRate_2+RehPerfRate_1,IF(CEILING(H61,0.5)>=1.5,RehPerfRate_3+RehPerfRate_2+RehPerfRate_1))), IF(G61="P",(MIN(((CEILING(H61,0.5)-0.5)/0.5),2)*PerfPerfRate_subs)+PerfPerfRate_first, IF(OR(G61="N",AND(TYA="NO",G61="T2R")),(INT((H61)/1)*ON_subs)+MAX(MOD(H61,0.5),1)*ON_first, IF(G61="S",CEILING(H61,0.5)/0.5*SpanRate, IF(G61="E",ROUNDUP(H61,0)*EmergFreeRate,)))))))))} -> 0 | J61: =SUM($F$7:F61) -> 0
F62: =IF(OR(D62=0,E62=0),,HOUR(E62-D62+"24:00")+CEILING(MINUTE(E62-D62+"24:00")/60,0.25)) -> 0 | I62: {=IF(H62<=0,0, IF(OR(G62="O",G62="T1",AND(TYA="No",OR(G62="T2N",G62="T3"))),IF(OR(SUM(IF($G$55:$G61="O",$I$55:$I61,0))+SUM(IF($G$55:$G61="T1",$I$55:$I61,0))+SUM(IF($G$55:$G61="T2N",$I$55:$I61,0))+SUM(IF($G$55:$G61="T3",$I$55:$I61,0))=0),(CEILING(H62,0.5)-0.5)/0.5*Reg_Subs+Reg_First,CEILING(H62,0.5)/0.5*Reg_Subs), IF(G62="M",MIN((CEILING(H62,0.5)-0.5)/0.5,10)*Double_Subs+Double_First + N("MIN 10 kludge to avoid removing cap"), IF(G62="F",MAX(WeeklyFee/7,4*FreeRate,ROUNDUP(H62,0)*FreeRate), IF(G62="R",IF(CEILING(H62,0.5)=0.5,RehPerfRate_1,IF(CEILING(H62,0.5)=1,RehPerfRate_2+RehPerfRate_1,IF(CEILING(H62,0.5)>=1.5,RehPerfRate_3+RehPerfRate_2+RehPerfRate_1))), IF(G62="P",(MIN(((CEILING(H62,0.5)-0.5)/0.5),2)*PerfPerfRate_subs)+PerfPerfRate_first, IF(OR(G62="N",AND(TYA="NO",G62="T2R")),(INT((H62)/1)*ON_subs)+MAX(MOD(H62,0.5),1)*ON_first, IF(G62="S",CEILING(H62,0.5)/0.5*SpanRate, IF(G62="E",ROUNDUP(H62,0)*EmergFreeRate,)))))))))} -> 0 | J62: =SUM($F$7:F62) -> 0
E63: TOTALS | F63: =SUM(F7:F62) -> 0 | I63: =SUM(I7:I62) -> 0
B65: CTA/ITA Overtime Summary | F65: Notes | H65: Hours | I65: Amount
B66: Regular Overtime | E66: O | H66: =SUMIF($G$7:$G$62,"O",$H$7:$H$62) -> 0 | I66: =SUMIF($G$7:$G$62,"O",$I$7:$I$62) -> 0
B67: Excess Span of Day | E67: S | H67: =SUMIF($G$7:$G$62,"S",$H$7:$H$62) -> 0 | I67: =SUMIF($G$7:$G$62,"S",$I$7:$I$62) -> 0
B68: Excess Travel Time | E68: =IF(TYA="No","T1 + T2N + T3","T1") -> T1 + T2N + T3 | H68: =SUMIF($G$7:$G$62,"T1",$H$7:$H$62)+IF(TYA="No",SUMIF($G$7:$G$62,"T2N",$H$7:$H$62)+SUMIF($G$7:$G$62,"T3",$H$7:$H$62)) -> 0 | I68: =SUMIF($G$7:$G$62,"T1",$I$7:$I$62)+IF(TYA="No",SUMIF($G$7:$G$62,"T2N",$I$7:$I$62)+SUMIF($G$7:$G$62,"T3",$I$7:$I$62)) -> 0
B69: CTA/ITA Penalty Summary
B70: Invasion of Break between Rehearsal and Performance | E70: R | H70: =SUMIF($G$7:$G$62,"R",$H$7:$H$62) -> 0 | I70: =SUMIF($G$7:$G$62,"R",$I$7:$I$62) -> 0
B71: Invasion of Break between Performances | E71: P | H71: =SUMIF($G$7:$G$62,"P",$H$7:$H$62) -> 0 | I71: =SUMIF($G$7:$G$62,"P",$I$7:$I$62) -> 0
B72: Invasion of Meal Break | E72: M | H72: =SUMIF($G$7:$G$62,"M",$H$7:$H$62) -> 0 | I72: =SUMIF($G$7:$G$62,"M",$I$7:$I$62) -> 0
B73: Invasion of Overnight Rest Break (including travel) | E73: =IF(TYA="no","N + T2R","N") -> N + T2R | H73: =SUMIF($G$7:$G$62,"N",$H$7:$H$62)+IF(TYA="No",SUMIF($G$7:$G$62,"T2R",$H$7:$H$62)) -> 0 | I73: =SUMIF($G$7:$G$62,"N",$I$7:$I$62)+IF(TYA="No",SUMIF($G$7:$G$62,"T2R",$I$7:$I$62)) -> 0
B74: Invasion of Free Day | E74: F | H74: =SUMIF($G$7:$G$62,"F",$H$7:$H$62) -> 0 | I74: =SUMIF($G$7:$G$62,"F",$I$7:$I$62) -> 0
B75: =IF(AND(F_Total>0,F_Total<WeeklyFee/7),"Free day rate was adjusted to minimum of 1/7 weekly fee.","") | H75: SUBTOTAL | I75: =SUM(I66:I74) -> 0
B76: Miscellaneous Summary
B77: Exceeding Max. Performances in week/3-day/day | F77: # of Extra shows> | I77: =IF(H77="","",H77*2&"/8 salary")
B78: Misc. (specify)
H79: TOTAL | I79: =IF(I77="",I78+I75,"") -> 0

Sheet Instructions

Sheet Contract Rates
A1: Active rates applying to the week covered by this timesheet | J1: Rates table for Sector 1 theatres under the ITA for 2024-2027
I2: start date | J2: 44005 | K2: 44369 | L2: 44733
B3: Regular Overtime (Additional Services Rate) | F3: Line 1 | I3: end date | J3: 44368 | K3: 44732 | L3: 45096
C4: First 1/2 hour | D4: =IF(AND(Timesheet!$B$8>='Contract Rates'!$J$2,Timesheet!$B$8<='Contract Rates'!$J$3),'Contract Rates'!J4,IF(AND(Timesheet!$B$8>='Contract Rates'!$K$2,Timesheet!$B$8<='Contract Rates'!$K$3),'Contract Rates'!K4,IF(AND(Timesheet!$B$8>='Contract Rates'!$L$2,Timesheet!$B$8<='Contract Rates'!$L$3),'Contract Rates'!L4,"Date error"))) -> 17.75 | F4: a | J4: 17.75 | K4: 18.5 | L4: 19.25
C5: Subsequent 1/2 hours | D5: =IF(AND(Timesheet!$B$8>='Contract Rates'!$J$2,Timesheet!$B$8<='Contract Rates'!$J$3),'Contract Rates'!J5,IF(AND(Timesheet!$B$8>='Contract Rates'!$K$2,Timesheet!$B$8<='Contract Rates'!$K$3),'Contract Rates'!K5,IF(AND(Timesheet!$B$8>='Contract Rates'!$L$2,Timesheet!$B$8<='Contract Rates'!$L$3),'Contract Rates'!L5,"Date error"))) -> 21.75 | F5: b | J5: 21.75 | K5: 22.5 | L5: 23.25
B7: Double Additional Services Rate | F7: Line 2
C8: First 1/2 hour | D8: =IF(AND(Timesheet!$B$8>='Contract Rates'!$J$2,Timesheet!$B$8<='Contract Rates'!$J$3),'Contract Rates'!J8,IF(AND(Timesheet!$B$8>='Contract Rates'!$K$2,Timesheet!$B$8<='Contract Rates'!$K$3),'Contract Rates'!K8,IF(AND(Timesheet!$B$8>='Contract Rates'!$L$2,Timesheet!$B$8<='Contract Rates'!$L$3),'Contract Rates'!L8,"Date error"))) -> 34.25 | F8: a | J8: 34.25 | K8: 35.5 | L8: 36.75
C9: Subsequent 1/2 hour(s) | D9: =IF(AND(Timesheet!$B$8>='Contract Rates'!$J$2,Timesheet!$B$8<='Contract Rates'!$J$3),'Contract Rates'!J9,IF(AND(Timesheet!$B$8>='Contract Rates'!$K$2,Timesheet!$B$8<='Contract Rates'!$K$3),'Contract Rates'!K9,IF(AND(Timesheet!$B$8>='Contract Rates'!$L$2,Timesheet!$B$8<='Contract Rates'!$L$3),'Contract Rates'!L9,"Date error"))) -> 42.5 | F9: b | J9: 42.5 | K9: 44 | L9: 45.5
B11: Excess of Span | F11: 63:18(E)
C12: Each half hour | D12: =IF(AND(Timesheet!$B$8>='Contract Rates'!$J$2,Timesheet!$B$8<='Contract Rates'!$J$3),'Contract Rates'!J12,IF(AND(Timesheet!$B$8>='Contract Rates'!$K$2,Timesheet!$B$8<='Contract Rates'!$K$3),'Contract Rates'!K12,IF(AND(Timesheet!$B$8>='Contract Rates'!$L$2,Timesheet!$B$8<='Contract Rates'!$L$3),'Contract Rates'!L12,"Date error"))) -> 28.5 | J12: 28.5 | K12: 29.5 | L12: 30.5
B14: Invasion of Break between rehearsal and performance | F14: Line 6
C15: First 1/2 hour | D15: =IF(AND(Timesheet!$B$8>='Contract Rates'!$J$2,Timesheet!$B$8<='Contract Rates'!$J$3),'Contract Rates'!J15,IF(AND(Timesheet!$B$8>='Contract Rates'!$K$2,Timesheet!$B$8<='Contract Rates'!$K$3),'Contract Rates'!K15,IF(AND(Timesheet!$B$8>='Contract Rates'!$L$2,Timesheet!$B$8<='Contract Rates'!$L$3),'Contract Rates'!L15,"Date error"))) -> 21.75 | F15: a | J15: 21.75 | K15: 22.5 | L15: 23.25
C16: Second 1/2 hour | D16: =IF(AND(Timesheet!$B$8>='Contract Rates'!$J$2,Timesheet!$B$8<='Contract Rates'!$J$3),'Contract Rates'!J16,IF(AND(Timesheet!$B$8>='Contract Rates'!$K$2,Timesheet!$B$8<='Contract Rates'!$K$3),'Contract Rates'!K16,IF(AND(Timesheet!$B$8>='Contract Rates'!$L$2,Timesheet!$B$8<='Contract Rates'!$L$3),'Contract Rates'!L16,"Date error"))) -> 23 | F16: b | J16: 23 | K16: 23.75 | L16: 24.5
C17: Third 1/2 hour | D17: =IF(AND(Timesheet!$B$8>='Contract Rates'!$J$2,Timesheet!$B$8<='Contract Rates'!$J$3),'Contract Rates'!J17,IF(AND(Timesheet!$B$8>='Contract Rates'!$K$2,Timesheet!$B$8<='Contract Rates'!$K$3),'Contract Rates'!K17,IF(AND(Timesheet!$B$8>='Contract Rates'!$L$2,Timesheet!$B$8<='Contract Rates'!$L$3),'Contract Rates'!L17,"Date error"))) -> 46.5 | F17: c | J17: 46.5 | K17: 48 | L17: 49.5
B19: Invasion of Break between performances | F19: Line 7
C20: First 1/2 hour | D20: =IF(AND(Timesheet!$B$8>='Contract Rates'!$J$2,Timesheet!$B$8<='Contract Rates'!$J$3),'Contract Rates'!J20,IF(AND(Timesheet!$B$8>='Contract Rates'!$K$2,Timesheet!$B$8<='Contract Rates'!$K$3),'Contract Rates'!K20,IF(AND(Timesheet!$B$8>='Contract Rates'!$L$2,Timesheet!$B$8<='Contract Rates'!$L$3),'Contract Rates'!L20,"Date error"))) -> 21.75 | F20: a | J20: 21.75 | K20: 22.5 | L20: 23.25
C21: Second 1/2 hour | D21: =IF(AND(Timesheet!$B$8>='Contract Rates'!$J$2,Timesheet!$B$8<='Contract Rates'!$J$3),'Contract Rates'!J21,IF(AND(Timesheet!$B$8>='Contract Rates'!$K$2,Timesheet!$B$8<='Contract Rates'!$K$3),'Contract Rates'!K21,IF(AND(Timesheet!$B$8>='Contract Rates'!$L$2,Timesheet!$B$8<='Contract Rates'!$L$3),'Contract Rates'!L21,"Date error"))) -> 45 | F21: b | J21: 45 | K21: 46.5 | L21: 48
B23: Meal Break Infringement | F23: Line 2
C24: First 1/2 hour | D24: =D8 -> 34.25 | F24: a | J24: =J8 -> 34.25 | K24: =K8 -> 35.5 | L24: =L8 -> 36.75
C25: Subsequent 1/2 hour | D25: =D9 -> 42.5 | F25: b | J25: =J9 -> 42.5 | K25: =K9 -> 44 | L25: =L9 -> 45.5
B27: Overnight Rest Break Infringement | F27: 63:18(F)
C28: First 1/2 hour | D28: =IF(AND(Timesheet!$B$8>='Contract Rates'!$J$2,Timesheet!$B$8<='Contract Rates'!$J$3),'Contract Rates'!J28,IF(AND(Timesheet!$B$8>='Contract Rates'!$K$2,Timesheet!$B$8<='Contract Rates'!$K$3),'Contract Rates'!K28,IF(AND(Timesheet!$B$8>='Contract Rates'!$L$2,Timesheet!$B$8<='Contract Rates'!$L$3),'Contract Rates'!L28,"Date error"))) -> 23 | F28: a | J28: 23 | K28: 23.75 | L28: 24.5
C29: Subsequent hour(s) | D29: =IF(AND(Timesheet!$B$8>='Contract Rates'!$J$2,Timesheet!$B$8<='Contract Rates'!$J$3),'Contract Rates'!J29,IF(AND(Timesheet!$B$8>='Contract Rates'!$K$2,Timesheet!$B$8<='Contract Rates'!$K$3),'Contract Rates'!K29,IF(AND(Timesheet!$B$8>='Contract Rates'!$L$2,Timesheet!$B$8<='Contract Rates'!$L$3),'Contract Rates'!L29,"Date error"))) -> 55.75 | F29: b | J29: 55.75 | K29: 57.5 | L29: 59.25
B31: Free Day Infringement | F31: Line 5
C32: Hourly | D32: =IF(AND(Timesheet!$B$8>='Contract Rates'!$J$2,Timesheet!$B$8<='Contract Rates'!$J$3),'Contract Rates'!J32,IF(AND(Timesheet!$B$8>='Contract Rates'!$K$2,Timesheet!$B$8<='Contract Rates'!$K$3),'Contract Rates'!K32,IF(AND(Timesheet!$B$8>='Contract Rates'!$L$2,Timesheet!$B$8<='Contract Rates'!$L$3),'Contract Rates'!L32,"Date error"))) -> 72.75 | J32: 72.75 | K32: 75 | L32: 77.25
C33: (greater of:
C34: a min. 4 hr. call or 1/7 weekly fee)
B36: Emergency Rehearsal on Free Day | F36: Line 4
C37: Hourly | D37: =IF(AND(Timesheet!$B$8>='Contract Rates'!$J$2,Timesheet!$B$8<='Contract Rates'!$J$3),'Contract Rates'!J37,IF(AND(Timesheet!$B$8>='Contract Rates'!$K$2,Timesheet!$B$8<='Contract Rates'!$K$3),'Contract Rates'!K37,IF(AND(Timesheet!$B$8>='Contract Rates'!$L$2,Timesheet!$B$8<='Contract Rates'!$L$3),'Contract Rates'!L37,"Date error"))) -> 42.5 | J37: 42.5 | K37: 44 | L37: 45.5
B39: Exceeding maximum performances (week/3-day/daily)
C40: 2/8 weekly salary each
