Workbook

Sheet Export Summary
B3: This document was exported from Numbers. Each table was converted to an Excel worksheet. All other objects on each Numbers sheet were placed on separate worksheets. Please be aware that formula calculations may differ in Excel.
B7: Numbers Sheet Name | C7: Numbers Table Name | D7: Excel Worksheet Name
B9: Method A -Single Productions
C10: Table 1 | D10: Method A -Single Productions
B11: Method B -Series
C12: Table 1 | D12: Method B -Series
B13: Dynamic Pricing
C14: Table 1 | D14: Dynamic Pricing
B15: Company Categories
C16: Table 1 | D16: Company Categories

Sheet Method A -Single Productions
A1: 15:02 A) Single Productions, Not Part of a Series Enter information in unshaded cells only. The calculation is automatic. | I1: INSTRUCTIONS / Clarifications
A2: Company: | F2: Date Submitted: | I2: This form will print on 8.5x11 in two pages
A3: Venue: | F3: dd/mm/yy
A4: Show Name: | F4: Venue Capacity:
A5: Performance Dates: | F5: Method A
B6: Description | C6: Full Non-Discounted Ticket Price | D6: # of Seats to which Ticket Price Applies per Performance | E6: # of Performances per Week to which Price/Seat Applies | F6: Total (per ticket category) | G6: Incl as part of max perf. Wk. (y/n) | H6: ← | I6: Description is your code or an identifier for each pricing category. E.g: Zone A weeknight; Tues Prev, etc.etc. Do not include % discounts (i.e. Sr. tickets are same as regular matinee price less 10%)
A8: List | B8: Main Floor | C8: 0 | D8: 0 | E8: 0 | F8: =C8*D8*E8 -> 0
A9: Each | C9: 0 | D9: 0 | E9: 0 | F9: =C9*D9*E9 -> 0 | I9: In Col G Answer Y only if these prices are included in the week (Mon to Sun) with the most performances (or in the case of multiple 8 performance weeks, enter Y to each price category that applies in any one given week) in the run. If the run is less than one week, answer Y for all prices listed
A10: undiscounted | C10: 0 | D10: 0 | E10: 0 | F10: =C10*D10*E10 -> 0 | H10: ←
A11: Price | C11: 0 | D11: 0 | E11: 0 | F11: =C11*D11*E11 -> 0
A12: (price to | C12: 0 | D12: 0 | E12: 0 | F12: =C12*D12*E12 -> 0
A13: purchaser | C13: 0 | D13: 0 | E13: 0 | F13: =C13*D13*E13 -> 0
A14: incl. | C14: 0 | D14: 0 | E14: 0 | F14: =C14*D14*E14 -> 0
A15: taxes | C15: 0 | D15: 0 | E15: 0 | F15: =C15*D15*E15 -> 0
A16: & fees) | C16: 0 | D16: 0 | E16: 0 | F16: =C16*D16*E16 -> 0
C17: 0 | D17: 0 | E17: 0 | F17: =C17*D17*E17 -> 0
C18: 0 | D18: 0 | E18: 0 | F18: =C18*D18*E18 -> 0
C19: 0 | D19: 0 | E19: 0 | F19: =C19*D19*E19 -> 0
C20: 0 | D20: 0 | E20: 0 | F20: =C20*D20*E20 -> 0
C21: 0 | D21: 0 | E21: 0 | F21: =C21*D21*E21 -> 0
C22: 0 | D22: 0 | E22: 0 | F22: =C22*D22*E22 -> 0
C23: 0 | D23: 0 | E23: 0 | F23: =C23*D23*E23 -> 0
A24: If more rows are required, contact PACT or Equity | C24: 0 | D24: 0 | E24: 0 | F24: =C24*D24*E24 -> 0
C25: 0 | D25: 0 | E25: 0 | F25: =C25*D25*E25 -> 0
C26: 0 | D26: 0 | E26: 0 | F26: =C26*D26*E26 -> 0
C27: 0 | D27: 0 | E27: 0 | F27: =C27*D27*E27 -> 0
C28: 0 | D28: 0 | E28: 0 | F28: =C28*D28*E28 -> 0
C29: 0 | D29: 0 | E29: 0 | F29: =C29*D29*E29 -> 0
C30: 0 | D30: 0 | E30: 0 | F30: =C30*D30*E30 -> 0
C31: 0 | D31: 0 | E31: 0 | F31: =C31*D31*E31 -> 0
C32: 0 | D32: 0 | E32: 0 | F32: =C32*D32*E32 -> 0
C33: 0 | D33: 0 | E33: 0 | F33: =C33*D33*E33 -> 0
C34: 0 | D34: 0 | E34: 0 | F34: =C34*D34*E34 -> 0
C35: 0 | D35: 0 | E35: 0 | F35: =C35*D35*E35 -> 0
C36: 0 | D36: 0 | E36: 0 | F36: =C36*D36*E36 -> 0
... C40: 0 | D40: 0 | E40: 0 | F40: =C40*D40*E40 -> 0
F41: Gross Weekly Potential
F42: =SUMIF(G8:G40,"y",F8:F40) -> 0
C44: Student/Senior Discount (enter Y/N): | F44: =IF(E44="y",F42*0.1,0) -> 0
E45: GROSS REVENUE | F45: =IF(F44>0,F42-F44,F42) -> 0
...

Sheet Method B -Series
A1: 15:02 B) Series of Productions with Consistent Ticket Prices Enter information in unshaded cells only. The calculation is automatic. | I1: INSTRUCTIONS / Clarifications
A2: Company: | G2: Date Submitted: | I2: This form will print on 8.5x11 in two pages
C3: Season Start Date: | G3: dd/mm/yyyy
A4: Venue Capacity: | C4: Season End Date: | G4: Method B
B5: Venue | C5: Description | D5: Full Non-Discounted Ticket Price | E5: # of Seats to which Ticket Price Applies per Performance | F5: # Performances in Series to which Price/Seat Applies | G5: Total (per ticket category) | H5: ← | I5: Description is your code or an identifier for each pricing category. E.g: Zone A weeknight; Tues Prev, etc.etc.
A6: List | D6: 0 | E6: 0 | F6: 0 | G6: =D6*E6*F6 -> 0
A7: Each | D7: 0 | E7: 0 | F7: 0 | G7: =D7*E7*F7 -> 0
A8: undiscounted | D8: 0 | E8: 0 | F8: 0 | G8: =D8*E8*F8 -> 0
A9: Price | D9: 0 | E9: 0 | F9: 0 | G9: =D9*E9*F9 -> 0
A10: for each | D10: 0 | E10: 0 | F10: 0 | G10: =D10*E10*F10 -> 0
A11: performance | D11: 0 | E11: 0 | F11: 0 | G11: =D11*E11*F11 -> 0
A12: in the series | D12: 0 | E12: 0 | F12: 0 | G12: =D12*E12*F12 -> 0
A13: (price to | D13: 0 | E13: 0 | F13: 0 | G13: =D13*E13*F13 -> 0
A14: purchaser | D14: 0 | E14: 0 | F14: 0 | G14: =D14*E14*F14 -> 0
A15: incl. | D15: 0 | E15: 0 | F15: 0 | G15: =D15*E15*F15 -> 0
A16: taxes | D16: 0 | E16: 0 | F16: 0 | G16: =D16*E16*F16 -> 0
A17: & fees) | D17: 0 | E17: 0 | F17: 0 | G17: =D17*E17*F17 -> 0
D18: 0 | E18: 0 | F18: 0 | G18: =D18*E18*F18 -> 0
D19: 0 | E19: 0 | F19: 0 | G19: =D19*E19*F19 -> 0
D20: 0 | E20: 0 | F20: 0 | G20: =D20*E20*F20 -> 0
D21: 0 | E21: 0 | F21: 0 | G21: =D21*E21*F21 -> 0
D22: 0 | E22: 0 | F22: 0 | G22: =D22*E22*F22 -> 0
D23: 0 | E23: 0 | F23: 0 | G23: =D23*E23*F23 -> 0
D24: 0 | E24: 0 | F24: 0 | G24: =D24*E24*F24 -> 0
D25: 0 | E25: 0 | F25: 0 | G25: =D25*E25*F25 -> 0
D26: 0 | E26: 0 | F26: 0 | G26: =D26*E26*F26 -> 0
D27: 0 | E27: 0 | F27: 0 | G27: =D27*E27*F27 -> 0
D28: 0 | E28: 0 | F28: 0 | G28: =D28*E28*F28 -> 0
D29: 0 | E29: 0 | F29: 0 | G29: =D29*E29*F29 -> 0
A30: If more rows are required, contact PACT or Equity | D30: 0 | E30: 0 | F30: 0 | G30: =D30*E30*F30 -> 0
D31: 0 | E31: 0 | F31: 0 | G31: =D31*E31*F31 -> 0
D32: 0 | E32: 0 | F32: 0 | G32: =D32*E32*F32 -> 0
D33: 0 | E33: 0 | F33: 0 | G33: =D33*E33*F33 -> 0
D34: 0 | E34: 0 | F34: 0 | G34: =D34*E34*F34 -> 0
D35: 0 | E35: 0 | F35: 0 | G35: =D35*E35*F35 -> 0
D36: 0 | E36: 0 | F36: 0 | G36: =D36*E36*F36 -> 0
D37: 0 | E37: 0 | F37: 0 | G37: =D37*E37*F37 -> 0
D38: 0 | E38: 0 | F38: 0 | G38: =D38*E38*F38 -> 0
D39: 0 | E39: 0 | F39: 0 | G39: =D39*E39*F39 -> 0
D40: 0 | E40: 0 | F40: 0 | G40: =D40*E40*F40 -> 0
...

Sheet Dynamic Pricing
A1: Appendix VI - Dynamic Pricing Pilot Project Enter information in unshaded cells only. The calculation is automatic. | I1: Notes & Instructions
A2: Company: | C2: ='Method B -Series'!D2 | E2: Date Submitted: | F2: dd/mm/yy | I2: Use the workbook you originally submitted for your co. category calculation. This sheet pulls information from your original Method B calculation.
A3: Venue Capacity: | B3: Enter Show Name | F3: Method B
B4: Description | C4: Full Non-Discounted Ticket Price | D4: # of Seats to which Ticket Price Applies per Performance | E4: # Performances in Series to which Price/Seat Applies | F4: Total (per ticket category) | G4: Adjusted start date
A5: List | C5: 0 | D5: 0 | E5: 0 | F5: =C5*D5*E5 -> 0 | H5: ← | I5: Tip: rather than re-enter original submitted prices in c5 copy and p[aste values from Full series calculation or enter: ='Full Series'!D6 and then copy down.
A6: Each | C6: 0 | D6: 0 | E6: 0 | F6: =C6*D6*E6 -> 0
A7: undiscounted | C7: 0 | D7: 0 | E7: 0 | F7: =C7*D7*E7 -> 0
A8: Price | C8: 0 | D8: 0 | E8: 0 | F8: =C8*D8*E8 -> 0
A9: for each | C9: 0 | D9: 0 | E9: 0 | F9: =C9*D9*E9 -> 0 | H9: ← | I9: Enter all prices beginning with initially submitted pricing and then adjusted prices. Remember to adjust seating count with remaining inventory only from the date this form is completed.
A10: performance | C10: 0 | D10: 0 | E10: 0 | F10: =C10*D10*E10 -> 0
A11: in the series | C11: 0 | D11: 0 | E11: 0 | F11: =C11*D11*E11 -> 0
A12: (price to | C12: 0 | D12: 0 | E12: 0 | F12: =C12*D12*E12 -> 0
A13: purchaser | C13: 0 | D13: 0 | E13: 0 | F13: =C13*D13*E13 -> 0
A14: incl. | C14: 0 | D14: 0 | E14: 0 | F14: =C14*D14*E14 -> 0
A15: taxes | C15: 0 | D15: 0 | E15: 0 | F15: =C15*D15*E15 -> 0
A16: & fees) | C16: 0 | D16: 0 | E16: 0 | F16: =C16*D16*E16 -> 0
C17: 0 | D17: 0 | E17: 0 | F17: =C17*D17*E17 -> 0 | H17: ← | I17: In col G at appropriate row location enter the effective date for pricing change DD/MM/YY
C18: 0 | D18: 0 | E18: 0 | F18: =C18*D18*E18 -> 0
A19: If more rows are required, contact PACT or Equity | C19: 0 | D19: 0 | E19: 0 | F19: =C19*D19*E19 -> 0
C20: 0 | D20: 0 | E20: 0 | F20: =C20*D20*E20 -> 0
C21: 0 | D21: 0 | E21: 0 | F21: =C21*D21*E21 -> 0
C22: 0 | D22: 0 | E22: 0 | F22: =C22*D22*E22 -> 0
C23: 0 | D23: 0 | E23: 0 | F23: =C23*D23*E23 -> 0
C24: 0 | D24: 0 | E24: 0 | F24: =C24*D24*E24 -> 0
C25: 0 | D25: 0 | E25: 0 | F25: =C25*D25*E25 -> 0
C26: 0 | D26: 0 | E26: 0 | F26: =C26*D26*E26 -> 0
C27: 0 | D27: 0 | E27: 0 | F27: =C27*D27*E27 -> 0
C28: 0 | D28: 0 | E28: 0 | F28: =C28*D28*E28 -> 0
C29: 0 | D29: 0 | E29: 0 | F29: =C29*D29*E29 -> 0
C30: 0 | D30: 0 | E30: 0 | F30: =C30*D30*E30 -> 0
C31: 0 | D31: 0 | E31: 0 | F31: =C31*D31*E31 -> 0
... C44: 0 | D44: 0 | E44: 0 | F44: =C44*D44*E44 -> 0
F45: =SUM(F5:F44) -> 0
D47: Capital Improvement Fund (CIF) surcharges approved by Equity.
D48: Total Tickets (for each CIF charge category) | E48: CIF Surcharge | F48: Deduction 1
C49: If you have multiple CIF levels | E49: 0 | F49: =D49*E49 -> 0 | H49: ← | I49: If Approved CIF adjusts with pricing adjustment reflect that here, otherwise copy from original calculation sheet.
C50: List the CIF $0.00 amount for each level | E50: 0 | F50: =D50*E50 -> 0
C51: that is applicable and the | E51: 0 | F51: =D51*E51 -> 0
C52: total number of Performances | E52: 0 | F52: =D52*E52 -> 0
C53: for the week used in | E53: 0 | F53: =D53*E53 -> 0
...

Sheet Company Categories
A1: Company Categories
A2: 2026-2027
A3: A | B3: 180519.26
A4: B | B4: 136194.01 | C4: 180519.25
A5: C | B5: 106363.26 | C5: 136194
A6: D | B6: 76399.26 | C6: 106363.25
A7: E | B7: 45925.26 | C7: 76399.25
A8: F | B8: 23179.51 | C8: 45925.25
A9: G | B9: 0 | C9: 23179.5
