Workbook
Name Fittings: Calculator!$A$20:$A$22
Name Fittings: 'OT & Infringements'!$A$21:$A$23
Name Free_Day: Calculator!$A$14:$A$16
Name Free_Day: 'OT & Infringements'!$A$15:$A$17
Name Performances: Calculator!$A$26:$A$30
Name Performances: 'OT & Infringements'!$A$27:$A$31
Name Photo_and_Promo: Calculator!$A$34:$A$41
Name Photo_and_Promo: 'OT & Infringements'!$A$35:$A$42
Name Rehearsals: Calculator!$A$3:$A$10
Name Rehearsals: 'OT & Infringements'!$A$4:$A$11
Name Sector_2: Calculator!$A$64:$A$70
Name Sector_2: 'OT & Infringements'!$A$65:$A$71
Name Touring: Calculator!$A$45:$A$49
Name Touring: 'OT & Infringements'!$A$46:$A$50
Name TYA: Calculator!$A$53:$A$60
Name TYA: 'OT & Infringements'!$A$54:$A$61

Sheet Instructions
A1: ADDITIONAL SERVICES INVOICE TOOL INSTRUCTIONS
A3: Disclaimer: Equity has provided this tool to help you create the invoices you must submit to an engager for Additional Services, as per clause 16:08 of the CTA/ITA. Best efforts were made to ensure correct calculations, but please verify your invoice to avoid errors. In the case of any discrepancies between this invoice tool and the CTA/ITA, the applicable agreement shall prevail. This tool was built in Excel and may react differently when opened in another app.
A5: This invoice tool is valid until June 20, 2027 (inclusive).
A7: Step 1. | B7: Select the INVOICE tab at the bottom of this spreadsheet and enter your applicable personal information.
A10: Step 2. | B10: Enter the name of the Engager and production. Enter your weekly fee, as it may be applicable for certain overtime or infringement calculations.
A15: Step 3. | B15: Date: Enter the date of the Additional Service.
B16: Overtime/Infringement: Select the appropriate overtime/infringement from the dropdown list.
B17: Hours: Enter the number of applicable hours.
B21: If you need more information about a type of overtime/infringement, you can click on the hyperlink next to it in the INFRINGEMENT tab. The link will open up an online copy of the CTA to the relevant clause. (The same clause applies under the ITA)
A25: Step 4. | B25: Repeat Step 3 for additional overtime/infringements which occurred.
A27: Step 5. | B27: Optional: Enter your registered tax numbers (if you have them) and the applicable tax percentages.
A30: Step 6. | B30: Ensure the information and calculations are accurate.
A32: Step 7. | B32: While on the INVOICE tab, select FILE> SAVE AS PDF on the TOOLBAR to save a PDF copy of the invoice.
A34: Step 8. | B34: Email the PDF invoice to the ENGAGER.
A36: Step 9. | B36: Don't forget to CLEAR the dates, infringement info, and hours when you're done!

Sheet Invoice
A1: ADDITIONAL SERVICES INVOICE
A3: Submitted in accordance with clause 16:08. | L3: Invoice Date (yyyy-mm-dd):
A6: First Name | E6: Last Name | L6: Equity number
A8: Payable to (same as above or):
J9: Email
A12: Address | G12: City | K12: Province | N12: Postal Code
A15: Invoice for:
A18: Engager | F18: Production | N18: Weekly Fee
A20: Date (yyyy-mm-dd) | B20: Overtime & Infringements | L20: Hours | N20: Amount
N21: =IF(B21="Additional Rehearsal after First Public Performance",Calculator!B3,IF(B21="Additional Rehearsal on a Performance Day",Calculator!B4,IF(B21="Calls on the Free Day (min. 4 hr call)",Calculator!B5,IF(B21="Emergency Rehearsal on the Free Day (min. 4 hr call)",Calculator!B6,IF(B21="Excess Continuous Rehearsal",Calculator!B7,IF(B21="Infringement of Free Time",Calculator!B8,IF(B21="Meal Break infringement on an Extended Day",Calculator!B9,IF(B21="Overnight Rest infringement - R",Calculator!B10, IF(B21="Not enough Notice of change",Calculator!B14,IF(B21="Director - Per hour (min. 4 hr call)",Calculator!B15,IF(B21="Choreographer - Per hour (min. 4 hr call)",Calculator!B16, IF(B21="Additional Fittings",Calculator!B20,IF(B21="Fittings before Engagement Period (min. 1 hr call)",Calculator!B21,IF(B21="Travel for Fittings before Engagement Period",Calculator!B22, IF(B21="Breaks Between Performances (Standard)",Calculator!B26,IF(B21="Breaks Between Performances (Alternative) - services during break",Calculator!B27,IF(B21="Breaks Between Performances (Alternative) - services in excess",Calculator!B28,IF(B21="Overnight Rest Period Infringement",Calculator!B29,IF(B21="Understudy Line Rehearsal outside of rehearsal hours",Calculator!B30, IF(B21="Calls prior to Engagement Period - Local (min. 2.5 hr call)",Calculator!B34,IF(B21="Calls prior to Engagement Period - Travel",Calculator!B35,IF(B21="Calls for Recordings - additional rehearsal (1/8 of weekly fee)",Calculator!B36,IF(B21="Calls outside regular rehearsal hours (Additional Services)",Calculator!B37,IF(B21="Calls during Rest Period (Overnight Rest)",Calculator!B38,IF(B21="Promotional Appearances outside of allowable rehearsal hrs",Calculator!B39,IF(B21="Promotional Appearances on a Free Day (min. 4 hr call)",Calculator!B40,IF(B21="Recording Sessions outside regular rehearsal hours",Calculator!B41, IF(B21="Bus Transportation: excess travel time (more than 2 hr)",Calculator!B45,IF(B21="Housing not provided 12am to 8am when flight cancelled",Calculator!B46,IF(B21="Local Touring excess of 8.5 hr span",Calculator!B47,IF(B21="Travel by air, excess travel time",Calculator!B48,IF(B21="Travel during Rest Period",Calculator!B49, IF(B21="Additional Duties requiring excess hours",Calculator!B53,IF(B21="Additional Services in excess of daily limits or weekly limits",Calculator!B54,IF(B21="First Call before 7 am",Calculator!B55,IF(B21="Housing not provided 12 am to 8 am when flight cancelled",Calculator!B56,IF(B21="Meal break is less than 1 hour",Calculator!B57,IF(B21="Overnight Rest infringement - TYA",Calculator!B58,IF(B21="Per Diem - Away from Point of Origin for more than 10 hr",Calculator!B59,IF(B21="Set-Ups, Strikes, Load-Ins, and Load-Outs: excess time",Calculator!B60, IF(B21="Additional Services",Calculator!B64,IF(B21="Additional Fittings - S2",Calculator!B65,IF(B21="Emergency Rehearsal on Free Day (min. 4 hr call)",Calculator!B66,IF(B21="Costume Fittings Before the Engagement Period (min. 2 hr call)",Calculator!B67,IF(B21="Overnight Rest infringement - S2",Calculator!B68,IF(B21="Promotional Appearance on the Free Day (min. 4 hr call)",Calculator!B69,IF(B21="Travel for Fittings Before the Engagement Period",Calculator!B70,"")))))))))))))))))))))))))))))))))))))))))))))))
N22: =IF(B22="Additional Rehearsal after First Public Performance",Calculator!C3, IF(B22="Additional Rehearsal on a Performance Day",Calculator!C4, IF(B22="Calls on the Free Day (min. 4 hr call)",Calculator!C5, IF(B22="Emergency Rehearsal on the Free Day (min. 4 hr call)",Calculator!C6, IF(B22="Excess Continuous Rehearsal",Calculator!C7, IF(B22="Infringement of Free Time",Calculator!C8, IF(B22="Meal Break infringement on an Extended Day",Calculator!C9, IF(B22="Overnight Rest infringement - R",Calculator!C10, IF(B22="Not enough Notice of change",Calculator!C14, IF(B22="Director - Per hour (min. 4 hr call)",Calculator!C15, IF(B22="Choreographer - Per hour (min. 4 hr call)",Calculator!C16, IF(B22="Additional Fittings",Calculator!C20, IF(B22="Fittings before Engagement Period (min. 1 hr call)",Calculator!C21, IF(B22="Travel for Fittings before Engagement Period",Calculator!C22, IF(B22="Breaks Between Performances (Standard)",Calculator!C26, IF(B22="Breaks Between Performances (Alternative) - services during break",Calculator!C27, IF(B22="Breaks Between Performances (Alternative) - services in excess",Calculator!C28, IF(B22="Overnight Rest Period Infringement",Calculator!C29, IF(B22="Understudy Line Rehearsal outside of rehearsal hours",Calculator!C30, IF(B22="Calls prior to Engagement Period - Local (min. 2.5 hr call)",Calculator!C34, IF(B22="Calls prior to Engagement Period - Travel",Calculator!C35, IF(B22="Calls for Recordings - additional rehearsal (1/8 of weekly fee)",Calculator!C36, IF(B22="Calls outside regular rehearsal hours (Additional Services)",Calculator!C37, IF(B22="Calls during Rest Period (Overnight Rest)",Calculator!C38, IF(B22="Promotional Appearances outside of allowable rehearsal hrs",Calculator!C39, IF(B22="Promotional Appearances on a Free Day (min. 4 hr call)",Calculator!C40, IF(B22="Recording Sessions outside regular rehearsal hours",Calculator!C41, IF(B22="Bus Transportation: excess travel time (more than 2 hr)",Calculator!C45, IF(B22="Housing not provided 12am to 8am when flight cancelled",Calculator!C46, IF(B22="Local Touring excess of 8.5 hr span",Calculator!C47, IF(B22="Travel by air, excess travel time",Calculator!C48, IF(B22="Travel during Rest Period",Calculator!C49, IF(B22="Additional Duties requiring excess hours",Calculator!C53, IF(B22="Additional Services in excess of daily limits or weekly limits",Calculator!C54, IF(B22="First Call before 7 am",Calculator!C55, IF(B22="Housing not provided 12 am to 8 am when flight cancelled",Calculator!C56, IF(B22="Meal break is less than 1 hour",Calculator!C57, IF(B22="Overnight Rest infringement - TYA",Calculator!C58, IF(B22="Per Diem - Away from Point of Origin for more than 10 hr",Calculator!C59, IF(B22="Set-Ups, Strikes, Load-Ins, and Load-Outs: excess time",Calculator!C60, IF(B22="Additional Services",Calculator!C64, IF(B22="Additional Fittings - S2",Calculator!C65, IF(B22="Emergency Rehearsal on Free Day (min. 4 hr call)",Calculator!C66, IF(B22="Costume Fittings Before the Engagement Period (min. 2 hr call)",Calculator!C67, IF(B22="Overnight Rest infringement - S2",Calculator!C68, IF(B22="Promotional Appearance on the Free Day (min. 4 hr call)",Calculator!C69, IF(B22="Travel for Fittings Before the Engagement Period",Calculator!C70,"")))))))))))))))))))))))))))))))))))))))))))))))
N23: =IF(B23="Additional Rehearsal after First Public Performance",Calculator!D3, IF(B23="Additional Rehearsal on a Performance Day",Calculator!D4, IF(B23="Calls on the Free Day (min. 4 hr call)",Calculator!D5, IF(B23="Emergency Rehearsal on the Free Day (min. 4 hr call)",Calculator!D6, IF(B23="Excess Continuous Rehearsal",Calculator!D7, IF(B23="Infringement of Free Time",Calculator!D8, IF(B23="Meal Break infringement on an Extended Day",Calculator!D9, IF(B23="Overnight Rest infringement - R",Calculator!D10, IF(B23="Not enough Notice of change",Calculator!D14, IF(B23="Director - Per hour (min. 4 hr call)",Calculator!D15, IF(B23="Choreographer - Per hour (min. 4 hr call)",Calculator!D16, IF(B23="Additional Fittings",Calculator!D20, IF(B23="Fittings before Engagement Period (min. 1 hr call)",Calculator!D21, IF(B23="Travel for Fittings before Engagement Period",Calculator!D22, IF(B23="Breaks Between Performances (Standard)",Calculator!D26, IF(B23="Breaks Between Performances (Alternative) - services during break",Calculator!D27, IF(B23="Breaks Between Performances (Alternative) - services in excess",Calculator!D28, IF(B23="Overnight Rest Period Infringement",Calculator!D29, IF(B23="Understudy Line Rehearsal outside of rehearsal hours",Calculator!D30, IF(B23="Calls prior to Engagement Period - Local (min. 2.5 hr call)",Calculator!D34, IF(B23="Calls prior to Engagement Period - Travel",Calculator!D35, IF(B23="Calls for Recordings - additional rehearsal (1/8 of weekly fee)",Calculator!D36, IF(B23="Calls outside regular rehearsal hours (Additional Services)",Calculator!D37, IF(B23="Calls during Rest Period (Overnight Rest)",Calculator!D38, IF(B23="Promotional Appearances outside of allowable rehearsal hrs",Calculator!D39, IF(B23="Promotional Appearances on a Free Day (min. 4 hr call)",Calculator!D40, IF(B23="Recording Sessions outside regular rehearsal hours",Calculator!D41, IF(B23="Bus Transportation: excess travel time (more than 2 hr)",Calculator!D45, IF(B23="Housing not provided 12am to 8am when flight cancelled",Calculator!D46, IF(B23="Local Touring excess of 8.5 hr span",Calculator!D47, IF(B23="Travel by air, excess travel time",Calculator!D48, IF(B23="Travel during Rest Period",Calculator!D49, IF(B23="Additional Duties requiring excess hours",Calculator!D53, IF(B23="Additional Services in excess of daily limits or weekly limits",Calculator!D54, IF(B23="First Call before 7 am",Calculator!D55, IF(B23="Housing not provided 12 am to 8 am when flight cancelled",Calculator!D56, IF(B23="Meal break is less than 1 hour",Calculator!D57, IF(B23="Overnight Rest infringement - TYA",Calculator!D58, IF(B23="Per Diem - Away from Point of Origin for more than 10 hr",Calculator!D59, IF(B23="Set-Ups, Strikes, Load-Ins, and Load-Outs: excess time",Calculator!D60, IF(B23="Additional Services",Calculator!D64, IF(B23="Additional Fittings - S2",Calculator!D65, IF(B23="Emergency Rehearsal on Free Day (min. 4 hr call)",Calculator!D66, IF(B23="Costume Fittings Before the Engagement Period (min. 2 hr call)",Calculator!D67, IF(B23="Overnight Rest infringement - S2",Calculator!D68, IF(B23="Promotional Appearance on the Free Day (min. 4 hr call)",Calculator!D69, IF(B23="Travel for Fittings Before the Engagement Period",Calculator!D70,"")))))))))))))))))))))))))))))))))))))))))))))))
N24: =IF(B24="Additional Rehearsal after First Public Performance",Calculator!E3, IF(B24="Additional Rehearsal on a Performance Day",Calculator!E4, IF(B24="Calls on the Free Day (min. 4 hr call)",Calculator!E5, IF(B24="Emergency Rehearsal on the Free Day (min. 4 hr call)",Calculator!E6, IF(B24="Excess Continuous Rehearsal",Calculator!E7, IF(B24="Infringement of Free Time",Calculator!E8, IF(B24="Meal Break infringement on an Extended Day",Calculator!E9, IF(B24="Overnight Rest infringement - R",Calculator!E10, IF(B24="Not enough Notice of change",Calculator!E14, IF(B24="Director - Per hour (min. 4 hr call)",Calculator!E15, IF(B24="Choreographer - Per hour (min. 4 hr call)",Calculator!E16, IF(B24="Additional Fittings",Calculator!E20, IF(B24="Fittings before Engagement Period (min. 1 hr call)",Calculator!E21, IF(B24="Travel for Fittings before Engagement Period",Calculator!E22, IF(B24="Breaks Between Performances (Standard)",Calculator!E26, IF(B24="Breaks Between Performances (Alternative) - services during break",Calculator!E27, IF(B24="Breaks Between Performances (Alternative) - services in excess",Calculator!E28, IF(B24="Overnight Rest Period Infringement",Calculator!E29, IF(B24="Understudy Line Rehearsal outside of rehearsal hours",Calculator!E30, IF(B24="Calls prior to Engagement Period - Local (min. 2.5 hr call)",Calculator!E34, IF(B24="Calls prior to Engagement Period - Travel",Calculator!E35, IF(B24="Calls for Recordings - additional rehearsal (1/8 of weekly fee)",Calculator!E36, IF(B24="Calls outside regular rehearsal hours (Additional Services)",Calculator!E37, IF(B24="Calls during Rest Period (Overnight Rest)",Calculator!E38, IF(B24="Promotional Appearances outside of allowable rehearsal hrs",Calculator!E39, IF(B24="Promotional Appearances on a Free Day (min. 4 hr call)",Calculator!E40, IF(B24="Recording Sessions outside regular rehearsal hours",Calculator!E41, IF(B24="Bus Transportation: excess travel time (more than 2 hr)",Calculator!E45, IF(B24="Housing not provided 12am to 8am when flight cancelled",Calculator!E46, IF(B24="Local Touring excess of 8.5 hr span",Calculator!E47, IF(B24="Travel by air, excess travel time",Calculator!E48, IF(B24="Travel during Rest Period",Calculator!E49, IF(B24="Additional Duties requiring excess hours",Calculator!E53, IF(B24="Additional Services in excess of daily limits or weekly limits",Calculator!E54, IF(B24="First Call before 7 am",Calculator!E55, IF(B24="Housing not provided 12 am to 8 am when flight cancelled",Calculator!E56, IF(B24="Meal break is less than 1 hour",Calculator!E57, IF(B24="Overnight Rest infringement - TYA",Calculator!E58, IF(B24="Per Diem - Away from Point of Origin for more than 10 hr",Calculator!E59, IF(B24="Set-Ups, Strikes, Load-Ins, and Load-Outs: excess time",Calculator!E60, IF(B24="Additional Services",Calculator!E64, IF(B24="Additional Fittings - S2",Calculator!E65, IF(B24="Emergency Rehearsal on Free Day (min. 4 hr call)",Calculator!E66, IF(B24="Costume Fittings Before the Engagement Period (min. 2 hr call)",Calculator!E67, IF(B24="Overnight Rest infringement - S2",Calculator!E68, IF(B24="Promotional Appearance on the Free Day (min. 4 hr call)",Calculator!E69, IF(B24="Travel for Fittings Before the Engagement Period",Calculator!E70,"")))))))))))))))))))))))))))))))))))))))))))))))
N25: =IF(B25="Additional Rehearsal after First Public Performance",Calculator!F3, IF(B25="Additional Rehearsal on a Performance Day",Calculator!F4, IF(B25="Calls on the Free Day (min. 4 hr call)",Calculator!F5, IF(B25="Emergency Rehearsal on the Free Day (min. 4 hr call)",Calculator!F6, IF(B25="Excess Continuous Rehearsal",Calculator!F7, IF(B25="Infringement of Free Time",Calculator!F8, IF(B25="Meal Break infringement on an Extended Day",Calculator!F9, IF(B25="Overnight Rest infringement - R",Calculator!F10, IF(B25="Not enough Notice of change",Calculator!F14, IF(B25="Director - Per hour (min. 4 hr call)",Calculator!F15, IF(B25="Choreographer - Per hour (min. 4 hr call)",Calculator!F16, IF(B25="Additional Fittings",Calculator!F20, IF(B25="Fittings before Engagement Period (min. 1 hr call)",Calculator!F21, IF(B25="Travel for Fittings before Engagement Period",Calculator!F22, IF(B25="Breaks Between Performances (Standard)",Calculator!F26, IF(B25="Breaks Between Performances (Alternative) - services during break",Calculator!F27, IF(B25="Breaks Between Performances (Alternative) - services in excess",Calculator!F28, IF(B25="Overnight Rest Period Infringement",Calculator!F29, IF(B25="Understudy Line Rehearsal outside of rehearsal hours",Calculator!F30, IF(B25="Calls prior to Engagement Period - Local (min. 2.5 hr call)",Calculator!F34, IF(B25="Calls prior to Engagement Period - Travel",Calculator!F35, IF(B25="Calls for Recordings - additional rehearsal (1/8 of weekly fee)",Calculator!F36, IF(B25="Calls outside regular rehearsal hours (Additional Services)",Calculator!F37, IF(B25="Calls during Rest Period (Overnight Rest)",Calculator!F38, IF(B25="Promotional Appearances outside of allowable rehearsal hrs",Calculator!F39, IF(B25="Promotional Appearances on a Free Day (min. 4 hr call)",Calculator!F40, IF(B25="Recording Sessions outside regular rehearsal hours",Calculator!F41, IF(B25="Bus Transportation: excess travel time (more than 2 hr)",Calculator!F45, IF(B25="Housing not provided 12am to 8am when flight cancelled",Calculator!F46, IF(B25="Local Touring excess of 8.5 hr span",Calculator!F47, IF(B25="Travel by air, excess travel time",Calculator!F48, IF(B25="Travel during Rest Period",Calculator!F49, IF(B25="Additional Duties requiring excess hours",Calculator!F53, IF(B25="Additional Services in excess of daily limits or weekly limits",Calculator!F54, IF(B25="First Call before 7 am",Calculator!F55, IF(B25="Housing not provided 12 am to 8 am when flight cancelled",Calculator!F56, IF(B25="Meal break is less than 1 hour",Calculator!F57, IF(B25="Overnight Rest infringement - TYA",Calculator!F58, IF(B25="Per Diem - Away from Point of Origin for more than 10 hr",Calculator!F59, IF(B25="Set-Ups, Strikes, Load-Ins, and Load-Outs: excess time",Calculator!F60, IF(B25="Additional Services",Calculator!F64, IF(B25="Additional Fittings - S2",Calculator!F65, IF(B25="Emergency Rehearsal on Free Day (min. 4 hr call)",Calculator!F66, IF(B25="Costume Fittings Before the Engagement Period (min. 2 hr call)",Calculator!F67, IF(B25="Overnight Rest infringement - S2",Calculator!F68, IF(B25="Promotional Appearance on the Free Day (min. 4 hr call)",Calculator!F69, IF(B25="Travel for Fittings Before the Engagement Period",Calculator!F70,"")))))))))))))))))))))))))))))))))))))))))))))))
N26: =IF(B26="Additional Rehearsal after First Public Performance",Calculator!G3, IF(B26="Additional Rehearsal on a Performance Day",Calculator!G4, IF(B26="Calls on the Free Day (min. 4 hr call)",Calculator!G5, IF(B26="Emergency Rehearsal on the Free Day (min. 4 hr call)",Calculator!G6, IF(B26="Excess Continuous Rehearsal",Calculator!G7, IF(B26="Infringement of Free Time",Calculator!G8, IF(B26="Meal Break infringement on an Extended Day",Calculator!G9, IF(B26="Overnight Rest infringement - R",Calculator!G10, IF(B26="Not enough Notice of change",Calculator!G14, IF(B26="Director - Per hour (min. 4 hr call)",Calculator!G15, IF(B26="Choreographer - Per hour (min. 4 hr call)",Calculator!G16, IF(B26="Additional Fittings",Calculator!G20, IF(B26="Fittings before Engagement Period (min. 1 hr call)",Calculator!G21, IF(B26="Travel for Fittings before Engagement Period",Calculator!G22, IF(B26="Breaks Between Performances (Standard)",Calculator!G26, IF(B26="Breaks Between Performances (Alternative) - services during break",Calculator!G27, IF(B26="Breaks Between Performances (Alternative) - services in excess",Calculator!G28, IF(B26="Overnight Rest Period Infringement",Calculator!G29, IF(B26="Understudy Line Rehearsal outside of rehearsal hours",Calculator!G30, IF(B26="Calls prior to Engagement Period - Local (min. 2.5 hr call)",Calculator!G34, IF(B26="Calls prior to Engagement Period - Travel",Calculator!G35, IF(B26="Calls for Recordings - additional rehearsal (1/8 of weekly fee)",Calculator!G36, IF(B26="Calls outside regular rehearsal hours (Additional Services)",Calculator!G37, IF(B26="Calls during Rest Period (Overnight Rest)",Calculator!G38, IF(B26="Promotional Appearances outside of allowable rehearsal hrs",Calculator!G39, IF(B26="Promotional Appearances on a Free Day (min. 4 hr call)",Calculator!G40, IF(B26="Recording Sessions outside regular rehearsal hours",Calculator!G41, IF(B26="Bus Transportation: excess travel time (more than 2 hr)",Calculator!G45, IF(B26="Housing not provided 12am to 8am when flight cancelled",Calculator!G46, IF(B26="Local Touring excess of 8.5 hr span",Calculator!G47, IF(B26="Travel by air, excess travel time",Calculator!G48, IF(B26="Travel during Rest Period",Calculator!G49, IF(B26="Additional Duties requiring excess hours",Calculator!G53, IF(B26="Additional Services in excess of daily limits or weekly limits",Calculator!G54, IF(B26="First Call before 7 am",Calculator!G55, IF(B26="Housing not provided 12 am to 8 am when flight cancelled",Calculator!G56, IF(B26="Meal break is less than 1 hour",Calculator!G57, IF(B26="Overnight Rest infringement - TYA",Calculator!G58, IF(B26="Per Diem - Away from Point of Origin for more than 10 hr",Calculator!G59, IF(B26="Set-Ups, Strikes, Load-Ins, and Load-Outs: excess time",Calculator!G60, IF(B26="Additional Services",Calculator!G64, IF(B26="Additional Fittings - S2",Calculator!G65, IF(B26="Emergency Rehearsal on Free Day (min. 4 hr call)",Calculator!G66, IF(B26="Costume Fittings Before the Engagement Period (min. 2 hr call)",Calculator!G67, IF(B26="Overnight Rest infringement - S2",Calculator!G68, IF(B26="Promotional Appearance on the Free Day (min. 4 hr call)",Calculator!G69, IF(B26="Travel for Fittings Before the Engagement Period",Calculator!G70,"")))))))))))))))))))))))))))))))))))))))))))))))
N27: =IF(B27="Additional Rehearsal after First Public Performance",Calculator!H3, IF(B27="Additional Rehearsal on a Performance Day",Calculator!H4, IF(B27="Calls on the Free Day (min. 4 hr call)",Calculator!H5, IF(B27="Emergency Rehearsal on the Free Day (min. 4 hr call)",Calculator!H6, IF(B27="Excess Continuous Rehearsal",Calculator!H7, IF(B27="Infringement of Free Time",Calculator!H8, IF(B27="Meal Break infringement on an Extended Day",Calculator!H9, IF(B27="Overnight Rest infringement - R",Calculator!H10, IF(B27="Not enough Notice of change",Calculator!H14, IF(B27="Director - Per hour (min. 4 hr call)",Calculator!H15, IF(B27="Choreographer - Per hour (min. 4 hr call)",Calculator!H16, IF(B27="Additional Fittings",Calculator!H20, IF(B27="Fittings before Engagement Period (min. 1 hr call)",Calculator!H21, IF(B27="Travel for Fittings before Engagement Period",Calculator!H22, IF(B27="Breaks Between Performances (Standard)",Calculator!H26, IF(B27="Breaks Between Performances (Alternative) - services during break",Calculator!H27, IF(B27="Breaks Between Performances (Alternative) - services in excess",Calculator!H28, IF(B27="Overnight Rest Period Infringement",Calculator!H29, IF(B27="Understudy Line Rehearsal outside of rehearsal hours",Calculator!H30, IF(B27="Calls prior to Engagement Period - Local (min. 2.5 hr call)",Calculator!H34, IF(B27="Calls prior to Engagement Period - Travel",Calculator!H35, IF(B27="Calls for Recordings - additional rehearsal (1/8 of weekly fee)",Calculator!H36, IF(B27="Calls outside regular rehearsal hours (Additional Services)",Calculator!H37, IF(B27="Calls during Rest Period (Overnight Rest)",Calculator!H38, IF(B27="Promotional Appearances outside of allowable rehearsal hrs",Calculator!H39, IF(B27="Promotional Appearances on a Free Day (min. 4 hr call)",Calculator!H40, IF(B27="Recording Sessions outside regular rehearsal hours",Calculator!H41, IF(B27="Bus Transportation: excess travel time (more than 2 hr)",Calculator!H45, IF(B27="Housing not provided 12am to 8am when flight cancelled",Calculator!H46, IF(B27="Local Touring excess of 8.5 hr span",Calculator!H47, IF(B27="Travel by air, excess travel time",Calculator!H48, IF(B27="Travel during Rest Period",Calculator!H49, IF(B27="Additional Duties requiring excess hours",Calculator!H53, IF(B27="Additional Services in excess of daily limits or weekly limits",Calculator!H54, IF(B27="First Call before 7 am",Calculator!H55, IF(B27="Housing not provided 12 am to 8 am when flight cancelled",Calculator!H56, IF(B27="Meal break is less than 1 hour",Calculator!H57, IF(B27="Overnight Rest infringement - TYA",Calculator!H58, IF(B27="Per Diem - Away from Point of Origin for more than 10 hr",Calculator!H59, IF(B27="Set-Ups, Strikes, Load-Ins, and Load-Outs: excess time",Calculator!H60, IF(B27="Additional Services",Calculator!H64, IF(B27="Additional Fittings - S2",Calculator!H65, IF(B27="Emergency Rehearsal on Free Day (min. 4 hr call)",Calculator!H66, IF(B27="Costume Fittings Before the Engagement Period (min. 2 hr call)",Calculator!H67, IF(B27="Overnight Rest infringement - S2",Calculator!H68, IF(B27="Promotional Appearance on the Free Day (min. 4 hr call)",Calculator!H69, IF(B27="Travel for Fittings Before the Engagement Period",Calculator!H70,"")))))))))))))))))))))))))))))))))))))))))))))))
N28: =IF(B28="Additional Rehearsal after First Public Performance",Calculator!I3, IF(B28="Additional Rehearsal on a Performance Day",Calculator!I4, IF(B28="Calls on the Free Day (min. 4 hr call)",Calculator!I5, IF(B28="Emergency Rehearsal on the Free Day (min. 4 hr call)",Calculator!I6, IF(B28="Excess Continuous Rehearsal",Calculator!I7, IF(B28="Infringement of Free Time",Calculator!I8, IF(B28="Meal Break infringement on an Extended Day",Calculator!I9, IF(B28="Overnight Rest infringement - R",Calculator!I10, IF(B28="Not enough Notice of change",Calculator!I14, IF(B28="Director - Per hour (min. 4 hr call)",Calculator!I15, IF(B28="Choreographer - Per hour (min. 4 hr call)",Calculator!I16, IF(B28="Additional Fittings",Calculator!I20, IF(B28="Fittings before Engagement Period (min. 1 hr call)",Calculator!I21, IF(B28="Travel for Fittings before Engagement Period",Calculator!I22, IF(B28="Breaks Between Performances (Standard)",Calculator!I26, IF(B28="Breaks Between Performances (Alternative) - services during break",Calculator!I27, IF(B28="Breaks Between Performances (Alternative) - services in excess",Calculator!I28, IF(B28="Overnight Rest Period Infringement",Calculator!I29, IF(B28="Understudy Line Rehearsal outside of rehearsal hours",Calculator!I30, IF(B28="Calls prior to Engagement Period - Local (min. 2.5 hr call)",Calculator!I34, IF(B28="Calls prior to Engagement Period - Travel",Calculator!I35, IF(B28="Calls for Recordings - additional rehearsal (1/8 of weekly fee)",Calculator!I36, IF(B28="Calls outside regular rehearsal hours (Additional Services)",Calculator!I37, IF(B28="Calls during Rest Period (Overnight Rest)",Calculator!I38, IF(B28="Promotional Appearances outside of allowable rehearsal hrs",Calculator!I39, IF(B28="Promotional Appearances on a Free Day (min. 4 hr call)",Calculator!I40, IF(B28="Recording Sessions outside regular rehearsal hours",Calculator!I41, IF(B28="Bus Transportation: excess travel time (more than 2 hr)",Calculator!I45, IF(B28="Housing not provided 12am to 8am when flight cancelled",Calculator!I46, IF(B28="Local Touring excess of 8.5 hr span",Calculator!I47, IF(B28="Travel by air, excess travel time",Calculator!I48, IF(B28="Travel during Rest Period",Calculator!I49, IF(B28="Additional Duties requiring excess hours",Calculator!I53, IF(B28="Additional Services in excess of daily limits or weekly limits",Calculator!I54, IF(B28="First Call before 7 am",Calculator!I55, IF(B28="Housing not provided 12 am to 8 am when flight cancelled",Calculator!I56, IF(B28="Meal break is less than 1 hour",Calculator!I57, IF(B28="Overnight Rest infringement - TYA",Calculator!I58, IF(B28="Per Diem - Away from Point of Origin for more than 10 hr",Calculator!I59, IF(B28="Set-Ups, Strikes, Load-Ins, and Load-Outs: excess time",Calculator!I60, IF(B28="Additional Services",Calculator!I64, IF(B28="Additional Fittings - S2",Calculator!I65, IF(B28="Emergency Rehearsal on Free Day (min. 4 hr call)",Calculator!I66, IF(B28="Costume Fittings Before the Engagement Period (min. 2 hr call)",Calculator!I67, IF(B28="Overnight Rest infringement - S2",Calculator!I68, IF(B28="Promotional Appearance on the Free Day (min. 4 hr call)",Calculator!I69, IF(B28="Travel for Fittings Before the Engagement Period",Calculator!I70,"")))))))))))))))))))))))))))))))))))))))))))))))
N29: =IF(B29="Additional Rehearsal after First Public Performance",Calculator!J3, IF(B29="Additional Rehearsal on a Performance Day",Calculator!J4, IF(B29="Calls on the Free Day (min. 4 hr call)",Calculator!J5, IF(B29="Emergency Rehearsal on the Free Day (min. 4 hr call)",Calculator!J6, IF(B29="Excess Continuous Rehearsal",Calculator!J7, IF(B29="Infringement of Free Time",Calculator!J8, IF(B29="Meal Break infringement on an Extended Day",Calculator!J9, IF(B29="Overnight Rest infringement - R",Calculator!J10, IF(B29="Not enough Notice of change",Calculator!J14, IF(B29="Director - Per hour (min. 4 hr call)",Calculator!J15, IF(B29="Choreographer - Per hour (min. 4 hr call)",Calculator!J16, IF(B29="Additional Fittings",Calculator!J20, IF(B29="Fittings before Engagement Period (min. 1 hr call)",Calculator!J21, IF(B29="Travel for Fittings before Engagement Period",Calculator!J22, IF(B29="Breaks Between Performances (Standard)",Calculator!J26, IF(B29="Breaks Between Performances (Alternative) - services during break",Calculator!J27, IF(B29="Breaks Between Performances (Alternative) - services in excess",Calculator!J28, IF(B29="Overnight Rest Period Infringement",Calculator!J29, IF(B29="Understudy Line Rehearsal outside of rehearsal hours",Calculator!J30, IF(B29="Calls prior to Engagement Period - Local (min. 2.5 hr call)",Calculator!J34, IF(B29="Calls prior to Engagement Period - Travel",Calculator!J35, IF(B29="Calls for Recordings - additional rehearsal (1/8 of weekly fee)",Calculator!J36, IF(B29="Calls outside regular rehearsal hours (Additional Services)",Calculator!J37, IF(B29="Calls during Rest Period (Overnight Rest)",Calculator!J38, IF(B29="Promotional Appearances outside of allowable rehearsal hrs",Calculator!J39, IF(B29="Promotional Appearances on a Free Day (min. 4 hr call)",Calculator!J40, IF(B29="Recording Sessions outside regular rehearsal hours",Calculator!J41, IF(B29="Bus Transportation: excess travel time (more than 2 hr)",Calculator!J45, IF(B29="Housing not provided 12am to 8am when flight cancelled",Calculator!J46, IF(B29="Local Touring excess of 8.5 hr span",Calculator!J47, IF(B29="Travel by air, excess travel time",Calculator!J48, IF(B29="Travel during Rest Period",Calculator!J49, IF(B29="Additional Duties requiring excess hours",Calculator!J53, IF(B29="Additional Services in excess of daily limits or weekly limits",Calculator!J54, IF(B29="First Call before 7 am",Calculator!J55, IF(B29="Housing not provided 12 am to 8 am when flight cancelled",Calculator!J56, IF(B29="Meal break is less than 1 hour",Calculator!J57, IF(B29="Overnight Rest infringement - TYA",Calculator!J58, IF(B29="Per Diem - Away from Point of Origin for more than 10 hr",Calculator!J59, IF(B29="Set-Ups, Strikes, Load-Ins, and Load-Outs: excess time",Calculator!J60, IF(B29="Additional Services",Calculator!J64, IF(B29="Additional Fittings - S2",Calculator!J65, IF(B29="Emergency Rehearsal on Free Day (min. 4 hr call)",Calculator!J66, IF(B29="Costume Fittings Before the Engagement Period (min. 2 hr call)",Calculator!J67, IF(B29="Overnight Rest infringement - S2",Calculator!J68, IF(B29="Promotional Appearance on the Free Day (min. 4 hr call)",Calculator!J69, IF(B29="Travel for Fittings Before the Engagement Period",Calculator!J70,"")))))))))))))))))))))))))))))))))))))))))))))))
N30: =IF(B30="Additional Rehearsal after First Public Performance",Calculator!K3, IF(B30="Additional Rehearsal on a Performance Day",Calculator!K4, IF(B30="Calls on the Free Day (min. 4 hr call)",Calculator!K5, IF(B30="Emergency Rehearsal on the Free Day (min. 4 hr call)",Calculator!K6, IF(B30="Excess Continuous Rehearsal",Calculator!K7, IF(B30="Infringement of Free Time",Calculator!K8, IF(B30="Meal Break infringement on an Extended Day",Calculator!K9, IF(B30="Overnight Rest infringement - R",Calculator!K10, IF(B30="Not enough Notice of change",Calculator!K14, IF(B30="Director - Per hour (min. 4 hr call)",Calculator!K15, IF(B30="Choreographer - Per hour (min. 4 hr call)",Calculator!K16, IF(B30="Additional Fittings",Calculator!K20, IF(B30="Fittings before Engagement Period (min. 1 hr call)",Calculator!K21, IF(B30="Travel for Fittings before Engagement Period",Calculator!K22, IF(B30="Breaks Between Performances (Standard)",Calculator!K26, IF(B30="Breaks Between Performances (Alternative) - services during break",Calculator!K27, IF(B30="Breaks Between Performances (Alternative) - services in excess",Calculator!K28, IF(B30="Overnight Rest Period Infringement",Calculator!K29, IF(B30="Understudy Line Rehearsal outside of rehearsal hours",Calculator!K30, IF(B30="Calls prior to Engagement Period - Local (min. 2.5 hr call)",Calculator!K34, IF(B30="Calls prior to Engagement Period - Travel",Calculator!K35, IF(B30="Calls for Recordings - additional rehearsal (1/8 of weekly fee)",Calculator!K36, IF(B30="Calls outside regular rehearsal hours (Additional Services)",Calculator!K37, IF(B30="Calls during Rest Period (Overnight Rest)",Calculator!K38, IF(B30="Promotional Appearances outside of allowable rehearsal hrs",Calculator!K39, IF(B30="Promotional Appearances on a Free Day (min. 4 hr call)",Calculator!K40, IF(B30="Recording Sessions outside regular rehearsal hours",Calculator!K41, IF(B30="Bus Transportation: excess travel time (more than 2 hr)",Calculator!K45, IF(B30="Housing not provided 12am to 8am when flight cancelled",Calculator!K46, IF(B30="Local Touring excess of 8.5 hr span",Calculator!K47, IF(B30="Travel by air, excess travel time",Calculator!K48, IF(B30="Travel during Rest Period",Calculator!K49, IF(B30="Additional Duties requiring excess hours",Calculator!K53, IF(B30="Additional Services in excess of daily limits or weekly limits",Calculator!K54, IF(B30="First Call before 7 am",Calculator!K55, IF(B30="Housing not provided 12 am to 8 am when flight cancelled",Calculator!K56, IF(B30="Meal break is less than 1 hour",Calculator!K57, IF(B30="Overnight Rest infringement - TYA",Calculator!K58, IF(B30="Per Diem - Away from Point of Origin for more than 10 hr",Calculator!K59, IF(B30="Set-Ups, Strikes, Load-Ins, and Load-Outs: excess time",Calculator!K60, IF(B30="Additional Services",Calculator!K64, IF(B30="Additional Fittings - S2",Calculator!K65, IF(B30="Emergency Rehearsal on Free Day (min. 4 hr call)",Calculator!K66, IF(B30="Costume Fittings Before the Engagement Period (min. 2 hr call)",Calculator!K67, IF(B30="Overnight Rest infringement - S2",Calculator!K68, IF(B30="Promotional Appearance on the Free Day (min. 4 hr call)",Calculator!K69, IF(B30="Travel for Fittings Before the Engagement Period",Calculator!K70,"")))))))))))))))))))))))))))))))))))))))))))))))
N31: =IF(B31="Additional Rehearsal after First Public Performance",Calculator!L3, IF(B31="Additional Rehearsal on a Performance Day",Calculator!L4, IF(B31="Calls on the Free Day (min. 4 hr call)",Calculator!L5, IF(B31="Emergency Rehearsal on the Free Day (min. 4 hr call)",Calculator!L6, IF(B31="Excess Continuous Rehearsal",Calculator!L7, IF(B31="Infringement of Free Time",Calculator!L8, IF(B31="Meal Break infringement on an Extended Day",Calculator!L9, IF(B31="Overnight Rest infringement - R",Calculator!L10, IF(B31="Not enough Notice of change",Calculator!L14, IF(B31="Director - Per hour (min. 4 hr call)",Calculator!L15, IF(B31="Choreographer - Per hour (min. 4 hr call)",Calculator!L16, IF(B31="Additional Fittings",Calculator!L20, IF(B31="Fittings before Engagement Period (min. 1 hr call)",Calculator!L21, IF(B31="Travel for Fittings before Engagement Period",Calculator!L22, IF(B31="Breaks Between Performances (Standard)",Calculator!L26, IF(B31="Breaks Between Performances (Alternative) - services during break",Calculator!L27, IF(B31="Breaks Between Performances (Alternative) - services in excess",Calculator!L28, IF(B31="Overnight Rest Period Infringement",Calculator!L29, IF(B31="Understudy Line Rehearsal outside of rehearsal hours",Calculator!L30, IF(B31="Calls prior to Engagement Period - Local (min. 2.5 hr call)",Calculator!L34, IF(B31="Calls prior to Engagement Period - Travel",Calculator!L35, IF(B31="Calls for Recordings - additional rehearsal (1/8 of weekly fee)",Calculator!L36, IF(B31="Calls outside regular rehearsal hours (Additional Services)",Calculator!L37, IF(B31="Calls during Rest Period (Overnight Rest)",Calculator!L38, IF(B31="Promotional Appearances outside of allowable rehearsal hrs",Calculator!L39, IF(B31="Promotional Appearances on a Free Day (min. 4 hr call)",Calculator!L40, IF(B31="Recording Sessions outside regular rehearsal hours",Calculator!L41, IF(B31="Bus Transportation: excess travel time (more than 2 hr)",Calculator!L45, IF(B31="Housing not provided 12am to 8am when flight cancelled",Calculator!L46, IF(B31="Local Touring excess of 8.5 hr span",Calculator!L47, IF(B31="Travel by air, excess travel time",Calculator!L48, IF(B31="Travel during Rest Period",Calculator!L49, IF(B31="Additional Duties requiring excess hours",Calculator!L53, IF(B31="Additional Services in excess of daily limits or weekly limits",Calculator!L54, IF(B31="First Call before 7 am",Calculator!L55, IF(B31="Housing not provided 12 am to 8 am when flight cancelled",Calculator!L56, IF(B31="Meal break is less than 1 hour",Calculator!L57, IF(B31="Overnight Rest infringement - TYA",Calculator!L58, IF(B31="Per Diem - Away from Point of Origin for more than 10 hr",Calculator!L59, IF(B31="Set-Ups, Strikes, Load-Ins, and Load-Outs: excess time",Calculator!L60, IF(B31="Additional Services",Calculator!L64, IF(B31="Additional Fittings - S2",Calculator!L65, IF(B31="Emergency Rehearsal on Free Day (min. 4 hr call)",Calculator!L66, IF(B31="Costume Fittings Before the Engagement Period (min. 2 hr call)",Calculator!L67, IF(B31="Overnight Rest infringement - S2",Calculator!L68, IF(B31="Promotional Appearance on the Free Day (min. 4 hr call)",Calculator!L69, IF(B31="Travel for Fittings Before the Engagement Period",Calculator!L70,"")))))))))))))))))))))))))))))))))))))))))))))))
N32: =IF(B32="Additional Rehearsal after First Public Performance",Calculator!M3, IF(B32="Additional Rehearsal on a Performance Day",Calculator!M4, IF(B32="Calls on the Free Day (min. 4 hr call)",Calculator!M5, IF(B32="Emergency Rehearsal on the Free Day (min. 4 hr call)",Calculator!M6, IF(B32="Excess Continuous Rehearsal",Calculator!M7, IF(B32="Infringement of Free Time",Calculator!M8, IF(B32="Meal Break infringement on an Extended Day",Calculator!M9, IF(B32="Overnight Rest infringement - R",Calculator!M10, IF(B32="Not enough Notice of change",Calculator!M14, IF(B32="Director - Per hour (min. 4 hr call)",Calculator!M15, IF(B32="Choreographer - Per hour (min. 4 hr call)",Calculator!M16, IF(B32="Additional Fittings",Calculator!M20, IF(B32="Fittings before Engagement Period (min. 1 hr call)",Calculator!M21, IF(B32="Travel for Fittings before Engagement Period",Calculator!M22, IF(B32="Breaks Between Performances (Standard)",Calculator!M26, IF(B32="Breaks Between Performances (Alternative) - services during break",Calculator!M27, IF(B32="Breaks Between Performances (Alternative) - services in excess",Calculator!M28, IF(B32="Overnight Rest Period Infringement",Calculator!M29, IF(B32="Understudy Line Rehearsal outside of rehearsal hours",Calculator!M30, IF(B32="Calls prior to Engagement Period - Local (min. 2.5 hr call)",Calculator!M34, IF(B32="Calls prior to Engagement Period - Travel",Calculator!M35, IF(B32="Calls for Recordings - additional rehearsal (1/8 of weekly fee)",Calculator!M36, IF(B32="Calls outside regular rehearsal hours (Additional Services)",Calculator!M37, IF(B32="Calls during Rest Period (Overnight Rest)",Calculator!M38, IF(B32="Promotional Appearances outside of allowable rehearsal hrs",Calculator!M39, IF(B32="Promotional Appearances on a Free Day (min. 4 hr call)",Calculator!M40, IF(B32="Recording Sessions outside regular rehearsal hours",Calculator!M41, IF(B32="Bus Transportation: excess travel time (more than 2 hr)",Calculator!M45, IF(B32="Housing not provided 12am to 8am when flight cancelled",Calculator!M46, IF(B32="Local Touring excess of 8.5 hr span",Calculator!M47, IF(B32="Travel by air, excess travel time",Calculator!M48, IF(B32="Travel during Rest Period",Calculator!M49, IF(B32="Additional Duties requiring excess hours",Calculator!M53, IF(B32="Additional Services in excess of daily limits or weekly limits",Calculator!M54, IF(B32="First Call before 7 am",Calculator!M55, IF(B32="Housing not provided 12 am to 8 am when flight cancelled",Calculator!M56, IF(B32="Meal break is less than 1 hour",Calculator!M57, IF(B32="Overnight Rest infringement - TYA",Calculator!M58, IF(B32="Per Diem - Away from Point of Origin for more than 10 hr",Calculator!M59, IF(B32="Set-Ups, Strikes, Load-Ins, and Load-Outs: excess time",Calculator!M60, IF(B32="Additional Services",Calculator!M64, IF(B32="Additional Fittings - S2",Calculator!M65, IF(B32="Emergency Rehearsal on Free Day (min. 4 hr call)",Calculator!M66, IF(B32="Costume Fittings Before the Engagement Period (min. 2 hr call)",Calculator!M67, IF(B32="Overnight Rest infringement - S2",Calculator!M68, IF(B32="Promotional Appearance on the Free Day (min. 4 hr call)",Calculator!M69, IF(B32="Travel for Fittings Before the Engagement Period",Calculator!M70,"")))))))))))))))))))))))))))))))))))))))))))))))
J33: Sub-total | L33: =SUM(N21:N32) -> 0
A35: GST/HST # | H35: GST/HST | K35: % | L35: =(L33*(J35/100)) -> 0
A37: Prov. Tax # | H37: Prov. Taxes | K37: % | L37: =(L33*(J37/100)) -> 0
A39: RRSP contributions - payable to Equity | L39: =(L33)*0.06 -> 0
A41: Working dues - payable to Equity | L41: =(L33)*0.0225 -> 0
A43: Amount payable to Artist | L43: =L33+L35+L37-(L39+L41) -> 0
A45: Amount payable to Equity | L45: =(L39+L41) -> 0
A46: The terms of the CTA/ITA shall prevail regarding any discrepancies between this invoice and the agreement.

Sheet OT & Infringements
A2: REHEARSALS | B2: Clause | C2: Relevant Line in Schedule A
A3: -------------
A4: Additional Rehearsal after First Public Performance | B4: 24:10(C) | C4: 1
A5: Additional Rehearsal on a Performance Day | B5: 24:09(B)(ii) | C5: 1
A6: Calls on the Free Day (min. 4 hr call) | B6: 24:03(G) | C6: 5
A7: Emergency Rehearsal on the Free Day (min. 4 hr call) | B7: 24:13(C) | C7: 4
A8: Excess Continuous Rehearsal | B8: 24:04(C) | C8: 1
A9: Infringement of Free Time | B9: 24:03(I)(iii) | C9: 6
A10: Meal Break infringement on an Extended Day | B10: 24:05(A)(ii)/(B) | C10: 1
A11: Overnight Rest infringement - R | B11: 24:03(D) | C11: 3
A12: _____________________________________________________________
A13: FREE DAY
A14: ------------
A15: Not enough Notice of change | B15: 23:01(A) | C15: 1
A16: Director - Per hour (min. 4 hr call) | B16: 60:02 | C16: 5
A17: Choreographer - Per hour (min. 4 hr call) | B17: 62:04(D) | C17: 5
A18: ____________________________________________________________
A19: FITTINGS
A20: ---------
A21: Additional Fittings | B21: 25:02 | C21: 1
A22: Fittings before Engagement Period (min. 1 hr call) | B22: 25:03 | C22: 1
A23: Travel for Fittings before Engagement Period | B23: 25:03 | C23: 1/7 of weekly fee plus per diem
A24: ___________________________________________________________
A25: PERFORMANCES/UNDERSTUDIES
A26: ------------------------------------
A27: Breaks Between Performances (Standard) | B27: 26:04(A) | C27: 7
A28: Breaks Between Performances (Alternative) - services during break | B28: 26:04(B) | C28: 8
A29: Breaks Between Performances (Alternative) - services in excess | B29: 26:04(B) | C29: 1
A30: Overnight Rest Period Infringement | B30: 16:17 | C30: 3
A31: Understudy Line Rehearsal outside of rehearsal hours | B31: 39:02(A) | C31: 1
A32: __________________________________________________________
A33: PHOTOS & RECORDINGS/PROMO
A34: -------------------------------------------
A35: Calls prior to Engagement Period - Local (min. 2.5 hr call) | B35: 43:02(C) | C35: 1
A36: Calls prior to Engagement Period - Travel | B36: 43:02(C) | C36: 1/6 of weekly fee
A37: Calls for Recordings - additional rehearsal (1/8 of weekly fee) | B37: 43:02(A) | C37: 1/8 of weekly fee
A38: Calls outside regular rehearsal hours (Additional Services) | B38: 43:02(B)/44:04(B) | C38: 1
A39: Calls during Rest Period (Overnight Rest) | B39: 43:02(A)/44:04(B) | C39: 3
A40: Promotional Appearances outside of allowable rehearsal hrs | B40: 47:01 | C40: 1
A41: Promotional Appearances on a Free Day (min. 4 hr call) | B41: 47:01 | C41: 5
...

Sheet Schedule A
A1: Line | B1: Schedule A Items | C1: Description | D1: 2024-2025 | E1: 2025-2026 | F1: 2026-2027
A2: 1 | B2: Additional Services Remuneration | C2: First half hour | D2: 17.75 | E2: 18.5 | F2: 19.25
A3: 1 | B3: Additional Services Remuneration | C3: Next half hour | D3: 21.75 | E3: 22.5 | F3: 23.25
A4: 2 | B4: Double Additional Services Remuneration | C4: First half hour | D4: 34.25 | E4: 35.5 | F4: 36.75
A5: 2 | B5: Double Additional Services Remuneration | C5: Next half hour | D5: 42.5 | E5: 44 | F5: 45.5
A6: 3 | B6: Overnight Rest Penalty | C6: First half hour | D6: 23 | E6: 23.75 | F6: 24.5
A7: 3 | B7: Overnight Rest Penalty | C7: Next hour | D7: 55.75 | E7: 57.5 | F7: 59.25
A8: 4 | B8: Emergency Rehearsal on Free Day | C8: Per hour | D8: 42.5 | E8: 44 | F8: 45.5
A9: 5 | B9: Rehearsal on Free Day | C9: Per hour | D9: 72.75 | E9: 75 | F9: 77.25
A10: 6 | B10: Invasion of Free Time between Rehearsal & Performance | C10: First half hour | D10: 21.75 | E10: 22.5 | F10: 23.25
A11: 6 | B11: Invasion of Free Time between Rehearsal & Performance | C11: Second half hour | D11: 23 | E11: 23.75 | F11: 24.5
A12: 6 | B12: Invasion of Free Time between Rehearsal & Performance | C12: Third half hour | D12: 46.5 | E12: 48 | F12: 49.5
A13: 7 | B13: Breaks between Performances | C13: First half hour | D13: 21.75 | E13: 22.5 | F13: 23.25
... A23: 13 | B23: Sector 2 Overnight Rest Penalty | C23: Each subsequent hour | D23: 73.75 | E23: 76 | F23: 78.5

Sheet Calculator
A1: REHEARSALS | B1: Row 1 | C1: Row 2 | D1: Row 3 | E1: Row 4 | F1: Row 5 | G1: Row 6 | H1: Row 7 | I1: Row 8 | J1: Row 9 | K1: Row 10 | L1: Row 11 | M1: Row 12
A2: -------------
A3: Additional Rehearsal after First Public Performance | B3: =IF(OR(Invoice!L21="",Invoice!L21=0),0,IF(AND(Invoice!A21>DATE(2024,6,24),Invoice!A21<DATE(2025,6,23)),'Schedule A'!$D2+('Schedule A'!$D3*((Invoice!L21-0.5)*2)), IF(AND(Invoice!A21>=DATE(2025,6,23),Invoice!A21<DATE(2026,6,22)),'Schedule A'!$E2+('Schedule A'!$E3*((Invoice!L21-0.5)*2)), IF(AND(Invoice!A21>=DATE(2026,6,22),Invoice!A21<=DATE(2027,6,20)),'Schedule A'!$F2+('Schedule A'!$F3*((Invoice!L21-0.5)*2)), 0)))) -> 0 | C3: =IF(OR(Invoice!L22="",Invoice!L22=0),0,IF(AND(Invoice!A22>DATE(2024,6,24),Invoice!A22<DATE(2025,6,23)),'Schedule A'!$D$2+('Schedule A'!$D$3*((Invoice!L22-0.5)*2)), IF(AND(Invoice!A22>=DATE(2025,6,23),Invoice!A22<DATE(2026,6,22)),'Schedule A'!$E$2+('Schedule A'!$E$3*((Invoice!L22-0.5)*2)), IF(AND(Invoice!A22>=DATE(2026,6,22),Invoice!A22<=DATE(2027,6,20)),'Schedule A'!$F$2+('Schedule A'!$F$3*((Invoice!L22-0.5)*2)), 0)))) -> 0 | D3: =IF(OR(Invoice!L23="",Invoice!L23=0),0,IF(AND(Invoice!A23>DATE(2024,6,24),Invoice!A23<DATE(2025,6,23)),'Schedule A'!$D$2+('Schedule A'!$D$3*((Invoice!L23-0.5)*2)), IF(AND(Invoice!A23>=DATE(2025,6,23),Invoice!A23<DATE(2026,6,22)),'Schedule A'!$E$2+('Schedule A'!$E$3*((Invoice!L23-0.5)*2)), IF(AND(Invoice!A23>=DATE(2026,6,22),Invoice!A23<=DATE(2027,6,20)),'Schedule A'!$F$2+('Schedule A'!$F$3*((Invoice!L23-0.5)*2)), 0)))) -> 0 | E3: =IF(OR(Invoice!L24="",Invoice!L24=0),0,IF(AND(Invoice!A24>DATE(2024,6,24),Invoice!A24<DATE(2025,6,23)),'Schedule A'!$D$2+('Schedule A'!$D$3*((Invoice!L24-0.5)*2)), IF(AND(Invoice!A24>=DATE(2025,6,23),Invoice!A24<DATE(2026,6,22)),'Schedule A'!$E$2+('Schedule A'!$E$3*((Invoice!L24-0.5)*2)), IF(AND(Invoice!A24>=DATE(2026,6,22),Invoice!A24<=DATE(2027,6,20)),'Schedule A'!$F$2+('Schedule A'!$F$3*((Invoice!L24-0.5)*2)), 0)))) -> 0 | F3: =IF(OR(Invoice!L25="",Invoice!L25=0),0,IF(AND(Invoice!A25>DATE(2024,6,24),Invoice!A25<DATE(2025,6,23)),'Schedule A'!$D$2+('Schedule A'!$D$3*((Invoice!L25-0.5)*2)), IF(AND(Invoice!A25>=DATE(2025,6,23),Invoice!A25<DATE(2026,6,22)),'Schedule A'!$E$2+('Schedule A'!$E$3*((Invoice!L25-0.5)*2)), IF(AND(Invoice!A25>=DATE(2026,6,22),Invoice!A25<=DATE(2027,6,20)),'Schedule A'!$F$2+('Schedule A'!$F$3*((Invoice!L25-0.5)*2)), 0)))) -> 0 | G3: =IF(OR(Invoice!L26="",Invoice!L26=0),0,IF(AND(Invoice!A26>DATE(2024,6,24),Invoice!A26<DATE(2025,6,23)),'Schedule A'!$D$2+('Schedule A'!$D$3*((Invoice!L26-0.5)*2)), IF(AND(Invoice!A26>=DATE(2025,6,23),Invoice!A26<DATE(2026,6,22)),'Schedule A'!$E$2+('Schedule A'!$E$3*((Invoice!L26-0.5)*2)), IF(AND(Invoice!A26>=DATE(2026,6,22),Invoice!A26<=DATE(2027,6,20)),'Schedule A'!$F$2+('Schedule A'!$F$3*((Invoice!L26-0.5)*2)), 0)))) -> 0 | H3: =IF(OR(Invoice!L27="",Invoice!L27=0),0,IF(AND(Invoice!A27>DATE(2024,6,24),Invoice!A27<DATE(2025,6,23)),'Schedule A'!$D$2+('Schedule A'!$D$3*((Invoice!L27-0.5)*2)), IF(AND(Invoice!A27>=DATE(2025,6,23),Invoice!A27<DATE(2026,6,22)),'Schedule A'!$E$2+('Schedule A'!$E$3*((Invoice!L27-0.5)*2)), IF(AND(Invoice!A27>=DATE(2026,6,22),Invoice!A27<=DATE(2027,6,20)),'Schedule A'!$F$2+('Schedule A'!$F$3*((Invoice!L27-0.5)*2)), 0)))) -> 0 | I3: =IF(OR(Invoice!L28="",Invoice!L28=0),0,IF(AND(Invoice!A28>DATE(2024,6,24),Invoice!A28<DATE(2025,6,23)),'Schedule A'!$D$2+('Schedule A'!$D$3*((Invoice!L28-0.5)*2)), IF(AND(Invoice!A28>=DATE(2025,6,23),Invoice!A28<DATE(2026,6,22)),'Schedule A'!$E$2+('Schedule A'!$E$3*((Invoice!L28-0.5)*2)), IF(AND(Invoice!A28>=DATE(2026,6,22),Invoice!A28<=DATE(2027,6,20)),'Schedule A'!$F$2+('Schedule A'!$F$3*((Invoice!L28-0.5)*2)), 0)))) -> 0 | J3: =IF(OR(Invoice!L29="",Invoice!L29=0),0,IF(AND(Invoice!A29>DATE(2024,6,24),Invoice!A29<DATE(2025,6,23)),'Schedule A'!$D$2+('Schedule A'!$D$3*((Invoice!L29-0.5)*2)), IF(AND(Invoice!A29>=DATE(2025,6,23),Invoice!A29<DATE(2026,6,22)),'Schedule A'!$E$2+('Schedule A'!$E$3*((Invoice!L29-0.5)*2)), IF(AND(Invoice!A29>=DATE(2026,6,22),Invoice!A29<=DATE(2027,6,20)),'Schedule A'!$F$2+('Schedule A'!$F$3*((Invoice!L29-0.5)*2)), 0)))) -> 0 | K3: =IF(OR(Invoice!L30="",Invoice!L30=0),0,IF(AND(Invoice!A30>DATE(2024,6,24),Invoice!A30<DATE(2025,6,23)),'Schedule A'!$D$2+('Schedule A'!$D$3*((Invoice!L30-0.5)*2)), IF(AND(Invoice!A30>=DATE(2025,6,23),Invoice!A30<DATE(2026,6,22)),'Schedule A'!$E$2+('Schedule A'!$E$3*((Invoice!L30-0.5)*2)), IF(AND(Invoice!A30>=DATE(2026,6,22),Invoice!A30<=DATE(2027,6,20)),'Schedule A'!$F$2+('Schedule A'!$F$3*((Invoice!L30-0.5)*2)), 0)))) -> 0 | L3: =IF(OR(Invoice!L31="",Invoice!L31=0),0,IF(AND(Invoice!A31>DATE(2024,6,24),Invoice!A31<DATE(2025,6,23)),'Schedule A'!$D$2+('Schedule A'!$D$3*((Invoice!L31-0.5)*2)), IF(AND(Invoice!A31>=DATE(2025,6,23),Invoice!A31<DATE(2026,6,22)),'Schedule A'!$E$2+('Schedule A'!$E$3*((Invoice!L31-0.5)*2)), IF(AND(Invoice!A31>=DATE(2026,6,22),Invoice!A31<=DATE(2027,6,20)),'Schedule A'!$F$2+('Schedule A'!$F$3*((Invoice!L31-0.5)*2)), 0)))) -> 0 | M3: =IF(OR(Invoice!L32="",Invoice!L32=0),0,IF(AND(Invoice!A32>DATE(2024,6,24),Invoice!A32<DATE(2025,6,23)),'Schedule A'!$D$2+('Schedule A'!$D$3*((Invoice!L32-0.5)*2)), IF(AND(Invoice!A32>=DATE(2025,6,23),Invoice!A32<DATE(2026,6,22)),'Schedule A'!$E$2+('Schedule A'!$E$3*((Invoice!L32-0.5)*2)), IF(AND(Invoice!A32>=DATE(2026,6,22),Invoice!A32<=DATE(2027,6,20)),'Schedule A'!$F$2+('Schedule A'!$F$3*((Invoice!L32-0.5)*2)), 0)))) -> 0
A4: Additional Rehearsal on a Performance Day | B4: =IF(OR(Invoice!L21="",Invoice!L21=0),0,IF(AND(Invoice!A21>DATE(2024,6,24),Invoice!A21<DATE(2025,6,23)),'Schedule A'!$D2+('Schedule A'!$D3*((Invoice!L21-0.5)*2)), IF(AND(Invoice!A21>=DATE(2025,6,23),Invoice!A21<DATE(2026,6,22)),'Schedule A'!$E2+('Schedule A'!$E3*((Invoice!L21-0.5)*2)), IF(AND(Invoice!A21>=DATE(2026,6,22),Invoice!A21<=DATE(2027,6,20)),'Schedule A'!$F2+('Schedule A'!$F3*((Invoice!L21-0.5)*2)), 0)))) -> 0 | C4: =IF(OR(Invoice!L22="",Invoice!L22=0),0,IF(AND(Invoice!A22>DATE(2024,6,24),Invoice!A22<DATE(2025,6,23)),'Schedule A'!$D$2+('Schedule A'!$D$3*((Invoice!L22-0.5)*2)), IF(AND(Invoice!A22>=DATE(2025,6,23),Invoice!A22<DATE(2026,6,22)),'Schedule A'!$E$2+('Schedule A'!$E$3*((Invoice!L22-0.5)*2)), IF(AND(Invoice!A22>=DATE(2026,6,22),Invoice!A22<=DATE(2027,6,20)),'Schedule A'!$F$2+('Schedule A'!$F$3*((Invoice!L22-0.5)*2)), 0)))) -> 0 | D4: =IF(OR(Invoice!L23="",Invoice!L23=0),0,IF(AND(Invoice!A23>DATE(2024,6,24),Invoice!A23<DATE(2025,6,23)),'Schedule A'!$D$2+('Schedule A'!$D$3*((Invoice!L23-0.5)*2)), IF(AND(Invoice!A23>=DATE(2025,6,23),Invoice!A23<DATE(2026,6,22)),'Schedule A'!$E$2+('Schedule A'!$E$3*((Invoice!L23-0.5)*2)), IF(AND(Invoice!A23>=DATE(2026,6,22),Invoice!A23<=DATE(2027,6,20)),'Schedule A'!$F$2+('Schedule A'!$F$3*((Invoice!L23-0.5)*2)), 0)))) -> 0 | E4: =IF(OR(Invoice!L24="",Invoice!L24=0),0,IF(AND(Invoice!A24>DATE(2024,6,24),Invoice!A24<DATE(2025,6,23)),'Schedule A'!$D$2+('Schedule A'!$D$3*((Invoice!L24-0.5)*2)), IF(AND(Invoice!A24>=DATE(2025,6,23),Invoice!A24<DATE(2026,6,22)),'Schedule A'!$E$2+('Schedule A'!$E$3*((Invoice!L24-0.5)*2)), IF(AND(Invoice!A24>=DATE(2026,6,22),Invoice!A24<=DATE(2027,6,20)),'Schedule A'!$F$2+('Schedule A'!$F$3*((Invoice!L24-0.5)*2)), 0)))) -> 0 | F4: =IF(OR(Invoice!L25="",Invoice!L25=0),0,IF(AND(Invoice!A25>DATE(2024,6,24),Invoice!A25<DATE(2025,6,23)),'Schedule A'!$D$2+('Schedule A'!$D$3*((Invoice!L25-0.5)*2)), IF(AND(Invoice!A25>=DATE(2025,6,23),Invoice!A25<DATE(2026,6,22)),'Schedule A'!$E$2+('Schedule A'!$E$3*((Invoice!L25-0.5)*2)), IF(AND(Invoice!A25>=DATE(2026,6,22),Invoice!A25<=DATE(2027,6,20)),'Schedule A'!$F$2+('Schedule A'!$F$3*((Invoice!L25-0.5)*2)), 0)))) -> 0 | G4: =IF(OR(Invoice!L26="",Invoice!L26=0),0,IF(AND(Invoice!A26>DATE(2024,6,24),Invoice!A26<DATE(2025,6,23)),'Schedule A'!$D$2+('Schedule A'!$D$3*((Invoice!L26-0.5)*2)), IF(AND(Invoice!A26>=DATE(2025,6,23),Invoice!A26<DATE(2026,6,22)),'Schedule A'!$E$2+('Schedule A'!$E$3*((Invoice!L26-0.5)*2)), IF(AND(Invoice!A26>=DATE(2026,6,22),Invoice!A26<=DATE(2027,6,20)),'Schedule A'!$F$2+('Schedule A'!$F$3*((Invoice!L26-0.5)*2)), 0)))) -> 0 | H4: =IF(OR(Invoice!L27="",Invoice!L27=0),0,IF(AND(Invoice!A27>DATE(2024,6,24),Invoice!A27<DATE(2025,6,23)),'Schedule A'!$D$2+('Schedule A'!$D$3*((Invoice!L27-0.5)*2)), IF(AND(Invoice!A27>=DATE(2025,6,23),Invoice!A27<DATE(2026,6,22)),'Schedule A'!$E$2+('Schedule A'!$E$3*((Invoice!L27-0.5)*2)), IF(AND(Invoice!A27>=DATE(2026,6,22),Invoice!A27<=DATE(2027,6,20)),'Schedule A'!$F$2+('Schedule A'!$F$3*((Invoice!L27-0.5)*2)), 0)))) -> 0 | I4: =IF(OR(Invoice!L28="",Invoice!L28=0),0,IF(AND(Invoice!A28>DATE(2024,6,24),Invoice!A28<DATE(2025,6,23)),'Schedule A'!$D$2+('Schedule A'!$D$3*((Invoice!L28-0.5)*2)), IF(AND(Invoice!A28>=DATE(2025,6,23),Invoice!A28<DATE(2026,6,22)),'Schedule A'!$E$2+('Schedule A'!$E$3*((Invoice!L28-0.5)*2)), IF(AND(Invoice!A28>=DATE(2026,6,22),Invoice!A28<=DATE(2027,6,20)),'Schedule A'!$F$2+('Schedule A'!$F$3*((Invoice!L28-0.5)*2)), 0)))) -> 0 | J4: =IF(OR(Invoice!L29="",Invoice!L29=0),0,IF(AND(Invoice!A29>DATE(2024,6,24),Invoice!A29<DATE(2025,6,23)),'Schedule A'!$D$2+('Schedule A'!$D$3*((Invoice!L29-0.5)*2)), IF(AND(Invoice!A29>=DATE(2025,6,23),Invoice!A29<DATE(2026,6,22)),'Schedule A'!$E$2+('Schedule A'!$E$3*((Invoice!L29-0.5)*2)), IF(AND(Invoice!A29>=DATE(2026,6,22),Invoice!A29<=DATE(2027,6,20)),'Schedule A'!$F$2+('Schedule A'!$F$3*((Invoice!L29-0.5)*2)), 0)))) -> 0 | K4: =IF(OR(Invoice!L30="",Invoice!L30=0),0,IF(AND(Invoice!A30>DATE(2024,6,24),Invoice!A30<DATE(2025,6,23)),'Schedule A'!$D$2+('Schedule A'!$D$3*((Invoice!L30-0.5)*2)), IF(AND(Invoice!A30>=DATE(2025,6,23),Invoice!A30<DATE(2026,6,22)),'Schedule A'!$E$2+('Schedule A'!$E$3*((Invoice!L30-0.5)*2)), IF(AND(Invoice!A30>=DATE(2026,6,22),Invoice!A30<=DATE(2027,6,20)),'Schedule A'!$F$2+('Schedule A'!$F$3*((Invoice!L30-0.5)*2)), 0)))) -> 0 | L4: =IF(OR(Invoice!L31="",Invoice!L31=0),0,IF(AND(Invoice!A31>DATE(2024,6,24),Invoice!A31<DATE(2025,6,23)),'Schedule A'!$D$2+('Schedule A'!$D$3*((Invoice!L31-0.5)*2)), IF(AND(Invoice!A31>=DATE(2025,6,23),Invoice!A31<DATE(2026,6,22)),'Schedule A'!$E$2+('Schedule A'!$E$3*((Invoice!L31-0.5)*2)), IF(AND(Invoice!A31>=DATE(2026,6,22),Invoice!A31<=DATE(2027,6,20)),'Schedule A'!$F$2+('Schedule A'!$F$3*((Invoice!L31-0.5)*2)), 0)))) -> 0 | M4: =IF(OR(Invoice!L32="",Invoice!L32=0),0,IF(AND(Invoice!A32>DATE(2024,6,24),Invoice!A32<DATE(2025,6,23)),'Schedule A'!$D$2+('Schedule A'!$D$3*((Invoice!L32-0.5)*2)), IF(AND(Invoice!A32>=DATE(2025,6,23),Invoice!A32<DATE(2026,6,22)),'Schedule A'!$E$2+('Schedule A'!$E$3*((Invoice!L32-0.5)*2)), IF(AND(Invoice!A32>=DATE(2026,6,22),Invoice!A32<=DATE(2027,6,20)),'Schedule A'!$F$2+('Schedule A'!$F$3*((Invoice!L32-0.5)*2)), 0)))) -> 0
